BEGIN:VCALENDAR
VERSION:2.0
PRODID:-//Play @ Landmark Hospitality - ECPv6.7.0//NONSGML v1.0//EN
CALSCALE:GREGORIAN
METHOD:PUBLISH
X-WR-CALNAME:Play @ Landmark Hospitality
X-ORIGINAL-URL:https://play.landmarkhospitality.com
X-WR-CALDESC:Events for Play @ Landmark Hospitality
REFRESH-INTERVAL;VALUE=DURATION:PT1H
X-Robots-Tag:noindex
X-PUBLISHED-TTL:PT1H
BEGIN:VTIMEZONE
TZID:America/New_York
BEGIN:DAYLIGHT
TZOFFSETFROM:-0500
TZOFFSETTO:-0400
TZNAME:EDT
DTSTART:20250309T070000
END:DAYLIGHT
BEGIN:STANDARD
TZOFFSETFROM:-0400
TZOFFSETTO:-0500
TZNAME:EST
DTSTART:20251102T060000
END:STANDARD
END:VTIMEZONE
BEGIN:VEVENT
DTSTART;TZID=America/New_York:20250222T183000
DTEND;TZID=America/New_York:20250222T213000
DTSTAMP:20260421T184923
CREATED:20250218T173517Z
LAST-MODIFIED:20250218T173517Z
UID:16163-1740249000-1740259800@play.landmarkhospitality.com
SUMMARY:John Lenis Duo
DESCRIPTION:
URL:https://play.landmarkhospitality.com/event/john-lenis-duo/
LOCATION:Stone House\, 50 Stirling Road\, Warren\, NJ\, 07059\, United States
CATEGORIES:Stone House Music Lineup
END:VEVENT
BEGIN:VEVENT
DTSTART;TZID=America/New_York:20250222T190000
DTEND;TZID=America/New_York:20250222T220000
DTSTAMP:20260421T184923
CREATED:20250130T210803Z
LAST-MODIFIED:20250130T210803Z
UID:15892-1740250800-1740261600@play.landmarkhospitality.com
SUMMARY:Blue Soul
DESCRIPTION:
URL:https://play.landmarkhospitality.com/event/blue-soul-7/
LOCATION:Maddy Rose Restaurant at Liberty House\, 76 Audrey Zapp Dr\, Jersey City\, NJ\, 07305\, United States
CATEGORIES:Maddy Rose Music Lineup
END:VEVENT
BEGIN:VEVENT
DTSTART;TZID=America/New_York:20250222T190000
DTEND;TZID=America/New_York:20250222T220000
DTSTAMP:20260421T184923
CREATED:20250218T173756Z
LAST-MODIFIED:20250218T173756Z
UID:16168-1740250800-1740261600@play.landmarkhospitality.com
SUMMARY:Lambertville Jazz
DESCRIPTION:
URL:https://play.landmarkhospitality.com/event/lambertville-jazz-6/
LOCATION:Logan Inn\, 10 W Ferry St\, New Hope\, PA\, 18938\, United States
CATEGORIES:Logan Inn Music Lineup
END:VEVENT
BEGIN:VEVENT
DTSTART;TZID=America/New_York:20250222T190000
DTEND;TZID=America/New_York:20250222T220000
DTSTAMP:20260421T184923
CREATED:20250221T190122Z
LAST-MODIFIED:20250221T190122Z
UID:16262-1740250800-1740261600@play.landmarkhospitality.com
SUMMARY:Owls & Lions
DESCRIPTION:
URL:https://play.landmarkhospitality.com/event/owls-lions-3/
LOCATION:The Albion Summit\, 570 Springfield Ave\, Summit\, NJ\, 07901\, United States
CATEGORIES:The Albion Summit Music Lineup
END:VEVENT
BEGIN:VEVENT
DTSTART;TZID=America/New_York:20250223T110000
DTEND;TZID=America/New_York:20250223T140000
DTSTAMP:20260421T184923
CREATED:20250130T213052Z
LAST-MODIFIED:20250130T213052Z
UID:15914-1740308400-1740319200@play.landmarkhospitality.com
SUMMARY:Hank Machuga solo
DESCRIPTION:
URL:https://play.landmarkhospitality.com/event/hank-machuga-solo/
LOCATION:Ryland Inn\, 115 Old Hwy 28\, Whitehouse Station\, NJ\, 08889\, United States
CATEGORIES:Ryland Inn Music Lineup
END:VEVENT
BEGIN:VEVENT
DTSTART;TZID=America/New_York:20250223T113000
DTEND;TZID=America/New_York:20250223T143000
DTSTAMP:20260421T184923
CREATED:20250218T173826Z
LAST-MODIFIED:20250218T173826Z
UID:16169-1740310200-1740321000@play.landmarkhospitality.com
SUMMARY:Marius Luigi Nicolae
DESCRIPTION:
URL:https://play.landmarkhospitality.com/event/marius-luigi-nicolae-3/
LOCATION:Logan Inn\, 10 W Ferry St\, New Hope\, PA\, 18938\, United States
CATEGORIES:Logan Inn Music Lineup
END:VEVENT
BEGIN:VEVENT
DTSTART;TZID=America/New_York:20250223T120000
DTEND;TZID=America/New_York:20250223T150000
DTSTAMP:20260421T184923
CREATED:20250218T173546Z
LAST-MODIFIED:20250218T173546Z
UID:16164-1740312000-1740322800@play.landmarkhospitality.com
SUMMARY:Frankie Hernandez
DESCRIPTION:
URL:https://play.landmarkhospitality.com/event/frankie-hernandez/
LOCATION:Stone House\, 50 Stirling Road\, Warren\, NJ\, 07059\, United States
CATEGORIES:Stone House Music Lineup
END:VEVENT
BEGIN:VEVENT
DTSTART;TZID=America/New_York:20250225T183000
DTEND;TZID=America/New_York:20250225T203000
DTSTAMP:20260421T184923
CREATED:20250121T210303Z
LAST-MODIFIED:20250121T210404Z
UID:15790-1740508200-1740515400@play.landmarkhospitality.com
SUMMARY:Pep & Power: Cheerfit x Dwell New Jersey
DESCRIPTION:We’re starting off 2025 with a signature wellness event brought to you in partnership with The Squad @dwellnewjersey \nJoin us at the Albion Summit for a sculpting workout with Danielle Weschler from The Squad as she leads us through a cheerleading inspired high-energy toning class. Afterwards we’ll mix and mingle with lite bites and sips provided by local sponsors and set our intentions for 2025 to be your best year yet. Don’t miss out\, space is limited. \nLink to Register: https://dwellnewjersey.com/pep-and-power-cheerfit
URL:https://play.landmarkhospitality.com/event/pep-power-cheerfit-x-dwell-new-jersey/
LOCATION:The Albion Summit\, 570 Springfield Ave\, Summit\, NJ\, 07901\, United States
CATEGORIES:The Albion Summit
ATTACH;FMTTYPE=image/png:https://play.landmarkhospitality.com/wp-content/uploads/2025/01/Screenshot-2025-01-21-at-4.00.25 PM.png
END:VEVENT
BEGIN:VEVENT
DTSTART;TZID=America/New_York:20250226T180000
DTEND;TZID=America/New_York:20250226T200000
DTSTAMP:20260421T184923
CREATED:20250117T175440Z
LAST-MODIFIED:20250221T193605Z
UID:15721-1740592800-1740600000@play.landmarkhospitality.com
SUMMARY:Redemption Reimagined: A Four-Course Whiskey Affair
DESCRIPTION:Join us for an unforgettable evening at Redemption Reimagined: A Four-Course Whiskey Affair\, where culinary artistry meets the bold\, refined flavors of Redemption Whiskey. Indulge in a meticulously crafted four-course menu\, with each dish expertly paired to highlight the distinct flavors of Redemption’s finest whiskeys. \nMENU \nFIRST COURSE\nJamon Iberico\nacorn fed pork | honeycomb | brioche toast\n– paired with –\nApple Bottom Jeans\nRedemption Wheated | Ginger Liquor | Apple Cider \nSECOND COURSE\nHalibut A la Plancha\nmushroom risotto | asparagus | lemon tarragon pesto\n– paired with –\nCherry Whiskey Sour\nRedemption Bourbon | Amaretto | Lemon | Cherry \nTHIRD COURSE\nDry Aged prime Petite Strip\ngarlic mashed potato | broccolini | au poivre\n– paired with –\nRyes & Shine\nRedemption Rye Whiskey | Cantera Negra Café | Orange Bitters \nFOURTH COURSE\nDark Chocolate Crème Brûlée\nfresh berries | gavotte wafer\n– paired with –\nRedemption Cognac Cask Finish
URL:https://play.landmarkhospitality.com/event/redemption-reimagined-a-four-course-whiskey-affair/
LOCATION:Logan Inn\, 10 W Ferry St\, New Hope\, PA\, 18938\, United States
CATEGORIES:Logan Inn
ATTACH;FMTTYPE=image/jpeg:https://play.landmarkhospitality.com/wp-content/uploads/2025/01/RED_FY25_Pho_Prod-Beau_Cocktail_BourbonLane-scaled.jpg
END:VEVENT
BEGIN:VEVENT
DTSTART;TZID=America/New_York:20250226T180000
DTEND;TZID=America/New_York:20250226T210000
DTSTAMP:20260421T184923
CREATED:20250226T143043Z
LAST-MODIFIED:20250226T143043Z
UID:16322-1740592800-1740603600@play.landmarkhospitality.com
SUMMARY:Peter Demeo
DESCRIPTION:
URL:https://play.landmarkhospitality.com/event/peter-demeo-4/
LOCATION:Logan Inn\, 10 W Ferry St\, New Hope\, PA\, 18938\, United States
CATEGORIES:Logan Inn Music Lineup
END:VEVENT
BEGIN:VEVENT
DTSTART;TZID=America/New_York:20250227T180000
DTEND;TZID=America/New_York:20250227T210000
DTSTAMP:20260421T184923
CREATED:20250130T213321Z
LAST-MODIFIED:20250130T213321Z
UID:15915-1740679200-1740690000@play.landmarkhospitality.com
SUMMARY:Harry Strunk solo
DESCRIPTION:
URL:https://play.landmarkhospitality.com/event/harry-strunk-solo/
LOCATION:Ryland Inn\, 115 Old Hwy 28\, Whitehouse Station\, NJ\, 08889\, United States
CATEGORIES:Ryland Inn Music Lineup
END:VEVENT
BEGIN:VEVENT
DTSTART;TZID=America/New_York:20250227T180000
DTEND;TZID=America/New_York:20250227T210000
DTSTAMP:20260421T184923
CREATED:20250226T143115Z
LAST-MODIFIED:20250226T143115Z
UID:16323-1740679200-1740690000@play.landmarkhospitality.com
SUMMARY:Scott Mcallister Trio
DESCRIPTION:
URL:https://play.landmarkhospitality.com/event/scott-mcallister-trio-11/
LOCATION:Logan Inn\, 10 W Ferry St\, New Hope\, PA\, 18938\, United States
CATEGORIES:Logan Inn Music Lineup
END:VEVENT
BEGIN:VEVENT
DTSTART;TZID=America/New_York:20250227T183000
DTEND;TZID=America/New_York:20250227T213000
DTSTAMP:20260421T184923
CREATED:20250130T210902Z
LAST-MODIFIED:20250130T210902Z
UID:15893-1740681000-1740691800@play.landmarkhospitality.com
SUMMARY:Nathaniel Janoff Trio
DESCRIPTION:
URL:https://play.landmarkhospitality.com/event/nathaniel-janoff-trio/
LOCATION:Maddy Rose Restaurant at Liberty House\, 76 Audrey Zapp Dr\, Jersey City\, NJ\, 07305\, United States
CATEGORIES:Maddy Rose Music Lineup
END:VEVENT
BEGIN:VEVENT
DTSTART;TZID=America/New_York:20250227T183000
DTEND;TZID=America/New_York:20250227T213000
DTSTAMP:20260421T184923
CREATED:20250221T190322Z
LAST-MODIFIED:20250221T190322Z
UID:16263-1740681000-1740691800@play.landmarkhospitality.com
SUMMARY:Maribyrd Duo
DESCRIPTION:
URL:https://play.landmarkhospitality.com/event/maribyrd-duo/
LOCATION:The Albion Summit\, 570 Springfield Ave\, Summit\, NJ\, 07901\, United States
CATEGORIES:The Albion Summit Music Lineup
END:VEVENT
BEGIN:VEVENT
DTSTART;TZID=America/New_York:20250227T190000
DTEND;TZID=America/New_York:20250227T210000
DTSTAMP:20260421T184923
CREATED:20250117T141720Z
LAST-MODIFIED:20250221T222001Z
UID:15710-1740682800-1740690000@play.landmarkhospitality.com
SUMMARY:Cooking Fundamentals Series
DESCRIPTION:Join Executive Chef Daniel Brunina for our first cooking class in our Cooking Fundamentals Series! \nIn this interactive class\, you’ll master the foundational techniques of poaching and sautéing. Chef Daniel will guide you through each method\, offering expert tips and demonstrating how these timeless techniques can elevate your cooking! \nMENU \nFirst Course\nShrimp and Lobster Cocktail\nPoached Shrimp and Lobster with Trio of Sauces\nSauce Remoulade\, Charred Cocktail Sauce\, Lemon Garlic Aioli \nSecond Course\nNY Strip Steak Au Poivre\nNY Strip Steak\, Haricot Vert\, Potato Gratin\, Sauce Au Poivre \nDessert\nBananas Foster\nFunnel Cake\, Sweet Cream Ice Cream\, Brown Butter Pecans
URL:https://play.landmarkhospitality.com/event/cooking-fundamentals/
LOCATION:Ryland Inn\, 115 Old Hwy 28\, Whitehouse Station\, NJ\, 08889\, United States
CATEGORIES:Ryland Inn
ATTACH;FMTTYPE=image/jpeg:https://play.landmarkhospitality.com/wp-content/uploads/2025/01/shop-graphics.jpg
END:VEVENT
BEGIN:VEVENT
DTSTART;TZID=America/New_York:20250228T183000
DTEND;TZID=America/New_York:20250228T213000
DTSTAMP:20260421T184923
CREATED:20250226T200804Z
LAST-MODIFIED:20250226T200804Z
UID:16329-1740767400-1740778200@play.landmarkhospitality.com
SUMMARY:Chaplin-Fortunato
DESCRIPTION:
URL:https://play.landmarkhospitality.com/event/chaplin-fortunato-2/
LOCATION:Stone House\, 50 Stirling Road\, Warren\, NJ\, 07059\, United States
CATEGORIES:Stone House Music Lineup
END:VEVENT
BEGIN:VEVENT
DTSTART;TZID=America/New_York:20250228T190000
DTEND;TZID=America/New_York:20250228T220000
DTSTAMP:20260421T184923
CREATED:20250130T210940Z
LAST-MODIFIED:20250130T210940Z
UID:15894-1740769200-1740780000@play.landmarkhospitality.com
SUMMARY:Kate Baker Trio
DESCRIPTION:
URL:https://play.landmarkhospitality.com/event/kate-baker-trio-17/
LOCATION:Maddy Rose Restaurant at Liberty House\, 76 Audrey Zapp Dr\, Jersey City\, NJ\, 07305\, United States
CATEGORIES:Maddy Rose Music Lineup
END:VEVENT
BEGIN:VEVENT
DTSTART;TZID=America/New_York:20250228T190000
DTEND;TZID=America/New_York:20250228T220000
DTSTAMP:20260421T184923
CREATED:20250221T190549Z
LAST-MODIFIED:20250221T190549Z
UID:16264-1740769200-1740780000@play.landmarkhospitality.com
SUMMARY:Max Rogers
DESCRIPTION:
URL:https://play.landmarkhospitality.com/event/max-rogers-34/
LOCATION:The Albion Summit\, 570 Springfield Ave\, Summit\, NJ\, 07901\, United States
CATEGORIES:The Albion Summit Music Lineup
END:VEVENT
BEGIN:VEVENT
DTSTART;TZID=America/New_York:20250228T190000
DTEND;TZID=America/New_York:20250228T220000
DTSTAMP:20260421T184923
CREATED:20250226T143149Z
LAST-MODIFIED:20250226T143149Z
UID:16324-1740769200-1740780000@play.landmarkhospitality.com
SUMMARY:Aaron Qman
DESCRIPTION:
URL:https://play.landmarkhospitality.com/event/aaron-qman-7/
LOCATION:Logan Inn\, 10 W Ferry St\, New Hope\, PA\, 18938\, United States
CATEGORIES:Logan Inn Music Lineup
END:VEVENT
BEGIN:VEVENT
DTSTART;TZID=America/New_York:20250301T183000
DTEND;TZID=America/New_York:20250301T213000
DTSTAMP:20260421T184923
CREATED:20250226T201101Z
LAST-MODIFIED:20250226T201101Z
UID:16330-1740853800-1740864600@play.landmarkhospitality.com
SUMMARY:Glenn & Oria
DESCRIPTION:
URL:https://play.landmarkhospitality.com/event/glenn-oria-15/
LOCATION:Stone House\, 50 Stirling Road\, Warren\, NJ\, 07059\, United States
CATEGORIES:Stone House Music Lineup
END:VEVENT
BEGIN:VEVENT
DTSTART;TZID=America/New_York:20250301T190000
DTEND;TZID=America/New_York:20250301T220000
DTSTAMP:20260421T184923
CREATED:20250130T211222Z
LAST-MODIFIED:20250130T211222Z
UID:15895-1740855600-1740866400@play.landmarkhospitality.com
SUMMARY:Jazz Faction
DESCRIPTION:
URL:https://play.landmarkhospitality.com/event/jazz-faction-7/
LOCATION:Maddy Rose Restaurant at Liberty House\, 76 Audrey Zapp Dr\, Jersey City\, NJ\, 07305\, United States
CATEGORIES:Maddy Rose Music Lineup
END:VEVENT
BEGIN:VEVENT
DTSTART;TZID=America/New_York:20250301T190000
DTEND;TZID=America/New_York:20250301T220000
DTSTAMP:20260421T184923
CREATED:20250221T190702Z
LAST-MODIFIED:20250221T190702Z
UID:16265-1740855600-1740866400@play.landmarkhospitality.com
SUMMARY:David Easton Duo
DESCRIPTION:
URL:https://play.landmarkhospitality.com/event/david-easton-duo-2/
LOCATION:The Albion Summit\, 570 Springfield Ave\, Summit\, NJ\, 07901\, United States
CATEGORIES:The Albion Summit Music Lineup
END:VEVENT
BEGIN:VEVENT
DTSTART;TZID=America/New_York:20250301T190000
DTEND;TZID=America/New_York:20250301T220000
DTSTAMP:20260421T184923
CREATED:20250226T143225Z
LAST-MODIFIED:20250226T143236Z
UID:16325-1740855600-1740866400@play.landmarkhospitality.com
SUMMARY:Greg Paynter Trio
DESCRIPTION:
URL:https://play.landmarkhospitality.com/event/greg-painter-trio/
LOCATION:Logan Inn\, 10 W Ferry St\, New Hope\, PA\, 18938\, United States
CATEGORIES:Logan Inn Music Lineup
END:VEVENT
BEGIN:VEVENT
DTSTART;TZID=America/New_York:20250302T113000
DTEND;TZID=America/New_York:20250302T143000
DTSTAMP:20260421T184923
CREATED:20250226T143312Z
LAST-MODIFIED:20250226T143312Z
UID:16326-1740915000-1740925800@play.landmarkhospitality.com
SUMMARY:Julia Janosz
DESCRIPTION:
URL:https://play.landmarkhospitality.com/event/julia-janosz-2/
LOCATION:Logan Inn\, 10 W Ferry St\, New Hope\, PA\, 18938\, United States
CATEGORIES:Logan Inn Music Lineup
END:VEVENT
BEGIN:VEVENT
DTSTART;TZID=America/New_York:20250302T120000
DTEND;TZID=America/New_York:20250302T150000
DTSTAMP:20260421T184923
CREATED:20250130T211300Z
LAST-MODIFIED:20250130T211408Z
UID:15896-1740916800-1740927600@play.landmarkhospitality.com
SUMMARY:The Burners
DESCRIPTION:
URL:https://play.landmarkhospitality.com/event/the-burners-13/
LOCATION:Maddy Rose Restaurant at Liberty House\, 76 Audrey Zapp Dr\, Jersey City\, NJ\, 07305\, United States
CATEGORIES:Maddy Rose Music Lineup
END:VEVENT
BEGIN:VEVENT
DTSTART;TZID=America/New_York:20250302T120000
DTEND;TZID=America/New_York:20250302T150000
DTSTAMP:20260421T184923
CREATED:20250226T201148Z
LAST-MODIFIED:20250226T201148Z
UID:16331-1740916800-1740927600@play.landmarkhospitality.com
SUMMARY:Scott Mcallister
DESCRIPTION:
URL:https://play.landmarkhospitality.com/event/scott-mcallister-20/
LOCATION:Stone House\, 50 Stirling Road\, Warren\, NJ\, 07059\, United States
CATEGORIES:Stone House Music Lineup
END:VEVENT
BEGIN:VEVENT
DTSTART;TZID=America/New_York:20250305T180000
DTEND;TZID=America/New_York:20250305T210000
DTSTAMP:20260421T184923
CREATED:20250305T143702Z
LAST-MODIFIED:20250305T143702Z
UID:16423-1741197600-1741208400@play.landmarkhospitality.com
SUMMARY:NO MUSIC
DESCRIPTION:
URL:https://play.landmarkhospitality.com/event/no-music-7/
LOCATION:NJ
CATEGORIES:Logan Inn Music Lineup
END:VEVENT
BEGIN:VEVENT
DTSTART;TZID=America/New_York:20250306T180000
DTEND;TZID=America/New_York:20250306T180000
DTSTAMP:20260421T184923
CREATED:20250220T210937Z
LAST-MODIFIED:20250220T213938Z
UID:16231-1741284000-1741284000@play.landmarkhospitality.com
SUMMARY:Members-Only Preview Dinner @ Felina Steak South Orange
DESCRIPTION:Content is protected.
URL:https://play.landmarkhospitality.com/event/member-preview-pop-up-event-felina-steak-south-orange/
LOCATION:Felina Steak South Orange\, 101 W South Orange Ave\, South Orange\, 07079\, United States
CATEGORIES:Felina Steak South Orange
END:VEVENT
BEGIN:VEVENT
DTSTART;TZID=America/New_York:20250306T180000
DTEND;TZID=America/New_York:20250306T210000
DTSTAMP:20260421T184923
CREATED:20250305T143735Z
LAST-MODIFIED:20250305T143735Z
UID:16424-1741284000-1741294800@play.landmarkhospitality.com
SUMMARY:Jumper Duo
DESCRIPTION:
URL:https://play.landmarkhospitality.com/event/jumper-duo-3/
LOCATION:Logan Inn\, 10 W Ferry St\, New Hope\, PA\, 18938\, United States
CATEGORIES:Logan Inn Music Lineup
END:VEVENT
BEGIN:VEVENT
DTSTART;TZID=America/New_York:20250306T180000
DTEND;TZID=America/New_York:20250306T210000
DTSTAMP:20260421T184923
CREATED:20250308T010509Z
LAST-MODIFIED:20250308T010509Z
UID:16453-1741284000-1741294800@play.landmarkhospitality.com
SUMMARY:Leonieke Scheuble
DESCRIPTION:
URL:https://play.landmarkhospitality.com/event/leonieke-scheuble/
LOCATION:Stone House\, 50 Stirling Road\, Warren\, NJ\, 07059\, United States
CATEGORIES:Stone House Music Lineup
END:VEVENT
END:VCALENDAR