BEGIN:VCALENDAR
VERSION:2.0
PRODID:-//Play @ Landmark Hospitality - ECPv6.7.0//NONSGML v1.0//EN
CALSCALE:GREGORIAN
METHOD:PUBLISH
X-ORIGINAL-URL:https://play.landmarkhospitality.com
X-WR-CALDESC:Events for Play @ Landmark Hospitality
REFRESH-INTERVAL;VALUE=DURATION:PT1H
X-Robots-Tag:noindex
X-PUBLISHED-TTL:PT1H
BEGIN:VTIMEZONE
TZID:America/New_York
BEGIN:DAYLIGHT
TZOFFSETFROM:-0500
TZOFFSETTO:-0400
TZNAME:EDT
DTSTART:20250309T070000
END:DAYLIGHT
BEGIN:STANDARD
TZOFFSETFROM:-0400
TZOFFSETTO:-0500
TZNAME:EST
DTSTART:20251102T060000
END:STANDARD
END:VTIMEZONE
BEGIN:VEVENT
DTSTART;TZID=America/New_York:20250214T183000
DTEND;TZID=America/New_York:20250214T213000
DTSTAMP:20260421T121550
CREATED:20250130T212616Z
LAST-MODIFIED:20250130T212616Z
UID:15908-1739557800-1739568600@play.landmarkhospitality.com
SUMMARY:Gary Schaffer Duo
DESCRIPTION:
URL:https://play.landmarkhospitality.com/event/gary-schaffer-duo/
LOCATION:Ryland Inn\, 115 Old Hwy 28\, Whitehouse Station\, NJ\, 08889\, United States
CATEGORIES:Ryland Inn Music Lineup
END:VEVENT
BEGIN:VEVENT
DTSTART;TZID=America/New_York:20250214T183000
DTEND;TZID=America/New_York:20250214T213000
DTSTAMP:20260421T121550
CREATED:20250212T145459Z
LAST-MODIFIED:20250212T145459Z
UID:16075-1739557800-1739568600@play.landmarkhospitality.com
SUMMARY:The RMA Project
DESCRIPTION:
URL:https://play.landmarkhospitality.com/event/the-rma-project/
LOCATION:Stone House\, 50 Stirling Road\, Warren\, NJ\, 07059\, United States
CATEGORIES:Stone House Music Lineup
END:VEVENT
BEGIN:VEVENT
DTSTART;TZID=America/New_York:20250214T190000
DTEND;TZID=America/New_York:20250214T220000
DTSTAMP:20260421T121550
CREATED:20250212T145325Z
LAST-MODIFIED:20250212T145325Z
UID:16072-1739559600-1739570400@play.landmarkhospitality.com
SUMMARY:Omeed Nyman Trio
DESCRIPTION:
URL:https://play.landmarkhospitality.com/event/omeed-nyman-trio-14/
LOCATION:Logan Inn\, 10 W Ferry St\, New Hope\, PA\, 18938\, United States
CATEGORIES:Logan Inn Music Lineup
END:VEVENT
BEGIN:VEVENT
DTSTART;TZID=America/New_York:20250215T183000
DTEND;TZID=America/New_York:20250215T213000
DTSTAMP:20260421T121550
CREATED:20250130T212649Z
LAST-MODIFIED:20250130T212649Z
UID:15909-1739644200-1739655000@play.landmarkhospitality.com
SUMMARY:Carrie Jackson
DESCRIPTION:
URL:https://play.landmarkhospitality.com/event/carrie-jackson-2/
LOCATION:Ryland Inn\, 115 Old Hwy 28\, Whitehouse Station\, NJ\, 08889\, United States
CATEGORIES:Ryland Inn Music Lineup
END:VEVENT
BEGIN:VEVENT
DTSTART;TZID=America/New_York:20250215T183000
DTEND;TZID=America/New_York:20250215T213000
DTSTAMP:20260421T121550
CREATED:20250212T145543Z
LAST-MODIFIED:20250212T145543Z
UID:16076-1739644200-1739655000@play.landmarkhospitality.com
SUMMARY:Nathaniel Janoff Duo
DESCRIPTION:
URL:https://play.landmarkhospitality.com/event/nathaniel-janoff-duo/
LOCATION:Stone House\, 50 Stirling Road\, Warren\, NJ\, 07059\, United States
CATEGORIES:Stone House Music Lineup
END:VEVENT
BEGIN:VEVENT
DTSTART;TZID=America/New_York:20250215T190000
DTEND;TZID=America/New_York:20250215T220000
DTSTAMP:20260421T121550
CREATED:20250130T210457Z
LAST-MODIFIED:20250130T210457Z
UID:15888-1739646000-1739656800@play.landmarkhospitality.com
SUMMARY:Scion Bros
DESCRIPTION:
URL:https://play.landmarkhospitality.com/event/scion-bros/
LOCATION:Maddy Rose Restaurant at Liberty House\, 76 Audrey Zapp Dr\, Jersey City\, NJ\, 07305\, United States
CATEGORIES:Maddy Rose Music Lineup
END:VEVENT
BEGIN:VEVENT
DTSTART;TZID=America/New_York:20250215T190000
DTEND;TZID=America/New_York:20250215T220000
DTSTAMP:20260421T121550
CREATED:20250212T145353Z
LAST-MODIFIED:20250212T145353Z
UID:16073-1739646000-1739656800@play.landmarkhospitality.com
SUMMARY:Jazz Faction
DESCRIPTION:
URL:https://play.landmarkhospitality.com/event/jazz-faction-8/
LOCATION:Logan Inn\, 10 W Ferry St\, New Hope\, PA\, 18938\, United States
CATEGORIES:Logan Inn Music Lineup
END:VEVENT
BEGIN:VEVENT
DTSTART;TZID=America/New_York:20250216T110000
DTEND;TZID=America/New_York:20250216T140000
DTSTAMP:20260421T121550
CREATED:20250130T212831Z
LAST-MODIFIED:20250130T212831Z
UID:15910-1739703600-1739714400@play.landmarkhospitality.com
SUMMARY:The Burners
DESCRIPTION:
URL:https://play.landmarkhospitality.com/event/the-burners-14/
LOCATION:Ryland Inn\, 115 Old Hwy 28\, Whitehouse Station\, NJ\, 08889\, United States
CATEGORIES:Ryland Inn Music Lineup
END:VEVENT
BEGIN:VEVENT
DTSTART;TZID=America/New_York:20250216T113000
DTEND;TZID=America/New_York:20250216T143000
DTSTAMP:20260421T121550
CREATED:20250212T145424Z
LAST-MODIFIED:20250212T145653Z
UID:16074-1739705400-1739716200@play.landmarkhospitality.com
SUMMARY:Scott Mcallister Trio
DESCRIPTION:
URL:https://play.landmarkhospitality.com/event/scott-mcallister-trio-10/
LOCATION:Logan Inn\, 10 W Ferry St\, New Hope\, PA\, 18938\, United States
CATEGORIES:Logan Inn Music Lineup
END:VEVENT
BEGIN:VEVENT
DTSTART;TZID=America/New_York:20250216T120000
DTEND;TZID=America/New_York:20250216T150000
DTSTAMP:20260421T121550
CREATED:20250130T210531Z
LAST-MODIFIED:20250130T210531Z
UID:15889-1739707200-1739718000@play.landmarkhospitality.com
SUMMARY:John Mazzerella Trio
DESCRIPTION:
URL:https://play.landmarkhospitality.com/event/john-mazzerella-trio/
LOCATION:Maddy Rose Restaurant at Liberty House\, 76 Audrey Zapp Dr\, Jersey City\, NJ\, 07305\, United States
CATEGORIES:Maddy Rose Music Lineup
END:VEVENT
BEGIN:VEVENT
DTSTART;TZID=America/New_York:20250216T120000
DTEND;TZID=America/New_York:20250216T150000
DTSTAMP:20260421T121550
CREATED:20250212T145618Z
LAST-MODIFIED:20250212T145618Z
UID:16077-1739707200-1739718000@play.landmarkhospitality.com
SUMMARY:Alex Saunders
DESCRIPTION:
URL:https://play.landmarkhospitality.com/event/alex-saunders-18/
LOCATION:Stone House\, 50 Stirling Road\, Warren\, NJ\, 07059\, United States
CATEGORIES:Stone House Music Lineup
END:VEVENT
BEGIN:VEVENT
DTSTART;TZID=America/New_York:20250218T180000
DTEND;TZID=America/New_York:20250218T180000
DTSTAMP:20260421T121550
CREATED:20250205T215257Z
LAST-MODIFIED:20250218T172917Z
UID:15982-1739901600-1739901600@play.landmarkhospitality.com
SUMMARY:Members-Only Cigar Dinner at Logan Inn
DESCRIPTION:Content is protected.
URL:https://play.landmarkhospitality.com/event/members-only-cigar-dinner-at-logan-inn/
LOCATION:Logan Inn\, 10 W Ferry St\, New Hope\, PA\, 18938\, United States
CATEGORIES:Logan Inn
END:VEVENT
BEGIN:VEVENT
DTSTART;TZID=America/New_York:20250219T180000
DTEND;TZID=America/New_York:20250219T210000
DTSTAMP:20260421T121550
CREATED:20250218T173622Z
LAST-MODIFIED:20250218T173622Z
UID:16165-1739988000-1739998800@play.landmarkhospitality.com
SUMMARY:Russel Norkevich
DESCRIPTION:
URL:https://play.landmarkhospitality.com/event/russel-norkevich-5/
LOCATION:Logan Inn\, 10 W Ferry St\, New Hope\, PA\, 18938\, United States
CATEGORIES:Logan Inn Music Lineup
END:VEVENT
BEGIN:VEVENT
DTSTART;TZID=America/New_York:20250220T180000
DTEND;TZID=America/New_York:20250220T210000
DTSTAMP:20260421T121550
CREATED:20250130T212907Z
LAST-MODIFIED:20250130T212907Z
UID:15911-1740074400-1740085200@play.landmarkhospitality.com
SUMMARY:Scott Mcallister solo
DESCRIPTION:
URL:https://play.landmarkhospitality.com/event/scott-mcallister-solo/
LOCATION:Ryland Inn\, 115 Old Hwy 28\, Whitehouse Station\, NJ\, 08889\, United States
CATEGORIES:Ryland Inn Music Lineup
END:VEVENT
BEGIN:VEVENT
DTSTART;TZID=America/New_York:20250220T180000
DTEND;TZID=America/New_York:20250220T210000
DTSTAMP:20260421T121550
CREATED:20250218T173655Z
LAST-MODIFIED:20250218T173655Z
UID:16166-1740074400-1740085200@play.landmarkhospitality.com
SUMMARY:Mike DiEleuterio
DESCRIPTION:
URL:https://play.landmarkhospitality.com/event/mike-dieleuterio-8/
LOCATION:Stone House\, 50 Stirling Road\, Warren\, NJ\, 07059\, United States
CATEGORIES:Logan Inn Music Lineup
END:VEVENT
BEGIN:VEVENT
DTSTART;TZID=America/New_York:20250220T183000
DTEND;TZID=America/New_York:20250220T213000
DTSTAMP:20260421T121550
CREATED:20250130T210607Z
LAST-MODIFIED:20250130T210607Z
UID:15890-1740076200-1740087000@play.landmarkhospitality.com
SUMMARY:Glenn & Oria
DESCRIPTION:
URL:https://play.landmarkhospitality.com/event/glenn-oria-12/
LOCATION:PA
CATEGORIES:Maddy Rose Music Lineup
END:VEVENT
BEGIN:VEVENT
DTSTART;TZID=America/New_York:20250220T190000
DTEND;TZID=America/New_York:20250220T210000
DTSTAMP:20260421T121550
CREATED:20250128T172151Z
LAST-MODIFIED:20250129T184324Z
UID:15843-1740078000-1740085200@play.landmarkhospitality.com
SUMMARY:Mastering Vodka Classics
DESCRIPTION:Join us for this interactive class where you’ll craft 3 vodka cocktails while learning how to elevate your cocktail game – from selecting premium ingredients to perfecting your shake and garnish. Discover the secrets behind crafting timeless vodka cocktails while enjoying perfectly paired lite bites. \nOur Mixologist’s Picks: \nClassic Cosmo \nPeartini\n \nLychee Martini
URL:https://play.landmarkhospitality.com/event/mastering-vodka-classics/
LOCATION:Stone House\, 50 Stirling Road\, Warren\, NJ\, 07059\, United States
CATEGORIES:Stone House
ATTACH;FMTTYPE=image/png:https://play.landmarkhospitality.com/wp-content/uploads/2025/01/shop-graphics-6-1.png
END:VEVENT
BEGIN:VEVENT
DTSTART;TZID=America/New_York:20250221T183000
DTEND;TZID=America/New_York:20250221T213000
DTSTAMP:20260421T121550
CREATED:20250130T212939Z
LAST-MODIFIED:20250130T212939Z
UID:15912-1740162600-1740173400@play.landmarkhospitality.com
SUMMARY:Tom Reyes Trio
DESCRIPTION:
URL:https://play.landmarkhospitality.com/event/tom-reyes-trio-7/
LOCATION:Ryland Inn\, 115 Old Hwy 28\, Whitehouse Station\, NJ\, 08889\, United States
CATEGORIES:Ryland Inn Music Lineup
END:VEVENT
BEGIN:VEVENT
DTSTART;TZID=America/New_York:20250221T183000
DTEND;TZID=America/New_York:20250221T213000
DTSTAMP:20260421T121550
CREATED:20250218T173446Z
LAST-MODIFIED:20250218T173446Z
UID:16162-1740162600-1740173400@play.landmarkhospitality.com
SUMMARY:Whiskey & Sugar
DESCRIPTION:
URL:https://play.landmarkhospitality.com/event/whiskey-sugar-13/
LOCATION:Stone House\, 50 Stirling Road\, Warren\, NJ\, 07059\, United States
CATEGORIES:Stone House Music Lineup
END:VEVENT
BEGIN:VEVENT
DTSTART;TZID=America/New_York:20250221T190000
DTEND;TZID=America/New_York:20250221T220000
DTSTAMP:20260421T121550
CREATED:20250130T210722Z
LAST-MODIFIED:20250130T210722Z
UID:15891-1740164400-1740175200@play.landmarkhospitality.com
SUMMARY:Carrie Jackson Quartet
DESCRIPTION:
URL:https://play.landmarkhospitality.com/event/carrie-jackson-quartet-11/
LOCATION:Maddy Rose Restaurant at Liberty House\, 76 Audrey Zapp Dr\, Jersey City\, NJ\, 07305\, United States
CATEGORIES:Maddy Rose Music Lineup
END:VEVENT
BEGIN:VEVENT
DTSTART;TZID=America/New_York:20250221T190000
DTEND;TZID=America/New_York:20250221T220000
DTSTAMP:20260421T121550
CREATED:20250218T173726Z
LAST-MODIFIED:20250218T173726Z
UID:16167-1740164400-1740175200@play.landmarkhospitality.com
SUMMARY:Sammy Ryan
DESCRIPTION:
URL:https://play.landmarkhospitality.com/event/sammy-ryan-6/
LOCATION:Logan Inn\, 10 W Ferry St\, New Hope\, PA\, 18938\, United States
CATEGORIES:Logan Inn Music Lineup
END:VEVENT
BEGIN:VEVENT
DTSTART;TZID=America/New_York:20250221T190000
DTEND;TZID=America/New_York:20250221T220000
DTSTAMP:20260421T121550
CREATED:20250221T185838Z
LAST-MODIFIED:20250221T185838Z
UID:16261-1740164400-1740175200@play.landmarkhospitality.com
SUMMARY:Glenn & Oria
DESCRIPTION:
URL:https://play.landmarkhospitality.com/event/glenn-oria-14/
LOCATION:The Albion Summit\, 570 Springfield Ave\, Summit\, NJ\, 07901\, United States
CATEGORIES:The Albion Summit Music Lineup
END:VEVENT
BEGIN:VEVENT
DTSTART;TZID=America/New_York:20250222T120000
DTEND;TZID=America/New_York:20250222T140000
DTSTAMP:20260421T121550
CREATED:20250116T191839Z
LAST-MODIFIED:20250221T200820Z
UID:15705-1740225600-1740232800@play.landmarkhospitality.com
SUMMARY:Cannoli Making Class
DESCRIPTION:Join Chef de Cuisine Christopher Jonas for an interactive class where you’ll learn the art of crafting the perfect cannoli. From creating delicate shells to preparing the creamy ricotta filling\, this hands-on experience offers a delightful journey into the heart of Italian pastry-making. \nCannolis: Classic\, Lemon\, & Nutella
URL:https://play.landmarkhospitality.com/event/cannoli-making-class-2/
LOCATION:Felina Steak at Hudson House\, 2 Chapel Ave\, Jersey City\, 07305
CATEGORIES:Felina Steak at Hudson House
ATTACH;FMTTYPE=image/jpeg:https://play.landmarkhospitality.com/wp-content/uploads/2025/01/MG_9410-copy.jpg
END:VEVENT
BEGIN:VEVENT
DTSTART;TZID=America/New_York:20250222T183000
DTEND;TZID=America/New_York:20250222T213000
DTSTAMP:20260421T121550
CREATED:20250130T213022Z
LAST-MODIFIED:20250130T213022Z
UID:15913-1740249000-1740259800@play.landmarkhospitality.com
SUMMARY:The Burners
DESCRIPTION:
URL:https://play.landmarkhospitality.com/event/the-burners-15/
LOCATION:Ryland Inn\, 115 Old Hwy 28\, Whitehouse Station\, NJ\, 08889\, United States
CATEGORIES:Ryland Inn Music Lineup
END:VEVENT
BEGIN:VEVENT
DTSTART;TZID=America/New_York:20250222T183000
DTEND;TZID=America/New_York:20250222T213000
DTSTAMP:20260421T121550
CREATED:20250218T173517Z
LAST-MODIFIED:20250218T173517Z
UID:16163-1740249000-1740259800@play.landmarkhospitality.com
SUMMARY:John Lenis Duo
DESCRIPTION:
URL:https://play.landmarkhospitality.com/event/john-lenis-duo/
LOCATION:Stone House\, 50 Stirling Road\, Warren\, NJ\, 07059\, United States
CATEGORIES:Stone House Music Lineup
END:VEVENT
BEGIN:VEVENT
DTSTART;TZID=America/New_York:20250222T190000
DTEND;TZID=America/New_York:20250222T220000
DTSTAMP:20260421T121550
CREATED:20250130T210803Z
LAST-MODIFIED:20250130T210803Z
UID:15892-1740250800-1740261600@play.landmarkhospitality.com
SUMMARY:Blue Soul
DESCRIPTION:
URL:https://play.landmarkhospitality.com/event/blue-soul-7/
LOCATION:Maddy Rose Restaurant at Liberty House\, 76 Audrey Zapp Dr\, Jersey City\, NJ\, 07305\, United States
CATEGORIES:Maddy Rose Music Lineup
END:VEVENT
BEGIN:VEVENT
DTSTART;TZID=America/New_York:20250222T190000
DTEND;TZID=America/New_York:20250222T220000
DTSTAMP:20260421T121550
CREATED:20250218T173756Z
LAST-MODIFIED:20250218T173756Z
UID:16168-1740250800-1740261600@play.landmarkhospitality.com
SUMMARY:Lambertville Jazz
DESCRIPTION:
URL:https://play.landmarkhospitality.com/event/lambertville-jazz-6/
LOCATION:Logan Inn\, 10 W Ferry St\, New Hope\, PA\, 18938\, United States
CATEGORIES:Logan Inn Music Lineup
END:VEVENT
BEGIN:VEVENT
DTSTART;TZID=America/New_York:20250222T190000
DTEND;TZID=America/New_York:20250222T220000
DTSTAMP:20260421T121550
CREATED:20250221T190122Z
LAST-MODIFIED:20250221T190122Z
UID:16262-1740250800-1740261600@play.landmarkhospitality.com
SUMMARY:Owls & Lions
DESCRIPTION:
URL:https://play.landmarkhospitality.com/event/owls-lions-3/
LOCATION:The Albion Summit\, 570 Springfield Ave\, Summit\, NJ\, 07901\, United States
CATEGORIES:The Albion Summit Music Lineup
END:VEVENT
BEGIN:VEVENT
DTSTART;TZID=America/New_York:20250223T110000
DTEND;TZID=America/New_York:20250223T140000
DTSTAMP:20260421T121550
CREATED:20250130T213052Z
LAST-MODIFIED:20250130T213052Z
UID:15914-1740308400-1740319200@play.landmarkhospitality.com
SUMMARY:Hank Machuga solo
DESCRIPTION:
URL:https://play.landmarkhospitality.com/event/hank-machuga-solo/
LOCATION:Ryland Inn\, 115 Old Hwy 28\, Whitehouse Station\, NJ\, 08889\, United States
CATEGORIES:Ryland Inn Music Lineup
END:VEVENT
BEGIN:VEVENT
DTSTART;TZID=America/New_York:20250223T113000
DTEND;TZID=America/New_York:20250223T143000
DTSTAMP:20260421T121550
CREATED:20250218T173826Z
LAST-MODIFIED:20250218T173826Z
UID:16169-1740310200-1740321000@play.landmarkhospitality.com
SUMMARY:Marius Luigi Nicolae
DESCRIPTION:
URL:https://play.landmarkhospitality.com/event/marius-luigi-nicolae-3/
LOCATION:Logan Inn\, 10 W Ferry St\, New Hope\, PA\, 18938\, United States
CATEGORIES:Logan Inn Music Lineup
END:VEVENT
END:VCALENDAR