BEGIN:VCALENDAR
VERSION:2.0
PRODID:-//Play @ Landmark Hospitality - ECPv6.7.0//NONSGML v1.0//EN
CALSCALE:GREGORIAN
METHOD:PUBLISH
X-WR-CALNAME:Play @ Landmark Hospitality
X-ORIGINAL-URL:https://play.landmarkhospitality.com
X-WR-CALDESC:Events for Play @ Landmark Hospitality
REFRESH-INTERVAL;VALUE=DURATION:PT1H
X-Robots-Tag:noindex
X-PUBLISHED-TTL:PT1H
BEGIN:VTIMEZONE
TZID:America/New_York
BEGIN:DAYLIGHT
TZOFFSETFROM:-0500
TZOFFSETTO:-0400
TZNAME:EDT
DTSTART:20250309T070000
END:DAYLIGHT
BEGIN:STANDARD
TZOFFSETFROM:-0400
TZOFFSETTO:-0500
TZNAME:EST
DTSTART:20251102T060000
END:STANDARD
END:VTIMEZONE
BEGIN:VEVENT
DTSTART;TZID=America/New_York:20250619T180000
DTEND;TZID=America/New_York:20250619T180000
DTSTAMP:20260423T211233
CREATED:20250429T182242Z
LAST-MODIFIED:20250429T184128Z
UID:17311-1750356000-1750356000@play.landmarkhospitality.com
SUMMARY:Ryland Cult Wine & Spirit Dinner
DESCRIPTION:Content is protected.
URL:https://play.landmarkhospitality.com/event/ryland-cult-wine-spirit-dinner/
LOCATION:Ryland Inn\, 115 Old Hwy 28\, Whitehouse Station\, NJ\, 08889\, United States
CATEGORIES:Ryland Inn
END:VEVENT
BEGIN:VEVENT
DTSTART;TZID=America/New_York:20250618T190000
DTEND;TZID=America/New_York:20250618T220000
DTSTAMP:20260423T211233
CREATED:20250502T141644Z
LAST-MODIFIED:20250502T142052Z
UID:17391-1750273200-1750284000@play.landmarkhospitality.com
SUMMARY:Summer Sangria Soirée
DESCRIPTION:Join us for our Summer Sangria Soirée on June 18th from 7–10PM at La Terrazza! Enjoy unlimited red\, white\, and frozen sangria\, delicious light bites\, handcrafted pizzas\, and rooftop games — let’s toast to summer in style!
URL:https://play.landmarkhospitality.com/event/summer-sangria-soiree/
LOCATION:Felina Ridgewood\, 18 Prospect St\, Ridgewood\, NJ\, 07450\, United States
CATEGORIES:Felina Ridgewood
ATTACH;FMTTYPE=image/png:https://play.landmarkhospitality.com/wp-content/uploads/2025/05/sangria-soiree-.png
END:VEVENT
BEGIN:VEVENT
DTSTART;TZID=America/New_York:20250618T180000
DTEND;TZID=America/New_York:20250618T210000
DTSTAMP:20260423T211233
CREATED:20250616T165502Z
LAST-MODIFIED:20250616T165502Z
UID:18483-1750269600-1750280400@play.landmarkhospitality.com
SUMMARY:Tom Reyes
DESCRIPTION:
URL:https://play.landmarkhospitality.com/event/tom-reyes-29/
LOCATION:Logan Inn\, 10 W Ferry St\, New Hope\, PA\, 18938\, United States
CATEGORIES:Logan Inn Music Lineup
END:VEVENT
BEGIN:VEVENT
DTSTART;TZID=America/New_York:20250616T150000
DTEND;TZID=America/New_York:20250616T150000
DTSTAMP:20260423T211233
CREATED:20250530T200021Z
LAST-MODIFIED:20250616T183558Z
UID:18131-1750086000-1750086000@play.landmarkhospitality.com
SUMMARY:Father’s Day BBQ at The View
DESCRIPTION:Sunday\, June 15 | 2-Hour Experience | 11am Seating \nTax & service fee will be added at checkout. \nAdults 21+ will receive a complimentary mimosa upon arrival. There is a cash bar available for limited alcoholic beverages (wine\, beer\, cocktails) – *CASH ONLY* \n— \nCold Buffet\nWatermelon \nCole Slaw (dairy) \nPasta Salad \nMacaroni Salad (dairy) \nCaesar Salad \nCrudité with Hummus \n— \nHot Buffet\nSouthern Fried Chicken \nPulled Pork \nBBQ Brisket \nMac & Cheese (dairy) \nCorn on Cobb (dairy) \nVegan Baked Beans \nImpossible Sliders \n*Kids Nathans Hotdogs \n— \nDessert\nAssorted Cookies & Cakes (dairy)
URL:https://play.landmarkhospitality.com/event/fathers-day-bbq-at-the-view-2/
LOCATION:The View at Lincoln Park\, Jersey City\, 201 Lincoln Pk\, Jersey City\, NJ\, 07304\, United States
CATEGORIES:The View
ATTACH;FMTTYPE=image/png:https://play.landmarkhospitality.com/wp-content/uploads/2025/05/shop-graphics-13.png
END:VEVENT
BEGIN:VEVENT
DTSTART;TZID=America/New_York:20250615T120000
DTEND;TZID=America/New_York:20250615T150000
DTSTAMP:20260423T211233
CREATED:20250610T205349Z
LAST-MODIFIED:20250610T205349Z
UID:18360-1749988800-1749999600@play.landmarkhospitality.com
SUMMARY:Harry Strunk
DESCRIPTION:
URL:https://play.landmarkhospitality.com/event/harry-strunk-20/
LOCATION:NJ
CATEGORIES:Stone House Music Lineup
END:VEVENT
BEGIN:VEVENT
DTSTART;TZID=America/New_York:20250615T113000
DTEND;TZID=America/New_York:20250615T143000
DTSTAMP:20260423T211233
CREATED:20250610T205748Z
LAST-MODIFIED:20250610T205748Z
UID:18365-1749987000-1749997800@play.landmarkhospitality.com
SUMMARY:The Burners
DESCRIPTION:
URL:https://play.landmarkhospitality.com/event/the-burners-21/
LOCATION:Logan Inn\, 10 W Ferry St\, New Hope\, PA\, 18938\, United States
CATEGORIES:Logan Inn Music Lineup
END:VEVENT
BEGIN:VEVENT
DTSTART;TZID=America/New_York:20250614T190000
DTEND;TZID=America/New_York:20250614T220000
DTSTAMP:20260423T211233
CREATED:20250611T132644Z
LAST-MODIFIED:20250611T132644Z
UID:18383-1749927600-1749938400@play.landmarkhospitality.com
SUMMARY:Bossa3
DESCRIPTION:
URL:https://play.landmarkhospitality.com/event/bossa3-6/
LOCATION:The Albion Summit\, 570 Springfield Ave\, Summit\, NJ\, 07901\, United States
CATEGORIES:The Albion Summit Music Lineup
END:VEVENT
BEGIN:VEVENT
DTSTART;TZID=America/New_York:20250614T190000
DTEND;TZID=America/New_York:20250614T220000
DTSTAMP:20260423T211233
CREATED:20250610T205720Z
LAST-MODIFIED:20250610T205720Z
UID:18364-1749927600-1749938400@play.landmarkhospitality.com
SUMMARY:Mark Feingold Trio
DESCRIPTION:
URL:https://play.landmarkhospitality.com/event/mark-feingold-trio-7/
LOCATION:Logan Inn\, 10 W Ferry St\, New Hope\, PA\, 18938\, United States
CATEGORIES:Logan Inn Music Lineup
END:VEVENT
BEGIN:VEVENT
DTSTART;TZID=America/New_York:20250614T190000
DTEND;TZID=America/New_York:20250614T220000
DTSTAMP:20260423T211233
CREATED:20250610T205323Z
LAST-MODIFIED:20250610T205323Z
UID:18359-1749927600-1749938400@play.landmarkhospitality.com
SUMMARY:Shark Hat
DESCRIPTION:
URL:https://play.landmarkhospitality.com/event/shark-hat-2/
LOCATION:Stone House\, 50 Stirling Road\, Warren\, NJ\, 07059\, United States
CATEGORIES:Stone House Music Lineup
END:VEVENT
BEGIN:VEVENT
DTSTART;TZID=America/New_York:20250614T090000
DTEND;TZID=America/New_York:20250614T150000
DTSTAMP:20260423T211233
CREATED:20250410T180710Z
LAST-MODIFIED:20250613T151422Z
UID:16939-1749891600-1749913200@play.landmarkhospitality.com
SUMMARY:Father's Day Weekend - Stork Club Run
DESCRIPTION:We’re so excited to invite you to our first annual Father’s Day Car Tour presented by the Stork Club. This event blends the thrill of the open road with the elegance of high-end vehicles\, offering a one-of-a-kind experience taking us through the back roads of New Jersey & Pennsylvania beautiful scenery curated by Lake Underwood. \nJune 13 – Drivers Social at Stork Club Whiskey Lounge\nKick off the weekend at the Stork Club Whiskey Lounge in Summit from 7-9pm\, where drivers will enjoy an evening of cocktails by Fords Gin\, Campari\, Elijah Craig & Aperol\, lite bites\, and cigars while mingling with fellow enthusiasts. Members will also receive raffle tickets for a chance to win premium spirits\, wines\, and cigars from the Ryland Store Auction Table. \nSponsors displays details coming soon  \nJune 14 – The Tour Begins\nAt 9:00 AM\, drivers will gather at Albion Summit for coffee and continental breakfast before heading out on a scenic drive. The first stop is Ryland Inn for a VIP lunch experience\, where we will also announce raffle winners from the night before. After lunch\, we continue the tour\, enjoying the best of NJ and PA roads before stopping at Cascade Lodge for lite bites & refreshments and a exploration map of New Hope. \nIf you’d like to reserve a table for dinner at the Logan Inn or Anzu Social in New Hope\, click the link below \nMake a Reservation at Logan Inn\nMake a Reservation at Anzu Social \nSpecial Drivers Rate code: Coming soon… \nJune 15 – Father’s Day Car Show in Summit\nEnd the weekend with priority parking at the Summit Father’s Day Car Show\, showcasing your car among an incredible collection of classics\, sports\, and exotics. \nIf you’d like to stay overnight at Albion Summit in Summit\, NJ\, Logan Inn or Anzu Social in New Hope\, click the link below:\nBook a Room at the Albion Summit\nBook a Room at the Logan Inn or Anzu Social \nSpecial Drivers Rate code: Coming soon… \nTICKET INCLUDES: \n\nEntry for your *classic\, sports\, exotic\, and vintage cars\nAccess to the Drivers Social the night before (June 13) at the Stork Club Whiskey Lounge\nComplimentary coffee and continental breakfast at the Albion Summit\nSaratoga water bottles\, large tour decal\, and swag bag\nEnjoy featured sponsors display\nLunch at the VIP area at the Ryland Inn with refreshments\n2 drink tickets to use at the Albion Summit on June 13th\nLite bites & refreshments and a exploration map of New Hope at Cascade Lodge\nDiscounted hotel rates at Albion Summit\, Logan Inn & Mansion Inn for the weekend\nDiscounted Restaurant rates at Felina Summit at Albion Summit\, Logan Inn\, Anzu Social\, & Ryland Inn for the weekend\n\nRyland Inn Menu \nFried Oyster Po’ Boys with Spicy Remoulade\nMini smash burgers\nCrispy chicken\, avocado\, and bacon\nSmoked Portobello Sliders- Balsamic and Arugula\nFresh fried potato chips\nBBQ: Ribs\, half-roasted chicken\, brisket\nSides: Slaw\, potato & pasta salad\, green salad\nChocolate chip cookies
URL:https://play.landmarkhospitality.com/event/fathers-day-car-tour/
LOCATION:NJ
CATEGORIES:Ryland Inn,The Albion Summit
ATTACH;FMTTYPE=image/png:https://play.landmarkhospitality.com/wp-content/uploads/2025/04/shop-graphics-5-1.png
END:VEVENT
BEGIN:VEVENT
DTSTART;TZID=America/New_York:20250613T190000
DTEND;TZID=America/New_York:20250613T220000
DTSTAMP:20260423T211233
CREATED:20250611T132535Z
LAST-MODIFIED:20250611T132535Z
UID:18382-1749841200-1749852000@play.landmarkhospitality.com
SUMMARY:Joe Taino Trio
DESCRIPTION:
URL:https://play.landmarkhospitality.com/event/joe-taino-trio-7/
LOCATION:The Albion Summit\, 570 Springfield Ave\, Summit\, NJ\, 07901\, United States
CATEGORIES:The Albion Summit Music Lineup
END:VEVENT
BEGIN:VEVENT
DTSTART;TZID=America/New_York:20250613T190000
DTEND;TZID=America/New_York:20250613T220000
DTSTAMP:20260423T211233
CREATED:20250610T205646Z
LAST-MODIFIED:20250610T205646Z
UID:18363-1749841200-1749852000@play.landmarkhospitality.com
SUMMARY:Aaron Qman
DESCRIPTION:
URL:https://play.landmarkhospitality.com/event/aaron-qman-9/
LOCATION:Logan Inn\, 10 W Ferry St\, New Hope\, PA\, 18938\, United States
CATEGORIES:Logan Inn Music Lineup
END:VEVENT
BEGIN:VEVENT
DTSTART;TZID=America/New_York:20250613T190000
DTEND;TZID=America/New_York:20250613T220000
DTSTAMP:20260423T211233
CREATED:20250610T205255Z
LAST-MODIFIED:20250610T205255Z
UID:18358-1749841200-1749852000@play.landmarkhospitality.com
SUMMARY:James Popik Trio
DESCRIPTION:
URL:https://play.landmarkhospitality.com/event/james-popik-trio-8/
LOCATION:Stone House\, 50 Stirling Road\, Warren\, NJ\, 07059\, United States
CATEGORIES:Stone House Music Lineup
END:VEVENT
BEGIN:VEVENT
DTSTART;TZID=America/New_York:20250612T183000
DTEND;TZID=America/New_York:20250612T213000
DTSTAMP:20260423T211233
CREATED:20250610T205227Z
LAST-MODIFIED:20250610T205227Z
UID:18357-1749753000-1749763800@play.landmarkhospitality.com
SUMMARY:Lis Bockelman
DESCRIPTION:
URL:https://play.landmarkhospitality.com/event/lis-bockelman-2/
LOCATION:Stone House\, 50 Stirling Road\, Warren\, NJ\, 07059\, United States
CATEGORIES:Stone House Music Lineup
END:VEVENT
BEGIN:VEVENT
DTSTART;TZID=America/New_York:20250612T180000
DTEND;TZID=America/New_York:20250612T210000
DTSTAMP:20260423T211233
CREATED:20250610T205616Z
LAST-MODIFIED:20250610T205616Z
UID:18362-1749751200-1749762000@play.landmarkhospitality.com
SUMMARY:Jumper Duo
DESCRIPTION:
URL:https://play.landmarkhospitality.com/event/jumper-duo-6/
LOCATION:Logan Inn\, 10 W Ferry St\, New Hope\, PA\, 18938\, United States
CATEGORIES:Logan Inn Music Lineup
END:VEVENT
BEGIN:VEVENT
DTSTART;TZID=America/New_York:20250611T190000
DTEND;TZID=America/New_York:20250611T210000
DTSTAMP:20260423T211233
CREATED:20250520T163119Z
LAST-MODIFIED:20250529T150015Z
UID:17987-1749668400-1749675600@play.landmarkhospitality.com
SUMMARY:J. Lohr Wine Dinner
DESCRIPTION:Join us for an elegant evening at Felina Steak South Orange featuring our exclusive J. Lohr Wine Dinner\, with a specially curated menu by Executive Chef Ray Russo. \nAmuse Bouche | Sourdough\, Crispy Polenta\, Chive \n1st Course \nToro Carpaccio | Fennel\, green apple\, pine nut \n2023 J.Lohr Flume Crossing Sauvignon Blanc \n2nd Course \nCrab and Avocado Panzanella | Meyer lemon marmalade\, dill\, avocado \n2023 J. Lohr Arroyo Vista Chardonnay \n3rd Course \nShort Rib Agnolotti | Melted Leek\, Aged Balsamic\, Crispy Rainbow Carrot \n2022 J. Lohr Hilltop Cabernet Sauvignon \n4th Course \nFiletto Al Pepe Verde | Frizzled Onions\, Micro Parsley \n2022 J. Lohr Tower Road Petite Sirah \n5th Course \nBiscotti
URL:https://play.landmarkhospitality.com/event/j-lohr-wine-dinner/
LOCATION:Felina Steak South Orange\, 101 W South Orange Ave\, South Orange\, 07079\, United States
CATEGORIES:Felina Steak South Orange
ATTACH;FMTTYPE=image/png:https://play.landmarkhospitality.com/wp-content/uploads/2025/05/jlohr.png
END:VEVENT
BEGIN:VEVENT
DTSTART;TZID=America/New_York:20250611T183000
DTEND;TZID=America/New_York:20250611T213000
DTSTAMP:20260423T211233
CREATED:20250611T132423Z
LAST-MODIFIED:20250611T132423Z
UID:18381-1749666600-1749677400@play.landmarkhospitality.com
SUMMARY:Will & Amy Lavere
DESCRIPTION:
URL:https://play.landmarkhospitality.com/event/will-amy-lavere/
LOCATION:The Albion Summit\, 570 Springfield Ave\, Summit\, NJ\, 07901\, United States
CATEGORIES:The Albion Summit Music Lineup
END:VEVENT
BEGIN:VEVENT
DTSTART;TZID=America/New_York:20250611T180000
DTEND;TZID=America/New_York:20250611T210000
DTSTAMP:20260423T211233
CREATED:20250610T205547Z
LAST-MODIFIED:20250610T205547Z
UID:18361-1749664800-1749675600@play.landmarkhospitality.com
SUMMARY:Russell Norkevich
DESCRIPTION:
URL:https://play.landmarkhospitality.com/event/russell-norkevich-4/
LOCATION:Logan Inn\, 10 W Ferry St\, New Hope\, PA\, 18938\, United States
CATEGORIES:Logan Inn Music Lineup
END:VEVENT
BEGIN:VEVENT
DTSTART;TZID=America/New_York:20250611T180000
DTEND;TZID=America/New_York:20250611T200000
DTSTAMP:20260423T211233
CREATED:20250327T192413Z
LAST-MODIFIED:20250609T162532Z
UID:16644-1749664800-1749672000@play.landmarkhospitality.com
SUMMARY:Dinner with the Dads featuring Basil Hayden
DESCRIPTION:Give the gift of an unforgettable experience this Father’s Day with Dinner with the Dads – an evening of expertly paired steaks and Basil Hayden bourbon. Savor each perfectly cooked cut while enjoying smooth whiskey\, with our experts guiding you through the story behind each pour. It’s the ultimate way to celebrate with great food\, exceptional bourbon\, and lasting memories.
URL:https://play.landmarkhospitality.com/event/dinner-with-the-dads-featuring-basil-hayden/
LOCATION:Logan Inn\, 10 W Ferry St\, New Hope\, PA\, 18938\, United States
CATEGORIES:Logan Inn
ATTACH;FMTTYPE=image/png:https://play.landmarkhospitality.com/wp-content/uploads/2025/03/137.png
END:VEVENT
BEGIN:VEVENT
DTSTART;TZID=America/New_York:20250610T190000
DTEND;TZID=America/New_York:20250610T210000
DTSTAMP:20260423T211233
CREATED:20250403T154415Z
LAST-MODIFIED:20250403T165413Z
UID:16763-1749582000-1749589200@play.landmarkhospitality.com
SUMMARY:DIY Flower Watercolor Workshop with Kanibal & Co.
DESCRIPTION:Join us on June 10th from 7-9pm for a floral watercolor workshop with Kanibal & Co! Learn to create beautiful floral paintings with artist Chelsea Leifken\, and enjoy wine and pizza throughout the evening.
URL:https://play.landmarkhospitality.com/event/diy-flower-watercolor-workshop-with-kanibal-co/
LOCATION:The Albion Summit\, 570 Springfield Ave\, Summit\, NJ\, 07901\, United States
CATEGORIES:The Albion Summit
ATTACH;FMTTYPE=image/png:https://play.landmarkhospitality.com/wp-content/uploads/2025/04/Screenshot-2025-04-03-at-12.52.51 PM.png
END:VEVENT
BEGIN:VEVENT
DTSTART;TZID=America/New_York:20250608T130000
DTEND;TZID=America/New_York:20250608T160000
DTSTAMP:20260423T211233
CREATED:20250414T202152Z
LAST-MODIFIED:20250527T165010Z
UID:16999-1749387600-1749398400@play.landmarkhospitality.com
SUMMARY:Stork Club Rooftop Party Sponsored by Aperol
DESCRIPTION:You’re Invited: Stork Club Rooftop Party Sponsored by Aperol. Join us for the ultimate summer kick-off party! Don’t miss the spritzes & the views\, as we re-open to the public for this event. \n\nThe Stork Club Rooftop is back with more member perks & benefits & continues to be THE gathering spot for our Stork Club Members & Felina Steak guests throughout the season.\nWith unparalleled views of the NYC skyline\, your ticket includes:\n\nUnlimited Aperol spritzes & rosé\nPassed lite bites\nLive DJ\nRaffles & giveaways\nPhoto ops\, activations & more!
URL:https://play.landmarkhospitality.com/event/stork-club-rooftop-party-sponsored-by-aperol-2/
LOCATION:Hudson House\, 2 Chapel Ave\, Jersey City\, NJ\, 07305\, United States
CATEGORIES:Felina Steak at Hudson House,Hudson House,Stork Club Rooftop
ATTACH;FMTTYPE=image/png:https://play.landmarkhospitality.com/wp-content/uploads/2025/04/aperol1.png
END:VEVENT
BEGIN:VEVENT
DTSTART;TZID=America/New_York:20250608T120000
DTEND;TZID=America/New_York:20250608T150000
DTSTAMP:20260423T211233
CREATED:20250603T152943Z
LAST-MODIFIED:20250603T152943Z
UID:18212-1749384000-1749394800@play.landmarkhospitality.com
SUMMARY:Hank Machuga
DESCRIPTION:
URL:https://play.landmarkhospitality.com/event/hank-machuga-5/
LOCATION:Stone House\, 50 Stirling Road\, Warren\, NJ\, 07059\, United States
CATEGORIES:Stone House Music Lineup
END:VEVENT
BEGIN:VEVENT
DTSTART;TZID=America/New_York:20250608T113000
DTEND;TZID=America/New_York:20250608T143000
DTSTAMP:20260423T211233
CREATED:20250603T153411Z
LAST-MODIFIED:20250603T153411Z
UID:18217-1749382200-1749393000@play.landmarkhospitality.com
SUMMARY:Marius Luigi Nicolae
DESCRIPTION:
URL:https://play.landmarkhospitality.com/event/marius-luigi-nicolae-7/
LOCATION:Logan Inn\, 10 W Ferry St\, New Hope\, PA\, 18938\, United States
CATEGORIES:Logan Inn Music Lineup
END:VEVENT
BEGIN:VEVENT
DTSTART;TZID=America/New_York:20250608T110000
DTEND;TZID=America/New_York:20250608T130000
DTSTAMP:20260423T211233
CREATED:20250429T143512Z
LAST-MODIFIED:20250606T190306Z
UID:17304-1749380400-1749387600@play.landmarkhospitality.com
SUMMARY:Rooftop Workout with Corefire
DESCRIPTION:Sweat\, sip\, & shop! Join us with Corefire on June 8th from 11-1pm at La Terrazza Rooftop for a 1 hour session Lagree inspired core on the floor workout\, followed by an hour of mimosas\, fresh juices & assorted vendors!
URL:https://play.landmarkhospitality.com/event/la-terrazza-rooftop-workout-with-corefire/
LOCATION:Felina Ridgewood\, 18 Prospect St\, Ridgewood\, NJ\, 07450\, United States
CATEGORIES:Felina Ridgewood
ATTACH;FMTTYPE=image/png:https://play.landmarkhospitality.com/wp-content/uploads/2025/04/rooftop-yoga.png
END:VEVENT
BEGIN:VEVENT
DTSTART;TZID=America/New_York:20250607T190000
DTEND;TZID=America/New_York:20250607T220000
DTSTAMP:20260423T211233
CREATED:20250603T153302Z
LAST-MODIFIED:20250603T153302Z
UID:18216-1749322800-1749333600@play.landmarkhospitality.com
SUMMARY:Hot Club of Philly
DESCRIPTION:
URL:https://play.landmarkhospitality.com/event/hot-club-of-philly/
LOCATION:Logan Inn\, 10 W Ferry St\, New Hope\, PA\, 18938\, United States
CATEGORIES:Logan Inn Music Lineup
END:VEVENT
BEGIN:VEVENT
DTSTART;TZID=America/New_York:20250607T183000
DTEND;TZID=America/New_York:20250607T213000
DTSTAMP:20260423T211233
CREATED:20250603T152843Z
LAST-MODIFIED:20250603T152843Z
UID:18211-1749321000-1749331800@play.landmarkhospitality.com
SUMMARY:Mike Rainone
DESCRIPTION:
URL:https://play.landmarkhospitality.com/event/mike-rainone/
LOCATION:Stone House\, 50 Stirling Road\, Warren\, NJ\, 07059\, United States
CATEGORIES:Stone House Music Lineup
END:VEVENT
BEGIN:VEVENT
DTSTART;TZID=America/New_York:20250606T190000
DTEND;TZID=America/New_York:20250606T220000
DTSTAMP:20260423T211233
CREATED:20250603T153150Z
LAST-MODIFIED:20250603T153150Z
UID:18215-1749236400-1749247200@play.landmarkhospitality.com
SUMMARY:Tom Mcmillan Trio
DESCRIPTION:
URL:https://play.landmarkhospitality.com/event/tom-mcmillan-trio/
LOCATION:Logan Inn\, 10 W Ferry St\, New Hope\, PA\, 18938\, United States
CATEGORIES:Logan Inn Music Lineup
END:VEVENT
BEGIN:VEVENT
DTSTART;TZID=America/New_York:20250606T183000
DTEND;TZID=America/New_York:20250606T213000
DTSTAMP:20260423T211233
CREATED:20250603T152805Z
LAST-MODIFIED:20250603T152805Z
UID:18210-1749234600-1749245400@play.landmarkhospitality.com
SUMMARY:Blue Soul
DESCRIPTION:
URL:https://play.landmarkhospitality.com/event/blue-soul-9/
LOCATION:Stone House\, 50 Stirling Road\, Warren\, NJ\, 07059\, United States
CATEGORIES:Stone House Music Lineup
END:VEVENT
BEGIN:VEVENT
DTSTART;TZID=America/New_York:20250605T180000
DTEND;TZID=America/New_York:20250605T210000
DTSTAMP:20260423T211233
CREATED:20250603T153111Z
LAST-MODIFIED:20250603T153111Z
UID:18214-1749146400-1749157200@play.landmarkhospitality.com
SUMMARY:Rob Lanter Duo
DESCRIPTION:
URL:https://play.landmarkhospitality.com/event/rob-lanter-duo-4/
LOCATION:Logan Inn\, 10 W Ferry St\, New Hope\, PA\, 18938\, United States
CATEGORIES:Logan Inn Music Lineup
END:VEVENT
BEGIN:VEVENT
DTSTART;TZID=America/New_York:20250605T180000
DTEND;TZID=America/New_York:20250605T210000
DTSTAMP:20260423T211233
CREATED:20250603T152728Z
LAST-MODIFIED:20250603T152728Z
UID:18209-1749146400-1749157200@play.landmarkhospitality.com
SUMMARY:Springlight Jazz
DESCRIPTION:
URL:https://play.landmarkhospitality.com/event/springlight-jazz-4/
LOCATION:Stone House\, 50 Stirling Road\, Warren\, NJ\, 07059\, United States
CATEGORIES:Stone House Music Lineup
END:VEVENT
END:VCALENDAR