BEGIN:VCALENDAR
VERSION:2.0
PRODID:-//Play @ Landmark Hospitality - ECPv6.7.0//NONSGML v1.0//EN
CALSCALE:GREGORIAN
METHOD:PUBLISH
X-WR-CALNAME:Play @ Landmark Hospitality
X-ORIGINAL-URL:https://play.landmarkhospitality.com
X-WR-CALDESC:Events for Play @ Landmark Hospitality
REFRESH-INTERVAL;VALUE=DURATION:PT1H
X-Robots-Tag:noindex
X-PUBLISHED-TTL:PT1H
BEGIN:VTIMEZONE
TZID:America/New_York
BEGIN:DAYLIGHT
TZOFFSETFROM:-0500
TZOFFSETTO:-0400
TZNAME:EDT
DTSTART:20250309T070000
END:DAYLIGHT
BEGIN:STANDARD
TZOFFSETFROM:-0400
TZOFFSETTO:-0500
TZNAME:EST
DTSTART:20251102T060000
END:STANDARD
END:VTIMEZONE
BEGIN:VEVENT
DTSTART;TZID=America/New_York:20250703T183000
DTEND;TZID=America/New_York:20250703T213000
DTSTAMP:20260421T194210
CREATED:20250627T193055Z
LAST-MODIFIED:20250630T134637Z
UID:18688-1751567400-1751578200@play.landmarkhospitality.com
SUMMARY:The Burners
DESCRIPTION:
URL:https://play.landmarkhospitality.com/event/the-burners-22/
LOCATION:Felina Steak South Orange\, 101 W South Orange Ave\, South Orange\, 07079\, United States
CATEGORIES:Felina Steak Music Lineup
END:VEVENT
BEGIN:VEVENT
DTSTART;TZID=America/New_York:20250703T183000
DTEND;TZID=America/New_York:20250703T213000
DTSTAMP:20260421T194210
CREATED:20250611T133143Z
LAST-MODIFIED:20250611T133143Z
UID:18388-1751567400-1751578200@play.landmarkhospitality.com
SUMMARY:Duprees Diamonds
DESCRIPTION:
URL:https://play.landmarkhospitality.com/event/duprees-diamonds-2/
LOCATION:The Albion Summit\, 570 Springfield Ave\, Summit\, NJ\, 07901\, United States
CATEGORIES:The Albion Summit Music Lineup
END:VEVENT
BEGIN:VEVENT
DTSTART;TZID=America/New_York:20250703T180000
DTEND;TZID=America/New_York:20250703T210000
DTSTAMP:20260421T194210
CREATED:20250702T195021Z
LAST-MODIFIED:20250702T195021Z
UID:18852-1751565600-1751576400@play.landmarkhospitality.com
SUMMARY:Jumper Duo
DESCRIPTION:
URL:https://play.landmarkhospitality.com/event/jumper-duo-7/
LOCATION:Logan Inn\, 10 W Ferry St\, New Hope\, PA\, 18938\, United States
CATEGORIES:Logan Inn Music Lineup
END:VEVENT
BEGIN:VEVENT
DTSTART;TZID=America/New_York:20250703T170000
DTEND;TZID=America/New_York:20250703T200000
DTSTAMP:20260421T194210
CREATED:20250702T195354Z
LAST-MODIFIED:20250702T195354Z
UID:18856-1751562000-1751572800@play.landmarkhospitality.com
SUMMARY:Todd Cobbs Duo
DESCRIPTION:
URL:https://play.landmarkhospitality.com/event/todd-cobbs-duo-4/
LOCATION:Stone House\, 50 Stirling Road\, Warren\, NJ\, 07059\, United States
CATEGORIES:Stone House Music Lineup
END:VEVENT
BEGIN:VEVENT
DTSTART;TZID=America/New_York:20250702T180000
DTEND;TZID=America/New_York:20250702T210000
DTSTAMP:20260421T194210
CREATED:20250702T194945Z
LAST-MODIFIED:20250702T194945Z
UID:18851-1751479200-1751490000@play.landmarkhospitality.com
SUMMARY:Stephen DiJoseph
DESCRIPTION:
URL:https://play.landmarkhospitality.com/event/stephen-dijoseph-3/
LOCATION:Logan Inn\, 10 W Ferry St\, New Hope\, PA\, 18938\, United States
CATEGORIES:Logan Inn Music Lineup
END:VEVENT
BEGIN:VEVENT
DTSTART;TZID=America/New_York:20250629T120000
DTEND;TZID=America/New_York:20250629T150000
DTSTAMP:20260421T194210
CREATED:20250626T135604Z
LAST-MODIFIED:20250626T135604Z
UID:18644-1751198400-1751209200@play.landmarkhospitality.com
SUMMARY:Mosaic Groove
DESCRIPTION:
URL:https://play.landmarkhospitality.com/event/mosaic-groove-7/
LOCATION:Stone House\, 50 Stirling Road\, Warren\, NJ\, 07059\, United States
CATEGORIES:Stone House Music Lineup
END:VEVENT
BEGIN:VEVENT
DTSTART;TZID=America/New_York:20250629T113000
DTEND;TZID=America/New_York:20250629T143000
DTSTAMP:20260421T194210
CREATED:20250625T174123Z
LAST-MODIFIED:20250625T174123Z
UID:18614-1751196600-1751207400@play.landmarkhospitality.com
SUMMARY:Lambertville Jazz
DESCRIPTION:
URL:https://play.landmarkhospitality.com/event/lambertville-jazz-8/
LOCATION:Logan Inn\, 10 W Ferry St\, New Hope\, PA\, 18938\, United States
CATEGORIES:Logan Inn Music Lineup
END:VEVENT
BEGIN:VEVENT
DTSTART;TZID=America/New_York:20250628T200000
DTEND;TZID=America/New_York:20250628T200000
DTSTAMP:20260421T194210
CREATED:20250512T151725Z
LAST-MODIFIED:20250512T151957Z
UID:17863-1751140800-1751140800@play.landmarkhospitality.com
SUMMARY:Gen X Mixer
DESCRIPTION:
URL:https://play.landmarkhospitality.com/event/gen-x-mixer-4/
LOCATION:Anzu Social\, 9 S Main St\, New Hope\, PA\, 18938\, United States
CATEGORIES:Mansion Inn Music Lineup
END:VEVENT
BEGIN:VEVENT
DTSTART;TZID=America/New_York:20250628T190000
DTEND;TZID=America/New_York:20250628T220000
DTSTAMP:20260421T194210
CREATED:20250626T135527Z
LAST-MODIFIED:20250626T135527Z
UID:18643-1751137200-1751148000@play.landmarkhospitality.com
SUMMARY:Glenn & Oria
DESCRIPTION:
URL:https://play.landmarkhospitality.com/event/glenn-oria-26/
LOCATION:Stone House\, 50 Stirling Road\, Warren\, NJ\, 07059\, United States
CATEGORIES:Stone House Music Lineup
END:VEVENT
BEGIN:VEVENT
DTSTART;TZID=America/New_York:20250628T190000
DTEND;TZID=America/New_York:20250628T220000
DTSTAMP:20260421T194210
CREATED:20250625T174053Z
LAST-MODIFIED:20250625T174053Z
UID:18613-1751137200-1751148000@play.landmarkhospitality.com
SUMMARY:Alan Okun Trio
DESCRIPTION:
URL:https://play.landmarkhospitality.com/event/alan-okun-trio-2/
LOCATION:Logan Inn\, 10 W Ferry St\, New Hope\, PA\, 18938\, United States
CATEGORIES:Logan Inn Music Lineup
END:VEVENT
BEGIN:VEVENT
DTSTART;TZID=America/New_York:20250628T190000
DTEND;TZID=America/New_York:20250628T220000
DTSTAMP:20260421T194210
CREATED:20250611T133050Z
LAST-MODIFIED:20250611T133050Z
UID:18387-1751137200-1751148000@play.landmarkhospitality.com
SUMMARY:Kate Baker
DESCRIPTION:
URL:https://play.landmarkhospitality.com/event/kate-baker-4/
LOCATION:The Albion Summit\, 570 Springfield Ave\, Summit\, NJ\, 07901\, United States
CATEGORIES:The Albion Summit Music Lineup
END:VEVENT
BEGIN:VEVENT
DTSTART;TZID=America/New_York:20250628T183000
DTEND;TZID=America/New_York:20250628T213000
DTSTAMP:20260421T194210
CREATED:20250627T192931Z
LAST-MODIFIED:20250627T193012Z
UID:18687-1751135400-1751146200@play.landmarkhospitality.com
SUMMARY:Sarah Hodd & The Drive
DESCRIPTION:
URL:https://play.landmarkhospitality.com/event/joe-rizzolo-trio-3/
LOCATION:Felina Steak South Orange\, 101 W South Orange Ave\, South Orange\, 07079\, United States
CATEGORIES:Felina Steak Music Lineup,Felina Steak South Orange
END:VEVENT
BEGIN:VEVENT
DTSTART;TZID=America/New_York:20250628T140000
DTEND;TZID=America/New_York:20250628T160000
DTSTAMP:20260421T194210
CREATED:20250505T162258Z
LAST-MODIFIED:20250702T133315Z
UID:17508-1751119200-1751126400@play.landmarkhospitality.com
SUMMARY:Maddy Rose Garden Party Sponsored by Kettle One Botanicals & St~Germain
DESCRIPTION:The flowers are blooming\, and so is our Maddy Rose Garden Party sponsored by Ketel One Botanicals & St~Germain! Cocktails will be flowing as you unwind in our gardens & charming cabanas while taking in the best view of the NYC skyline! \nWith breathtaking views of the NYC skyline\, your ticket includes: \n\nUnlimited Ketel One cocktails & rosé\nPassed lite bites\nLive DJ\nSwag & giveaways\nPhoto ops & activations
URL:https://play.landmarkhospitality.com/event/maddy-rose-garden-party-sponsored-by-kettle-one/
LOCATION:Maddy Rose Restaurant at Liberty House\, 76 Audrey Zapp Dr\, Jersey City\, NJ\, 07305\, United States
CATEGORIES:Maddy Rose Restaurant at Liberty House
ATTACH;FMTTYPE=image/png:https://play.landmarkhospitality.com/wp-content/uploads/2025/05/shop-graphics-10.png
END:VEVENT
BEGIN:VEVENT
DTSTART;TZID=America/New_York:20250627T190000
DTEND;TZID=America/New_York:20250627T220000
DTSTAMP:20260421T194210
CREATED:20250626T135459Z
LAST-MODIFIED:20250626T135459Z
UID:18642-1751050800-1751061600@play.landmarkhospitality.com
SUMMARY:Chaplin-Fortunato
DESCRIPTION:
URL:https://play.landmarkhospitality.com/event/chaplin-fortunato-5/
LOCATION:Stone House\, 50 Stirling Road\, Warren\, NJ\, 07059\, United States
CATEGORIES:Stone House Music Lineup
END:VEVENT
BEGIN:VEVENT
DTSTART;TZID=America/New_York:20250627T190000
DTEND;TZID=America/New_York:20250627T220000
DTSTAMP:20260421T194210
CREATED:20250625T174018Z
LAST-MODIFIED:20250625T174018Z
UID:18612-1751050800-1751061600@play.landmarkhospitality.com
SUMMARY:Omeed Nyman Trio
DESCRIPTION:
URL:https://play.landmarkhospitality.com/event/omeed-nyman-trio-16/
LOCATION:Logan Inn\, 10 W Ferry St\, New Hope\, PA\, 18938\, United States
CATEGORIES:Logan Inn Music Lineup
END:VEVENT
BEGIN:VEVENT
DTSTART;TZID=America/New_York:20250627T190000
DTEND;TZID=America/New_York:20250627T220000
DTSTAMP:20260421T194210
CREATED:20250611T132930Z
LAST-MODIFIED:20250611T132930Z
UID:18386-1751050800-1751061600@play.landmarkhospitality.com
SUMMARY:Joe Rizzolo Trio
DESCRIPTION:
URL:https://play.landmarkhospitality.com/event/joe-rizzolo-trio-2/
LOCATION:The Albion Summit\, 570 Springfield Ave\, Summit\, NJ\, 07901\, United States
CATEGORIES:The Albion Summit Music Lineup
END:VEVENT
BEGIN:VEVENT
DTSTART;TZID=America/New_York:20250627T183000
DTEND;TZID=America/New_York:20250627T213000
DTSTAMP:20260421T194210
CREATED:20250627T192842Z
LAST-MODIFIED:20250627T192842Z
UID:18686-1751049000-1751059800@play.landmarkhospitality.com
SUMMARY:Glenn & Oria
DESCRIPTION:
URL:https://play.landmarkhospitality.com/event/glenn-oria-27/
LOCATION:Felina Steak South Orange\, 101 W South Orange Ave\, South Orange\, 07079\, United States
CATEGORIES:Felina Steak South Orange
END:VEVENT
BEGIN:VEVENT
DTSTART;TZID=America/New_York:20250626T183000
DTEND;TZID=America/New_York:20250626T213000
DTSTAMP:20260421T194210
CREATED:20250626T135430Z
LAST-MODIFIED:20250626T135430Z
UID:18641-1750962600-1750973400@play.landmarkhospitality.com
SUMMARY:Maribyrd Duo
DESCRIPTION:
URL:https://play.landmarkhospitality.com/event/maribyrd-duo-2/
LOCATION:Stone House\, 50 Stirling Road\, Warren\, NJ\, 07059\, United States
CATEGORIES:Stone House Music Lineup
END:VEVENT
BEGIN:VEVENT
DTSTART;TZID=America/New_York:20250626T180000
DTEND;TZID=America/New_York:20250626T210000
DTSTAMP:20260421T194210
CREATED:20250625T173941Z
LAST-MODIFIED:20250625T173941Z
UID:18611-1750960800-1750971600@play.landmarkhospitality.com
SUMMARY:David Maida
DESCRIPTION:
URL:https://play.landmarkhospitality.com/event/david-maida/
LOCATION:Logan Inn\, 10 W Ferry St\, New Hope\, PA\, 18938\, United States
CATEGORIES:Logan Inn Music Lineup
END:VEVENT
BEGIN:VEVENT
DTSTART;TZID=America/New_York:20250625T180000
DTEND;TZID=America/New_York:20250625T210000
DTSTAMP:20260421T194210
CREATED:20250625T173912Z
LAST-MODIFIED:20250625T173912Z
UID:18610-1750874400-1750885200@play.landmarkhospitality.com
SUMMARY:Ed Wall
DESCRIPTION:
URL:https://play.landmarkhospitality.com/event/ed-wall-7/
LOCATION:Logan Inn\, 10 W Ferry St\, New Hope\, PA\, 18938\, United States
CATEGORIES:Logan Inn Music Lineup
END:VEVENT
BEGIN:VEVENT
DTSTART;TZID=America/New_York:20250624T200000
DTEND;TZID=America/New_York:20250624T230000
DTSTAMP:20260421T194210
CREATED:20250512T151144Z
LAST-MODIFIED:20250512T151144Z
UID:17858-1750795200-1750806000@play.landmarkhospitality.com
SUMMARY:New Moon Party
DESCRIPTION:
URL:https://play.landmarkhospitality.com/event/new-moon-party-2/
LOCATION:Anzu Social\, 9 S Main St\, New Hope\, PA\, 18938\, United States
CATEGORIES:Mansion Inn Music Lineup
END:VEVENT
BEGIN:VEVENT
DTSTART;TZID=America/New_York:20250622T120000
DTEND;TZID=America/New_York:20250622T150000
DTSTAMP:20260421T194210
CREATED:20250616T165918Z
LAST-MODIFIED:20250616T165918Z
UID:18491-1750593600-1750604400@play.landmarkhospitality.com
SUMMARY:Alex Saunders Trio
DESCRIPTION:
URL:https://play.landmarkhospitality.com/event/alex-saunders-trio-9/
LOCATION:Stone House\, 50 Stirling Road\, Warren\, NJ\, 07059\, United States
CATEGORIES:Stone House Music Lineup
END:VEVENT
BEGIN:VEVENT
DTSTART;TZID=America/New_York:20250622T113000
DTEND;TZID=America/New_York:20250622T143000
DTSTAMP:20260421T194210
CREATED:20250616T165706Z
LAST-MODIFIED:20250616T165706Z
UID:18487-1750591800-1750602600@play.landmarkhospitality.com
SUMMARY:Marius Luigi Nicolae
DESCRIPTION:
URL:https://play.landmarkhospitality.com/event/marius-luigi-nicolae-8/
LOCATION:Logan Inn\, 10 W Ferry St\, New Hope\, PA\, 18938\, United States
CATEGORIES:Logan Inn Music Lineup
END:VEVENT
BEGIN:VEVENT
DTSTART;TZID=America/New_York:20250621T200000
DTEND;TZID=America/New_York:20250621T200000
DTSTAMP:20260421T194210
CREATED:20250512T151522Z
LAST-MODIFIED:20250512T151627Z
UID:17862-1750536000-1750536000@play.landmarkhospitality.com
SUMMARY:Pride Party
DESCRIPTION:
URL:https://play.landmarkhospitality.com/event/pride-party-3/
LOCATION:Anzu Social\, 9 S Main St\, New Hope\, PA\, 18938\, United States
CATEGORIES:Mansion Inn Music Lineup
END:VEVENT
BEGIN:VEVENT
DTSTART;TZID=America/New_York:20250621T190000
DTEND;TZID=America/New_York:20250621T220000
DTSTAMP:20260421T194210
CREATED:20250619T140102Z
LAST-MODIFIED:20250619T140553Z
UID:18549-1750532400-1750543200@play.landmarkhospitality.com
SUMMARY:Karen Payne
DESCRIPTION:
URL:https://play.landmarkhospitality.com/event/karen-payne-11/
LOCATION:The Albion Summit\, 570 Springfield Ave\, Summit\, NJ\, 07901\, United States
CATEGORIES:The Albion Summit Music Lineup
END:VEVENT
BEGIN:VEVENT
DTSTART;TZID=America/New_York:20250621T190000
DTEND;TZID=America/New_York:20250621T220000
DTSTAMP:20260421T194210
CREATED:20250616T165847Z
LAST-MODIFIED:20250616T165847Z
UID:18490-1750532400-1750543200@play.landmarkhospitality.com
SUMMARY:Nick Schueble Trio
DESCRIPTION:
URL:https://play.landmarkhospitality.com/event/nick-schueble-trio-2/
LOCATION:Stone House\, 50 Stirling Road\, Warren\, NJ\, 07059\, United States
CATEGORIES:Stone House Music Lineup
END:VEVENT
BEGIN:VEVENT
DTSTART;TZID=America/New_York:20250621T190000
DTEND;TZID=America/New_York:20250621T220000
DTSTAMP:20260421T194210
CREATED:20250616T165634Z
LAST-MODIFIED:20250616T165634Z
UID:18486-1750532400-1750543200@play.landmarkhospitality.com
SUMMARY:Keith Franklin Quartet
DESCRIPTION:
URL:https://play.landmarkhospitality.com/event/keith-franklin-quartet-9/
LOCATION:Logan Inn\, 10 W Ferry St\, New Hope\, PA\, 18938\, United States
CATEGORIES:Logan Inn Music Lineup
END:VEVENT
BEGIN:VEVENT
DTSTART;TZID=America/New_York:20250621T190000
DTEND;TZID=America/New_York:20250621T210000
DTSTAMP:20260421T194210
CREATED:20250403T164034Z
LAST-MODIFIED:20250618T170634Z
UID:16781-1750532400-1750539600@play.landmarkhospitality.com
SUMMARY:Beer\, Bocce\, & Burgers with Twin Elephant Brewing Co.
DESCRIPTION:Come out for a fun-filled evening of friendly competition\, delicious food\, and refreshing brews! We’re bringing together the perfect combination of bocce\, passed sliders\, and craft beer from Twin Elephant Brewing Company. Whether you’re a bocce champ or just here for the fun\, we’ve got everything you need for an unforgettable time.
URL:https://play.landmarkhospitality.com/event/beer-bocce-burgers-with-twin-elephant-brewing-co/
LOCATION:Stone House\, 50 Stirling Road\, Warren\, NJ\, 07059\, United States
CATEGORIES:Stone House
ATTACH;FMTTYPE=image/png:https://play.landmarkhospitality.com/wp-content/uploads/2025/04/shop-graphics-18.png
END:VEVENT
BEGIN:VEVENT
DTSTART;TZID=America/New_York:20250620T190000
DTEND;TZID=America/New_York:20250620T220000
DTSTAMP:20260421T194210
CREATED:20250619T135955Z
LAST-MODIFIED:20250619T135955Z
UID:18548-1750446000-1750456800@play.landmarkhospitality.com
SUMMARY:Burnt Leftovers
DESCRIPTION:
URL:https://play.landmarkhospitality.com/event/burnt-leftovers-3/
LOCATION:The Albion Summit\, 570 Springfield Ave\, Summit\, NJ\, 07901\, United States
CATEGORIES:The Albion Summit Music Lineup
END:VEVENT
BEGIN:VEVENT
DTSTART;TZID=America/New_York:20250620T190000
DTEND;TZID=America/New_York:20250620T220000
DTSTAMP:20260421T194210
CREATED:20250616T165813Z
LAST-MODIFIED:20250616T165813Z
UID:18489-1750446000-1750456800@play.landmarkhospitality.com
SUMMARY:David Easton Duo
DESCRIPTION:
URL:https://play.landmarkhospitality.com/event/david-easton-duo-6/
LOCATION:Stone House\, 50 Stirling Road\, Warren\, NJ\, 07059\, United States
CATEGORIES:Stone House Music Lineup
END:VEVENT
END:VCALENDAR