BEGIN:VCALENDAR
VERSION:2.0
PRODID:-//Play @ Landmark Hospitality - ECPv6.7.0//NONSGML v1.0//EN
CALSCALE:GREGORIAN
METHOD:PUBLISH
X-WR-CALNAME:Play @ Landmark Hospitality
X-ORIGINAL-URL:https://play.landmarkhospitality.com
X-WR-CALDESC:Events for Play @ Landmark Hospitality
REFRESH-INTERVAL;VALUE=DURATION:PT1H
X-Robots-Tag:noindex
X-PUBLISHED-TTL:PT1H
BEGIN:VTIMEZONE
TZID:America/New_York
BEGIN:DAYLIGHT
TZOFFSETFROM:-0500
TZOFFSETTO:-0400
TZNAME:EDT
DTSTART:20250309T070000
END:DAYLIGHT
BEGIN:STANDARD
TZOFFSETFROM:-0400
TZOFFSETTO:-0500
TZNAME:EST
DTSTART:20251102T060000
END:STANDARD
END:VTIMEZONE
BEGIN:VEVENT
DTSTART;TZID=America/New_York:20250807T180000
DTEND;TZID=America/New_York:20250807T180000
DTSTAMP:20260422T021151
CREATED:20250717T205730Z
LAST-MODIFIED:20250806T204118Z
UID:19153-1754589600-1754589600@play.landmarkhospitality.com
SUMMARY:Stork Club Lounge at Ryland Inn Launch
DESCRIPTION:We’re excited to introduce our newest lounge at The Ryland Inn\, a perfect opportunity to explore and join the club secure and your cigar locker. \nActivations by Audi Bridgewater and more…
URL:https://play.landmarkhospitality.com/event/stork-club-lounge-at-ryland-inn-launch/
LOCATION:Ryland Inn\, 115 Old Hwy 28\, Whitehouse Station\, NJ\, 08889\, United States
CATEGORIES:Ryland Inn
ATTACH;FMTTYPE=image/png:https://play.landmarkhospitality.com/wp-content/uploads/2025/07/shop-graphics.png
END:VEVENT
BEGIN:VEVENT
DTSTART;TZID=America/New_York:20250807T173000
DTEND;TZID=America/New_York:20250807T173000
DTSTAMP:20260422T021151
CREATED:20250709T171734Z
LAST-MODIFIED:20250731T210410Z
UID:18959-1754587800-1754587800@play.landmarkhospitality.com
SUMMARY:A Feast for the Senses: A Natural Art Exhibition & Culinary Experience
DESCRIPTION:Step into an immersive evening where art meets the elements. Guests will be welcomed with a glass of champagne and guided into a curated experience in collaboration with Gallery Piquel of New Hope\, featuring the nature-inspired works of South Korean artist Sang Han. \nCelebrate textures\, earth tones\, and the organic beauty of natural art. Includes a three-course\, family-style dinner with two glasses of wine—thoughtfully selected by our Sommelier—and a fine cigar to enjoy in our garden courtyard! \nvegetarian and gluten-free options available
URL:https://play.landmarkhospitality.com/event/a-feast-for-the-senses-a-natural-art-exhibition-culinary-experience/
LOCATION:Anzu Social\, 9 S Main St\, New Hope\, PA\, 18938\, United States
CATEGORIES:Anzu Social
ATTACH;FMTTYPE=image/png:https://play.landmarkhospitality.com/wp-content/uploads/2025/07/SHOP-GRAPHIC-2.png
END:VEVENT
BEGIN:VEVENT
DTSTART;TZID=America/New_York:20250806T183000
DTEND;TZID=America/New_York:20250806T213000
DTSTAMP:20260422T021151
CREATED:20250806T124330Z
LAST-MODIFIED:20250806T124330Z
UID:19687-1754505000-1754515800@play.landmarkhospitality.com
SUMMARY:Karen Payne
DESCRIPTION:
URL:https://play.landmarkhospitality.com/event/karen-payne-15/
LOCATION:Ryland Inn\, 115 Old Hwy 28\, Whitehouse Station\, NJ\, 08889\, United States
CATEGORIES:Ryland Inn Music Lineup
END:VEVENT
BEGIN:VEVENT
DTSTART;TZID=America/New_York:20250806T180000
DTEND;TZID=America/New_York:20250806T210000
DTSTAMP:20260422T021151
CREATED:20250805T183533Z
LAST-MODIFIED:20250805T183533Z
UID:19672-1754503200-1754514000@play.landmarkhospitality.com
SUMMARY:Stephen DiJoseph
DESCRIPTION:
URL:https://play.landmarkhospitality.com/event/stephen-dijoseph-4/
LOCATION:Logan Inn\, 10 W Ferry St\, New Hope\, PA\, 18938\, United States
CATEGORIES:Logan Inn Music Lineup
END:VEVENT
BEGIN:VEVENT
DTSTART;TZID=America/New_York:20250806T180000
DTEND;TZID=America/New_York:20250806T200000
DTSTAMP:20260422T021151
CREATED:20250702T004903Z
LAST-MODIFIED:20250805T164951Z
UID:18828-1754503200-1754510400@play.landmarkhospitality.com
SUMMARY:Classic Cocktail Class
DESCRIPTION:Join us for a hands-on experience with our mixologist Jess Riff and learn to craft three timeless classic cocktails\, perfectly paired with a selection of summer-inspired lite bites. \nOur Mixologist’s Picks \nFrench Martini | Fords Gin\, Lilet Blanc\, Chambourds\, Pineapple Juice  \nNegroni  | Fords Gin\, Italicus\, Sweet Vermouth\, Campari  \nFrench 75 | Fords Gin\, Lemon Juice\, Pomegranate Juice\, Simple\, Prosecco. 
URL:https://play.landmarkhospitality.com/event/classic-cocktail-class/
LOCATION:The Albion Summit\, 570 Springfield Ave\, Summit\, NJ\, 07901\, United States
CATEGORIES:The Albion Summit
ATTACH;FMTTYPE=image/jpeg:https://play.landmarkhospitality.com/wp-content/uploads/2025/07/2d50e64c86f10428710838b30c7e8153.jpg
END:VEVENT
BEGIN:VEVENT
DTSTART;TZID=America/New_York:20250803T120000
DTEND;TZID=America/New_York:20250803T150000
DTSTAMP:20260422T021151
CREATED:20250729T135656Z
LAST-MODIFIED:20250729T135656Z
UID:19565-1754222400-1754233200@play.landmarkhospitality.com
SUMMARY:Scott McAllister Trio
DESCRIPTION:
URL:https://play.landmarkhospitality.com/event/scott-mcallister-trio-14/
LOCATION:Stone House\, 50 Stirling Road\, Warren\, NJ\, 07059\, United States
CATEGORIES:Stone House Music Lineup
END:VEVENT
BEGIN:VEVENT
DTSTART;TZID=America/New_York:20250803T113000
DTEND;TZID=America/New_York:20250803T143000
DTSTAMP:20260422T021151
CREATED:20250729T135423Z
LAST-MODIFIED:20250729T135423Z
UID:19561-1754220600-1754231400@play.landmarkhospitality.com
SUMMARY:Java Sway Quartet
DESCRIPTION:
URL:https://play.landmarkhospitality.com/event/java-sway-quartet/
LOCATION:Logan Inn\, 10 W Ferry St\, New Hope\, PA\, 18938\, United States
CATEGORIES:Logan Inn Music Lineup
END:VEVENT
BEGIN:VEVENT
DTSTART;TZID=America/New_York:20250802T190000
DTEND;TZID=America/New_York:20250802T220000
DTSTAMP:20260422T021151
CREATED:20250730T145637Z
LAST-MODIFIED:20250730T145637Z
UID:19587-1754161200-1754172000@play.landmarkhospitality.com
SUMMARY:The Rizzolution
DESCRIPTION:
URL:https://play.landmarkhospitality.com/event/the-rizzolution-4/
LOCATION:The Albion Summit\, 570 Springfield Ave\, Summit\, NJ\, 07901\, United States
CATEGORIES:The Albion Summit Music Lineup
END:VEVENT
BEGIN:VEVENT
DTSTART;TZID=America/New_York:20250802T190000
DTEND;TZID=America/New_York:20250802T220000
DTSTAMP:20260422T021151
CREATED:20250729T135624Z
LAST-MODIFIED:20250729T135624Z
UID:19564-1754161200-1754172000@play.landmarkhospitality.com
SUMMARY:Kate Baker Trio
DESCRIPTION:
URL:https://play.landmarkhospitality.com/event/kate-baker-trio-22/
LOCATION:Stone House\, 50 Stirling Road\, Warren\, NJ\, 07059\, United States
CATEGORIES:Stone House Music Lineup
END:VEVENT
BEGIN:VEVENT
DTSTART;TZID=America/New_York:20250802T190000
DTEND;TZID=America/New_York:20250802T220000
DTSTAMP:20260422T021151
CREATED:20250729T135357Z
LAST-MODIFIED:20250729T135357Z
UID:19560-1754161200-1754172000@play.landmarkhospitality.com
SUMMARY:Mosaic Groove
DESCRIPTION:
URL:https://play.landmarkhospitality.com/event/mosaic-groove-8/
LOCATION:Logan Inn\, 10 W Ferry St\, New Hope\, PA\, 18938\, United States
CATEGORIES:Logan Inn Music Lineup
END:VEVENT
BEGIN:VEVENT
DTSTART;TZID=America/New_York:20250801T190000
DTEND;TZID=America/New_York:20250801T220000
DTSTAMP:20260422T021151
CREATED:20250730T145506Z
LAST-MODIFIED:20250730T145506Z
UID:19586-1754074800-1754085600@play.landmarkhospitality.com
SUMMARY:Todd Cobbs Duo
DESCRIPTION:
URL:https://play.landmarkhospitality.com/event/todd-cobbs-duo-5/
LOCATION:The Albion Summit\, 570 Springfield Ave\, Summit\, NJ\, 07901\, United States
CATEGORIES:The Albion Summit Music Lineup
END:VEVENT
BEGIN:VEVENT
DTSTART;TZID=America/New_York:20250801T190000
DTEND;TZID=America/New_York:20250801T220000
DTSTAMP:20260422T021151
CREATED:20250729T135554Z
LAST-MODIFIED:20250729T135554Z
UID:19563-1754074800-1754085600@play.landmarkhospitality.com
SUMMARY:Mrs. Eller & The Fellers
DESCRIPTION:
URL:https://play.landmarkhospitality.com/event/mrs-eller-the-fellers-3/
LOCATION:Stone House\, 50 Stirling Road\, Warren\, NJ\, 07059\, United States
CATEGORIES:Logan Inn Music Lineup
END:VEVENT
BEGIN:VEVENT
DTSTART;TZID=America/New_York:20250801T190000
DTEND;TZID=America/New_York:20250801T220000
DTSTAMP:20260422T021151
CREATED:20250729T135331Z
LAST-MODIFIED:20250729T135331Z
UID:19559-1754074800-1754085600@play.landmarkhospitality.com
SUMMARY:The Traveling Soleburys
DESCRIPTION:
URL:https://play.landmarkhospitality.com/event/the-traveling-soleburys/
LOCATION:Logan Inn\, 10 W Ferry St\, New Hope\, PA\, 18938\, United States
CATEGORIES:Logan Inn Music Lineup
END:VEVENT
BEGIN:VEVENT
DTSTART;TZID=America/New_York:20250801T183000
DTEND;TZID=America/New_York:20250801T213000
DTSTAMP:20260422T021151
CREATED:20250730T145301Z
LAST-MODIFIED:20250730T145301Z
UID:19585-1754073000-1754083800@play.landmarkhospitality.com
SUMMARY:Nat Janoff Trio
DESCRIPTION:
URL:https://play.landmarkhospitality.com/event/nat-janoff-trio-2/
LOCATION:Felina Steak South Orange\, 101 S Orange Ave\, South Orange\, NJ\, 07079\, United States
CATEGORIES:Felina Steak South Orange Music Lineup
END:VEVENT
BEGIN:VEVENT
DTSTART;TZID=America/New_York:20250731T183000
DTEND;TZID=America/New_York:20250731T213000
DTSTAMP:20260422T021151
CREATED:20250730T145130Z
LAST-MODIFIED:20250730T145130Z
UID:19584-1753986600-1753997400@play.landmarkhospitality.com
SUMMARY:Randy & River
DESCRIPTION:
URL:https://play.landmarkhospitality.com/event/randy-river/
LOCATION:The Albion Summit\, 570 Springfield Ave\, Summit\, NJ\, 07901\, United States
CATEGORIES:The Albion Summit Music Lineup
END:VEVENT
BEGIN:VEVENT
DTSTART;TZID=America/New_York:20250731T183000
DTEND;TZID=America/New_York:20250731T213000
DTSTAMP:20260422T021151
CREATED:20250729T135524Z
LAST-MODIFIED:20250729T135524Z
UID:19562-1753986600-1753997400@play.landmarkhospitality.com
SUMMARY:Karen Payne
DESCRIPTION:
URL:https://play.landmarkhospitality.com/event/karen-payne-13/
LOCATION:Stone House\, 50 Stirling Road\, Warren\, NJ\, 07059\, United States
CATEGORIES:Stone House Music Lineup
END:VEVENT
BEGIN:VEVENT
DTSTART;TZID=America/New_York:20250731T180000
DTEND;TZID=America/New_York:20250731T210000
DTSTAMP:20260422T021151
CREATED:20250730T145023Z
LAST-MODIFIED:20250730T145023Z
UID:19583-1753984800-1753995600@play.landmarkhospitality.com
SUMMARY:BD Lenz Duo
DESCRIPTION:
URL:https://play.landmarkhospitality.com/event/bd-lenz-duo-3/
LOCATION:Felina Steak South Orange\, 101 W South Orange Ave\, South Orange\, 07079\, United States
CATEGORIES:Felina Steak South Orange Music Lineup
END:VEVENT
BEGIN:VEVENT
DTSTART;TZID=America/New_York:20250731T180000
DTEND;TZID=America/New_York:20250731T210000
DTSTAMP:20260422T021151
CREATED:20250729T135258Z
LAST-MODIFIED:20250729T135258Z
UID:19558-1753984800-1753995600@play.landmarkhospitality.com
SUMMARY:Jumper Duo
DESCRIPTION:
URL:https://play.landmarkhospitality.com/event/jumper-duo-8/
LOCATION:Logan Inn\, 10 W Ferry St\, New Hope\, PA\, 18938\, United States
CATEGORIES:Logan Inn Music Lineup
END:VEVENT
BEGIN:VEVENT
DTSTART;TZID=America/New_York:20250730T180000
DTEND;TZID=America/New_York:20250730T210000
DTSTAMP:20260422T021151
CREATED:20250729T135230Z
LAST-MODIFIED:20250729T135230Z
UID:19557-1753898400-1753909200@play.landmarkhospitality.com
SUMMARY:Robert Lanter
DESCRIPTION:
URL:https://play.landmarkhospitality.com/event/robert-lanter-2/
LOCATION:Logan Inn\, 10 W Ferry St\, New Hope\, PA\, 18938\, United States
CATEGORIES:Logan Inn Music Lineup
END:VEVENT
BEGIN:VEVENT
DTSTART;TZID=America/New_York:20250727T120000
DTEND;TZID=America/New_York:20250727T150000
DTSTAMP:20260422T021151
CREATED:20250722T204920Z
LAST-MODIFIED:20250722T204920Z
UID:19267-1753617600-1753628400@play.landmarkhospitality.com
SUMMARY:Abe Ovadia Duo
DESCRIPTION:
URL:https://play.landmarkhospitality.com/event/abe-ovadia-duo/
LOCATION:Stone House\, 50 Stirling Road\, Warren\, NJ\, 07059\, United States
CATEGORIES:Stone House Music Lineup
END:VEVENT
BEGIN:VEVENT
DTSTART;TZID=America/New_York:20250727T113000
DTEND;TZID=America/New_York:20250727T143000
DTSTAMP:20260422T021151
CREATED:20250722T204420Z
LAST-MODIFIED:20250722T204420Z
UID:19241-1753615800-1753626600@play.landmarkhospitality.com
SUMMARY:Keith Franklin
DESCRIPTION:
URL:https://play.landmarkhospitality.com/event/keith-franklin/
LOCATION:Logan Inn\, 10 W Ferry St\, New Hope\, PA\, 18938\, United States
CATEGORIES:Logan Inn Music Lineup
END:VEVENT
BEGIN:VEVENT
DTSTART;TZID=America/New_York:20250726T190000
DTEND;TZID=America/New_York:20250726T220000
DTSTAMP:20260422T021151
CREATED:20250722T204836Z
LAST-MODIFIED:20250722T204836Z
UID:19263-1753556400-1753567200@play.landmarkhospitality.com
SUMMARY:Blue Soul
DESCRIPTION:
URL:https://play.landmarkhospitality.com/event/blue-soul-10/
LOCATION:Stone House\, 50 Stirling Road\, Warren\, NJ\, 07059\, United States
CATEGORIES:Stone House Music Lineup
END:VEVENT
BEGIN:VEVENT
DTSTART;TZID=America/New_York:20250726T190000
DTEND;TZID=America/New_York:20250726T220000
DTSTAMP:20260422T021151
CREATED:20250722T204335Z
LAST-MODIFIED:20250722T204335Z
UID:19240-1753556400-1753567200@play.landmarkhospitality.com
SUMMARY:Scott Mcallister Trio
DESCRIPTION:
URL:https://play.landmarkhospitality.com/event/scott-mcallister-trio-13/
LOCATION:Logan Inn\, 10 W Ferry St\, New Hope\, PA\, 18938\, United States
CATEGORIES:Logan Inn Music Lineup
END:VEVENT
BEGIN:VEVENT
DTSTART;TZID=America/New_York:20250725T190000
DTEND;TZID=America/New_York:20250725T220000
DTSTAMP:20260422T021151
CREATED:20250722T204744Z
LAST-MODIFIED:20250722T204744Z
UID:19257-1753470000-1753480800@play.landmarkhospitality.com
SUMMARY:Nat Janoff Trio
DESCRIPTION:
URL:https://play.landmarkhospitality.com/event/nat-janoff-trio/
LOCATION:Stone House\, 50 Stirling Road\, Warren\, NJ\, 07059\, United States
CATEGORIES:Stone House Music Lineup
END:VEVENT
BEGIN:VEVENT
DTSTART;TZID=America/New_York:20250725T190000
DTEND;TZID=America/New_York:20250725T220000
DTSTAMP:20260422T021151
CREATED:20250722T204232Z
LAST-MODIFIED:20250722T204232Z
UID:19234-1753470000-1753480800@play.landmarkhospitality.com
SUMMARY:Omeed Nyman Trio
DESCRIPTION:
URL:https://play.landmarkhospitality.com/event/omeed-nyman-trio-17/
LOCATION:Logan Inn\, 10 W Ferry St\, New Hope\, PA\, 18938\, United States
CATEGORIES:Logan Inn Music Lineup
END:VEVENT
BEGIN:VEVENT
DTSTART;TZID=America/New_York:20250724T190000
DTEND;TZID=America/New_York:20250724T210000
DTSTAMP:20260422T021151
CREATED:20250612T133610Z
LAST-MODIFIED:20250723T173538Z
UID:18396-1753383600-1753390800@play.landmarkhospitality.com
SUMMARY:New England Clam Bake at Felina Ridgewood
DESCRIPTION:Let the Good Times Boil! \n\n\nJoin us at Felina Ridgewood for a festive New England Clam Bake—a seafood feast served family-style and paired with a curated selection of wines and local craft beers. \n\n\nThe Menu Includes: \n\n\n\nIndividual Lobster (1 lb)\, Clams\, Mussels\, Red Bliss Potatoes\, Corn on the Cob\n\n\n\n\nTable-Shared Peel-and-Eat Shrimp Bowl\n\n\n\n\nFamily-Style Sides: Coleslaw\, Potato Salad\, Mac & Cheese\, Garlic Bread\n\n\n\n\nDessert: Blueberry Cobbler\n\n\n\nGather your friends and bring your appetite—this summer tradition is not to be missed!
URL:https://play.landmarkhospitality.com/event/new-england-clam-bake-at-felina-ridgewood/
LOCATION:Felina Ridgewood\, 18 Prospect St\, Ridgewood\, NJ\, 07450\, United States
CATEGORIES:Felina Ridgewood
ATTACH;FMTTYPE=image/jpeg:https://play.landmarkhospitality.com/wp-content/uploads/2025/06/seafood-boil-stone-house-1536x864-1.jpg
END:VEVENT
BEGIN:VEVENT
DTSTART;TZID=America/New_York:20250724T190000
DTEND;TZID=America/New_York:20250724T210000
DTSTAMP:20260422T021151
CREATED:20250521T205946Z
LAST-MODIFIED:20250724T171236Z
UID:17999-1753383600-1753390800@play.landmarkhospitality.com
SUMMARY:First Annual Ryland Inn Pig Roast Dinner
DESCRIPTION:Savor Summer at Ryland Inn’s First Annual Pig Roast! Join us on the Grand Ballroom Patio for a feast of flavors—slow-roasted pork\, Whistle Pig cocktails\, Michter’s whiskey tasting\, and crisp Miraval rosé wine. It’s the perfect summer event to eat\, sip\, and soak up the season! \nMenu \n\nWhole Roasted Pigs from Fossil Farms\, NJ\nSmoked BBQ Chicken\n\nCold Sides\nMarinated Bean and Grain Salad\nPickled Coleslaw\nSliced Watermelon\nMarinated Melon salad\nYukon Gold Potato Salad\n\nHot Sides\nJalapeno Cornbread with Honey Butter\nHot Buttered Corn on the Cob\nSouthern Style Collard Greens\nMac n Cheese\n\nDessert\nOld school Banana Puddin’\nSliced Watermelon\n\n*Bottles available for purchase*
URL:https://play.landmarkhospitality.com/event/first-annual-ryland-inn-pig-roast-dinner/
LOCATION:Ryland Inn\, 115 Old Hwy 28\, Whitehouse Station\, NJ\, 08889\, United States
CATEGORIES:Ryland Inn
ATTACH;FMTTYPE=image/png:https://play.landmarkhospitality.com/wp-content/uploads/2025/05/165-1.png
END:VEVENT
BEGIN:VEVENT
DTSTART;TZID=America/New_York:20250724T183000
DTEND;TZID=America/New_York:20250724T213000
DTSTAMP:20260422T021151
CREATED:20250722T204709Z
LAST-MODIFIED:20250722T204709Z
UID:19256-1753381800-1753392600@play.landmarkhospitality.com
SUMMARY:Joe Taino Trio
DESCRIPTION:
URL:https://play.landmarkhospitality.com/event/joe-taino-trio-10/
LOCATION:Stone House\, 50 Stirling Road\, Warren\, NJ\, 07059\, United States
CATEGORIES:Stone House Music Lineup
END:VEVENT
BEGIN:VEVENT
DTSTART;TZID=America/New_York:20250724T183000
DTEND;TZID=America/New_York:20250724T213000
DTSTAMP:20260422T021151
CREATED:20250627T194126Z
LAST-MODIFIED:20250627T194126Z
UID:18699-1753381800-1753392600@play.landmarkhospitality.com
SUMMARY:Eddie Monteiro
DESCRIPTION:
URL:https://play.landmarkhospitality.com/event/eddie-monteiro/
LOCATION:The Albion Summit\, 570 Springfield Ave\, Summit\, NJ\, 07901\, United States
CATEGORIES:The Albion Summit Music Lineup
END:VEVENT
BEGIN:VEVENT
DTSTART;TZID=America/New_York:20250724T180000
DTEND;TZID=America/New_York:20250724T210000
DTSTAMP:20260422T021151
CREATED:20250722T204202Z
LAST-MODIFIED:20250722T204202Z
UID:19233-1753380000-1753390800@play.landmarkhospitality.com
SUMMARY:Dan Ward
DESCRIPTION:
URL:https://play.landmarkhospitality.com/event/dan-ward-2/
LOCATION:Logan Inn\, 10 W Ferry St\, New Hope\, PA\, 18938\, United States
CATEGORIES:Logan Inn Music Lineup
END:VEVENT
END:VCALENDAR