BEGIN:VCALENDAR
VERSION:2.0
PRODID:-//Play @ Landmark Hospitality - ECPv6.7.0//NONSGML v1.0//EN
CALSCALE:GREGORIAN
METHOD:PUBLISH
X-WR-CALNAME:Play @ Landmark Hospitality
X-ORIGINAL-URL:https://play.landmarkhospitality.com
X-WR-CALDESC:Events for Play @ Landmark Hospitality
REFRESH-INTERVAL;VALUE=DURATION:PT1H
X-Robots-Tag:noindex
X-PUBLISHED-TTL:PT1H
BEGIN:VTIMEZONE
TZID:America/New_York
BEGIN:DAYLIGHT
TZOFFSETFROM:-0500
TZOFFSETTO:-0400
TZNAME:EDT
DTSTART:20250309T070000
END:DAYLIGHT
BEGIN:STANDARD
TZOFFSETFROM:-0400
TZOFFSETTO:-0500
TZNAME:EST
DTSTART:20251102T060000
END:STANDARD
END:VTIMEZONE
BEGIN:VEVENT
DTSTART;TZID=America/New_York:20250410T180000
DTEND;TZID=America/New_York:20250410T210000
DTSTAMP:20260422T031011
CREATED:20250408T142614Z
LAST-MODIFIED:20250408T142614Z
UID:16925-1744308000-1744318800@play.landmarkhospitality.com
SUMMARY:Karen Payne
DESCRIPTION:
URL:https://play.landmarkhospitality.com/event/karen-payne-6/
LOCATION:Stone House\, 50 Stirling Road\, Warren\, NJ\, 07059\, United States
CATEGORIES:Stone House Music Lineup
END:VEVENT
BEGIN:VEVENT
DTSTART;TZID=America/New_York:20250410T180000
DTEND;TZID=America/New_York:20250410T210000
DTSTAMP:20260422T031011
CREATED:20250408T142853Z
LAST-MODIFIED:20250408T143403Z
UID:16930-1744308000-1744318800@play.landmarkhospitality.com
SUMMARY:James Popik Trio
DESCRIPTION:
URL:https://play.landmarkhospitality.com/event/james-popik-trio-7/
LOCATION:Logan Inn\, 10 W Ferry St\, New Hope\, PA\, 18938\, United States
CATEGORIES:Logan Inn Music Lineup
END:VEVENT
BEGIN:VEVENT
DTSTART;TZID=America/New_York:20250411T183000
DTEND;TZID=America/New_York:20250411T213000
DTSTAMP:20260422T031011
CREATED:20250408T142645Z
LAST-MODIFIED:20250408T142645Z
UID:16926-1744396200-1744407000@play.landmarkhospitality.com
SUMMARY:TacOcat Soiree
DESCRIPTION:
URL:https://play.landmarkhospitality.com/event/tacocat-soiree-2/
LOCATION:Stone House\, 50 Stirling Road\, Warren\, NJ\, 07059\, United States
CATEGORIES:Stork Club Music Lineup
END:VEVENT
BEGIN:VEVENT
DTSTART;TZID=America/New_York:20250411T183000
DTEND;TZID=America/New_York:20250411T213000
DTSTAMP:20260422T031011
CREATED:20250408T143310Z
LAST-MODIFIED:20250408T143310Z
UID:16934-1744396200-1744407000@play.landmarkhospitality.com
SUMMARY:TacOcat Soiree
DESCRIPTION:
URL:https://play.landmarkhospitality.com/event/tacocat-soiree-3/
LOCATION:Stone House\, 50 Stirling Road\, Warren\, NJ\, 07059\, United States
CATEGORIES:Stone House Music Lineup
END:VEVENT
BEGIN:VEVENT
DTSTART;TZID=America/New_York:20250411T190000
DTEND;TZID=America/New_York:20250411T220000
DTSTAMP:20260422T031011
CREATED:20250408T142927Z
LAST-MODIFIED:20250408T143227Z
UID:16931-1744398000-1744408800@play.landmarkhospitality.com
SUMMARY:Glenn & Oria
DESCRIPTION:
URL:https://play.landmarkhospitality.com/event/glenn-oria-18/
LOCATION:Logan Inn\, 10 W Ferry St\, New Hope\, PA\, 18938\, United States
CATEGORIES:Logan Inn Music Lineup
END:VEVENT
BEGIN:VEVENT
DTSTART;TZID=America/New_York:20250412T183000
DTEND;TZID=America/New_York:20250412T213000
DTSTAMP:20260422T031011
CREATED:20250408T142718Z
LAST-MODIFIED:20250408T142718Z
UID:16927-1744482600-1744493400@play.landmarkhospitality.com
SUMMARY:Chaplin-Fortunato
DESCRIPTION:
URL:https://play.landmarkhospitality.com/event/chaplin-fortunato-4/
LOCATION:Stone House\, 50 Stirling Road\, Warren\, NJ\, 07059\, United States
CATEGORIES:Stone House Music Lineup
END:VEVENT
BEGIN:VEVENT
DTSTART;TZID=America/New_York:20250412T190000
DTEND;TZID=America/New_York:20250412T220000
DTSTAMP:20260422T031011
CREATED:20250408T143002Z
LAST-MODIFIED:20250408T143002Z
UID:16932-1744484400-1744495200@play.landmarkhospitality.com
SUMMARY:Omeed Nyman Trio
DESCRIPTION:
URL:https://play.landmarkhospitality.com/event/omeed-nyman-trio-15/
LOCATION:Logan Inn\, 10 W Ferry St\, New Hope\, PA\, 18938\, United States
CATEGORIES:Logan Inn Music Lineup
END:VEVENT
BEGIN:VEVENT
DTSTART;TZID=America/New_York:20250413T113000
DTEND;TZID=America/New_York:20250413T143000
DTSTAMP:20260422T031011
CREATED:20250408T143034Z
LAST-MODIFIED:20250408T143034Z
UID:16933-1744543800-1744554600@play.landmarkhospitality.com
SUMMARY:Marius Luigi Nicolae
DESCRIPTION:
URL:https://play.landmarkhospitality.com/event/marius-luigi-nicolae-4/
LOCATION:Logan Inn\, 10 W Ferry St\, New Hope\, PA\, 18938\, United States
CATEGORIES:Logan Inn Music Lineup
END:VEVENT
BEGIN:VEVENT
DTSTART;TZID=America/New_York:20250413T120000
DTEND;TZID=America/New_York:20250413T150000
DTSTAMP:20260422T031011
CREATED:20250408T142748Z
LAST-MODIFIED:20250408T142748Z
UID:16928-1744545600-1744556400@play.landmarkhospitality.com
SUMMARY:Courtney Sappington Duo
DESCRIPTION:
URL:https://play.landmarkhospitality.com/event/courtney-sappington-duo-23/
LOCATION:Stone House\, 50 Stirling Road\, Warren\, NJ\, 07059\, United States
CATEGORIES:Stone House Music Lineup
END:VEVENT
BEGIN:VEVENT
DTSTART;TZID=America/New_York:20250416T180000
DTEND;TZID=America/New_York:20250416T200000
DTSTAMP:20260422T031011
CREATED:20250314T151649Z
LAST-MODIFIED:20250416T142123Z
UID:16504-1744826400-1744833600@play.landmarkhospitality.com
SUMMARY:Springtime Sips featuring Stateside
DESCRIPTION:Join us at Logan Inn on April 16th for Springtime Sips featuring Stateside. Enjoy a selection of crafted cocktails\, paired with small plates and passed hors d’oeuvres\, while mingling in a lively atmosphere. It’s the perfect evening to celebrate the season with great company and delicious bites!
URL:https://play.landmarkhospitality.com/event/springtime-sips-featuring-stateside-vodka/
LOCATION:Logan Inn\, 10 W Ferry St\, New Hope\, PA\, 18938\, United States
CATEGORIES:Logan Inn
ATTACH;FMTTYPE=image/png:https://play.landmarkhospitality.com/wp-content/uploads/2025/03/shop-graphics-12.png
END:VEVENT
BEGIN:VEVENT
DTSTART;TZID=America/New_York:20250416T200000
DTEND;TZID=America/New_York:20250416T210000
DTSTAMP:20260422T031011
CREATED:20250415T153918Z
LAST-MODIFIED:20250415T153918Z
UID:17015-1744833600-1744837200@play.landmarkhospitality.com
SUMMARY:Stephen DiJoseph
DESCRIPTION:
URL:https://play.landmarkhospitality.com/event/stephen-dijoseph/
LOCATION:Logan Inn\, 10 W Ferry St\, New Hope\, PA\, 18938\, United States
CATEGORIES:Logan Inn Music Lineup
END:VEVENT
BEGIN:VEVENT
DTSTART;TZID=America/New_York:20250417T180000
DTEND;TZID=America/New_York:20250417T210000
DTSTAMP:20260422T031011
CREATED:20250415T153942Z
LAST-MODIFIED:20250415T153942Z
UID:17016-1744912800-1744923600@play.landmarkhospitality.com
SUMMARY:NO MUSIC
DESCRIPTION:
URL:https://play.landmarkhospitality.com/event/no-music-9/
LOCATION:PA
CATEGORIES:Logan Inn Music Lineup
END:VEVENT
BEGIN:VEVENT
DTSTART;TZID=America/New_York:20250417T180000
DTEND;TZID=America/New_York:20250417T210000
DTSTAMP:20260422T031011
CREATED:20250415T154148Z
LAST-MODIFIED:20250415T154148Z
UID:17020-1744912800-1744923600@play.landmarkhospitality.com
SUMMARY:David Easton Duo
DESCRIPTION:
URL:https://play.landmarkhospitality.com/event/david-easton-duo-3/
LOCATION:Stone House\, 50 Stirling Road\, Warren\, NJ\, 07059\, United States
CATEGORIES:Stone House Music Lineup
END:VEVENT
BEGIN:VEVENT
DTSTART;TZID=America/New_York:20250417T190000
DTEND;TZID=America/New_York:20250417T190000
DTSTAMP:20260422T031011
CREATED:20250318T210547Z
LAST-MODIFIED:20250320T160600Z
UID:16527-1744916400-1744916400@play.landmarkhospitality.com
SUMMARY:Anzu Omakase Experience
DESCRIPTION:Content is protected.
URL:https://play.landmarkhospitality.com/event/anzu-omakase-experience/
LOCATION:Stork Club Rooftop\, 2 Chapel Ave\, Jersey City\, NJ\, 07305\, United States
CATEGORIES:Stork Club Rooftop
END:VEVENT
BEGIN:VEVENT
DTSTART;TZID=America/New_York:20250418T183000
DTEND;TZID=America/New_York:20250418T213000
DTSTAMP:20260422T031011
CREATED:20250415T154233Z
LAST-MODIFIED:20250415T154233Z
UID:17021-1745001000-1745011800@play.landmarkhospitality.com
SUMMARY:John Lenis Duo
DESCRIPTION:
URL:https://play.landmarkhospitality.com/event/john-lenis-duo-3/
LOCATION:Stone House\, 50 Stirling Road\, Warren\, NJ\, 07059\, United States
CATEGORIES:Stone House Music Lineup
END:VEVENT
BEGIN:VEVENT
DTSTART;TZID=America/New_York:20250418T183000
DTEND;TZID=America/New_York:20250418T213000
DTSTAMP:20260422T031011
CREATED:20250417T144508Z
LAST-MODIFIED:20250417T144613Z
UID:17043-1745001000-1745011800@play.landmarkhospitality.com
SUMMARY:BlueNote Trio
DESCRIPTION:
URL:https://play.landmarkhospitality.com/event/the-burners-ron-rauso-2/
LOCATION:The Albion Summit\, 570 Springfield Ave\, Summit\, NJ\, 07901\, United States
CATEGORIES:The Albion Summit Music Lineup
END:VEVENT
BEGIN:VEVENT
DTSTART;TZID=America/New_York:20250418T190000
DTEND;TZID=America/New_York:20250418T220000
DTSTAMP:20260422T031011
CREATED:20250415T154014Z
LAST-MODIFIED:20250415T154014Z
UID:17017-1745002800-1745013600@play.landmarkhospitality.com
SUMMARY:Sammy Ryan
DESCRIPTION:
URL:https://play.landmarkhospitality.com/event/sammy-ryan-7/
LOCATION:Logan Inn\, 10 W Ferry St\, New Hope\, PA\, 18938\, United States
CATEGORIES:Logan Inn Music Lineup
END:VEVENT
BEGIN:VEVENT
DTSTART;TZID=America/New_York:20250419T183000
DTEND;TZID=America/New_York:20250419T213000
DTSTAMP:20260422T031011
CREATED:20250415T154310Z
LAST-MODIFIED:20250415T154310Z
UID:17022-1745087400-1745098200@play.landmarkhospitality.com
SUMMARY:Bill Tally Duo
DESCRIPTION:
URL:https://play.landmarkhospitality.com/event/bill-tally-duo-7/
LOCATION:Stone House\, 50 Stirling Road\, Warren\, NJ\, 07059\, United States
CATEGORIES:Stone House Music Lineup
END:VEVENT
BEGIN:VEVENT
DTSTART;TZID=America/New_York:20250419T183000
DTEND;TZID=America/New_York:20250419T213000
DTSTAMP:20260422T031011
CREATED:20250417T145132Z
LAST-MODIFIED:20250417T145132Z
UID:17044-1745087400-1745098200@play.landmarkhospitality.com
SUMMARY:Courtney Sappington Trio
DESCRIPTION:
URL:https://play.landmarkhospitality.com/event/courtney-sappington-trio-14/
LOCATION:Felina Steak South Orange\, 101 S Orange Ave\, South Orange\, NJ\, 07079\, United States
CATEGORIES:Felina Steak South Orange Music Lineup
END:VEVENT
BEGIN:VEVENT
DTSTART;TZID=America/New_York:20250419T190000
DTEND;TZID=America/New_York:20250419T220000
DTSTAMP:20260422T031011
CREATED:20250415T154048Z
LAST-MODIFIED:20250415T154048Z
UID:17018-1745089200-1745100000@play.landmarkhospitality.com
SUMMARY:Java Sway
DESCRIPTION:
URL:https://play.landmarkhospitality.com/event/java-sway-4/
LOCATION:Logan Inn\, 10 W Ferry St\, New Hope\, PA\, 18938\, United States
CATEGORIES:Logan Inn Music Lineup
END:VEVENT
BEGIN:VEVENT
DTSTART;TZID=America/New_York:20250419T190000
DTEND;TZID=America/New_York:20250419T220000
DTSTAMP:20260422T031011
CREATED:20250417T145252Z
LAST-MODIFIED:20250417T145252Z
UID:17045-1745089200-1745100000@play.landmarkhospitality.com
SUMMARY:Kate Baker Trio
DESCRIPTION:
URL:https://play.landmarkhospitality.com/event/kate-baker-trio-19/
LOCATION:The Albion Summit\, 570 Springfield Ave\, Summit\, NJ\, 07901\, United States
CATEGORIES:The Albion Summit Music Lineup
END:VEVENT
BEGIN:VEVENT
DTSTART;TZID=America/New_York:20250420T110000
DTEND;TZID=America/New_York:20250420T140000
DTSTAMP:20260422T031011
CREATED:20250415T154358Z
LAST-MODIFIED:20250415T154358Z
UID:17023-1745146800-1745157600@play.landmarkhospitality.com
SUMMARY:Scott Mcallister
DESCRIPTION:
URL:https://play.landmarkhospitality.com/event/scott-mcallister-23/
LOCATION:Stone House\, 50 Stirling Road\, Warren\, NJ\, 07059\, United States
CATEGORIES:Stone House Music Lineup
END:VEVENT
BEGIN:VEVENT
DTSTART;TZID=America/New_York:20250420T113000
DTEND;TZID=America/New_York:20250420T143000
DTSTAMP:20260422T031011
CREATED:20250415T154113Z
LAST-MODIFIED:20250415T154113Z
UID:17019-1745148600-1745159400@play.landmarkhospitality.com
SUMMARY:NO MUSIC
DESCRIPTION:
URL:https://play.landmarkhospitality.com/event/no-music-10/
LOCATION:PA
CATEGORIES:Logan Inn Music Lineup
END:VEVENT
BEGIN:VEVENT
DTSTART;TZID=America/New_York:20250422T190000
DTEND;TZID=America/New_York:20250422T190000
DTSTAMP:20260422T031011
CREATED:20250415T142556Z
LAST-MODIFIED:20250422T134601Z
UID:17009-1745348400-1745348400@play.landmarkhospitality.com
SUMMARY:Smoke & Spirits: Cigar Dinner at Logan Inn
DESCRIPTION:Content is protected.
URL:https://play.landmarkhospitality.com/event/smoke-spirits-cigar-dinner-at-logan-inn/
LOCATION:Logan Inn\, 10 W Ferry St\, New Hope\, PA\, 18938\, United States
CATEGORIES:Logan Inn
END:VEVENT
BEGIN:VEVENT
DTSTART;TZID=America/New_York:20250423T180000
DTEND;TZID=America/New_York:20250423T210000
DTSTAMP:20260422T031011
CREATED:20250423T153532Z
LAST-MODIFIED:20250423T153532Z
UID:17167-1745431200-1745442000@play.landmarkhospitality.com
SUMMARY:Russel Norchevick
DESCRIPTION:
URL:https://play.landmarkhospitality.com/event/russel-norchevick/
LOCATION:Logan Inn\, 10 W Ferry St\, New Hope\, PA\, 18938\, United States
CATEGORIES:Logan Inn Music Lineup
END:VEVENT
BEGIN:VEVENT
DTSTART;TZID=America/New_York:20250424T180000
DTEND;TZID=America/New_York:20250424T180000
DTSTAMP:20260422T031011
CREATED:20250227T201923Z
LAST-MODIFIED:20250318T201454Z
UID:16336-1745517600-1745517600@play.landmarkhospitality.com
SUMMARY:Ryland Inn Supper Club Series featuring Quintessa Wines
DESCRIPTION:Content is protected.
URL:https://play.landmarkhospitality.com/event/ryland-inn-supper-club-series-featuring-quintessa-wines/
LOCATION:Ryland Inn\, 115 Old Hwy 28\, Whitehouse Station\, NJ\, 08889\, United States
CATEGORIES:Ryland Inn
END:VEVENT
BEGIN:VEVENT
DTSTART;TZID=America/New_York:20250424T180000
DTEND;TZID=America/New_York:20250424T210000
DTSTAMP:20260422T031011
CREATED:20250417T145417Z
LAST-MODIFIED:20250417T145417Z
UID:17046-1745517600-1745528400@play.landmarkhospitality.com
SUMMARY:Glenn & Oria
DESCRIPTION:
URL:https://play.landmarkhospitality.com/event/glenn-oria-19/
LOCATION:Felina Steak South Orange\, 101 S Orange Ave\, South Orange\, NJ\, 07079\, United States
CATEGORIES:Felina Steak South Orange Music Lineup
END:VEVENT
BEGIN:VEVENT
DTSTART;TZID=America/New_York:20250424T180000
DTEND;TZID=America/New_York:20250424T210000
DTSTAMP:20260422T031011
CREATED:20250423T153601Z
LAST-MODIFIED:20250423T153601Z
UID:17168-1745517600-1745528400@play.landmarkhospitality.com
SUMMARY:Jazz Faction
DESCRIPTION:
URL:https://play.landmarkhospitality.com/event/jazz-faction-9/
LOCATION:Logan Inn\, 10 W Ferry St\, New Hope\, PA\, 18938\, United States
CATEGORIES:Logan Inn Music Lineup
END:VEVENT
BEGIN:VEVENT
DTSTART;TZID=America/New_York:20250424T180000
DTEND;TZID=America/New_York:20250424T210000
DTSTAMP:20260422T031011
CREATED:20250423T153811Z
LAST-MODIFIED:20250423T153811Z
UID:17172-1745517600-1745528400@play.landmarkhospitality.com
SUMMARY:10 Strings 4 Hands
DESCRIPTION:
URL:https://play.landmarkhospitality.com/event/10-strings-4-hands-2/
LOCATION:Stone House\, 50 Stirling Road\, Warren\, NJ\, 07059\, United States
CATEGORIES:Stone House Music Lineup
END:VEVENT
BEGIN:VEVENT
DTSTART;TZID=America/New_York:20250424T183000
DTEND;TZID=America/New_York:20250424T213000
DTSTAMP:20260422T031011
CREATED:20250417T145617Z
LAST-MODIFIED:20250417T145617Z
UID:17047-1745519400-1745530200@play.landmarkhospitality.com
SUMMARY:Joe Taino Trio
DESCRIPTION:
URL:https://play.landmarkhospitality.com/event/joe-taino-trio-5/
LOCATION:The Albion Summit\, 570 Springfield Ave\, Summit\, NJ\, 07901\, United States
CATEGORIES:The Albion Summit Music Lineup
END:VEVENT
END:VCALENDAR