BEGIN:VCALENDAR
VERSION:2.0
PRODID:-//Play @ Landmark Hospitality - ECPv6.7.0//NONSGML v1.0//EN
CALSCALE:GREGORIAN
METHOD:PUBLISH
X-ORIGINAL-URL:https://play.landmarkhospitality.com
X-WR-CALDESC:Events for Play @ Landmark Hospitality
REFRESH-INTERVAL;VALUE=DURATION:PT1H
X-Robots-Tag:noindex
X-PUBLISHED-TTL:PT1H
BEGIN:VTIMEZONE
TZID:America/New_York
BEGIN:DAYLIGHT
TZOFFSETFROM:-0500
TZOFFSETTO:-0400
TZNAME:EDT
DTSTART:20250309T070000
END:DAYLIGHT
BEGIN:STANDARD
TZOFFSETFROM:-0400
TZOFFSETTO:-0500
TZNAME:EST
DTSTART:20251102T060000
END:STANDARD
END:VTIMEZONE
BEGIN:VEVENT
DTSTART;TZID=America/New_York:20250507T190000
DTEND;TZID=America/New_York:20250507T210000
DTSTAMP:20260422T082017
CREATED:20250326T170615Z
LAST-MODIFIED:20250423T153735Z
UID:16594-1746644400-1746651600@play.landmarkhospitality.com
SUMMARY:Bloom & Craft: Petal Parties Bouquet Workshop
DESCRIPTION:Join us on Wednesday\, May 7th for a fun and creative evening with Petal Parties as we celebrate Mother’s Day! Enjoy crafting your own stunning bouquet while indulging in pizza\, charcuterie\, and wine.
URL:https://play.landmarkhospitality.com/event/bloom-craft-petal-parties-bouquet-workshop/
LOCATION:The Albion Summit\, 570 Springfield Ave\, Summit\, NJ\, 07901\, United States
CATEGORIES:The Albion Summit
ATTACH;FMTTYPE=image/png:https://play.landmarkhospitality.com/wp-content/uploads/2025/03/WEBSITE-HERO-IMAGE.png
END:VEVENT
BEGIN:VEVENT
DTSTART;TZID=America/New_York:20250512T180000
DTEND;TZID=America/New_York:20250512T200000
DTSTAMP:20260422T082017
CREATED:20250409T190718Z
LAST-MODIFIED:20250512T163947Z
UID:16940-1747072800-1747080000@play.landmarkhospitality.com
SUMMARY:Meet the Maker: Drew Mayville (Master Distiller\, Buffalo Trace)
DESCRIPTION:Meet the Maker – Drew Mayville (Master Distiller\, Buffalo Trace) \nJoin us for an exclusive evening with Drew Mayville\, the Master Distiller of Buffalo Trace at the Stork Club Whiskey Lounge at the Albion Summit. This is a one-of-a-kind opportunity to dive deep into the world of bourbon and enjoy a premium experience. \nEvent Schedule: \n6:00 PM – 7:00 PM: Cocktail HourEnjoy two specially crafted Buffalo Trace cocktails\, perfectly paired with heavy passed bites. \n7:00 PM – 7:30 PM: Tasting & PresentationSit down for an informative and intimate tasting session hosted by Drew Mayville. Sample a flight of three unique Buffalo Trace whiskies while learning about the distillery’s rich history and the art of crafting exceptional bourbon. \n7:30 PM – 8:00 PM: Cigar Pairing ExperienceSelect one of three cigar pairings and enjoy an extra pour of Buffalo Trace bourbon in our Cigar Room. Relax and savor the perfect combination of flavor and atmosphere. \nBonus:Featured Buffalo Trace whiskies and cigars will be available for purchase at the conclusion of the event.
URL:https://play.landmarkhospitality.com/event/meet-the-maker-drew-mayville-master-distiller-buffalo-trace/
LOCATION:The Albion Summit\, 570 Springfield Ave\, Summit\, NJ\, 07901\, United States
CATEGORIES:The Albion Summit
ATTACH;FMTTYPE=image/png:https://play.landmarkhospitality.com/wp-content/uploads/2025/04/drew.png
END:VEVENT
END:VCALENDAR