BEGIN:VCALENDAR
VERSION:2.0
PRODID:-//Play @ Landmark Hospitality - ECPv6.7.0//NONSGML v1.0//EN
CALSCALE:GREGORIAN
METHOD:PUBLISH
X-ORIGINAL-URL:https://play.landmarkhospitality.com
X-WR-CALDESC:Events for Play @ Landmark Hospitality
REFRESH-INTERVAL;VALUE=DURATION:PT1H
X-Robots-Tag:noindex
X-PUBLISHED-TTL:PT1H
BEGIN:VTIMEZONE
TZID:America/New_York
BEGIN:DAYLIGHT
TZOFFSETFROM:-0500
TZOFFSETTO:-0400
TZNAME:EDT
DTSTART:20240310T070000
END:DAYLIGHT
BEGIN:STANDARD
TZOFFSETFROM:-0400
TZOFFSETTO:-0500
TZNAME:EST
DTSTART:20241103T060000
END:STANDARD
END:VTIMEZONE
BEGIN:VEVENT
DTSTART;TZID=America/New_York:20241129T190000
DTEND;TZID=America/New_York:20241129T220000
DTSTAMP:20260421T194318
CREATED:20241125T175840Z
LAST-MODIFIED:20241127T162136Z
UID:14950-1732906800-1732917600@play.landmarkhospitality.com
SUMMARY:Rob & Dave
DESCRIPTION:
URL:https://play.landmarkhospitality.com/event/rob-dave/
LOCATION:The Albion Summit\, 570 Springfield Ave\, Summit\, NJ\, 07901\, United States
CATEGORIES:The Albion Summit Music Lineup
END:VEVENT
BEGIN:VEVENT
DTSTART;TZID=America/New_York:20241123T190000
DTEND;TZID=America/New_York:20241123T220000
DTSTAMP:20260421T194318
CREATED:20241119T185917Z
LAST-MODIFIED:20241119T185917Z
UID:14897-1732388400-1732399200@play.landmarkhospitality.com
SUMMARY:Carrie Jackson Quartet
DESCRIPTION:
URL:https://play.landmarkhospitality.com/event/carrie-jackson-quartet-9/
LOCATION:The Albion Summit\, 570 Springfield Ave\, Summit\, NJ\, 07901\, United States
CATEGORIES:The Albion Summit Music Lineup
END:VEVENT
BEGIN:VEVENT
DTSTART;TZID=America/New_York:20241122T190000
DTEND;TZID=America/New_York:20241122T220000
DTSTAMP:20260421T194318
CREATED:20241119T185844Z
LAST-MODIFIED:20241119T185844Z
UID:14896-1732302000-1732312800@play.landmarkhospitality.com
SUMMARY:Whiskey & Sugar Duo
DESCRIPTION:
URL:https://play.landmarkhospitality.com/event/whiskey-sugar-duo/
LOCATION:The Albion Summit\, 570 Springfield Ave\, Summit\, NJ\, 07901\, United States
CATEGORIES:The Albion Summit Music Lineup
END:VEVENT
BEGIN:VEVENT
DTSTART;TZID=America/New_York:20241121T183000
DTEND;TZID=America/New_York:20241121T213000
DTSTAMP:20260421T194318
CREATED:20241119T185805Z
LAST-MODIFIED:20241119T185805Z
UID:14895-1732213800-1732224600@play.landmarkhospitality.com
SUMMARY:Joe Taino Trio
DESCRIPTION:
URL:https://play.landmarkhospitality.com/event/joe-taino-trio-2/
LOCATION:The Albion Summit\, 570 Springfield Ave\, Summit\, NJ\, 07901\, United States
CATEGORIES:The Albion Summit Music Lineup
END:VEVENT
BEGIN:VEVENT
DTSTART;TZID=America/New_York:20241116T190000
DTEND;TZID=America/New_York:20241116T220000
DTSTAMP:20260421T194318
CREATED:20241112T172612Z
LAST-MODIFIED:20241112T172612Z
UID:14716-1731783600-1731794400@play.landmarkhospitality.com
SUMMARY:Erika Sherger Duo
DESCRIPTION:
URL:https://play.landmarkhospitality.com/event/erika-sherger-duo/
LOCATION:The Albion Summit\, 570 Springfield Ave\, Summit\, NJ\, 07901\, United States
CATEGORIES:The Albion Summit Music Lineup
END:VEVENT
BEGIN:VEVENT
DTSTART;TZID=America/New_York:20241115T190000
DTEND;TZID=America/New_York:20241115T220000
DTSTAMP:20260421T194318
CREATED:20241112T172535Z
LAST-MODIFIED:20241112T172535Z
UID:14715-1731697200-1731708000@play.landmarkhospitality.com
SUMMARY:Matt Matheiss Duo
DESCRIPTION:
URL:https://play.landmarkhospitality.com/event/matt-matheiss-duo/
LOCATION:The Albion Summit\, 570 Springfield Ave\, Summit\, NJ\, 07901\, United States
CATEGORIES:The Albion Summit Music Lineup
END:VEVENT
BEGIN:VEVENT
DTSTART;TZID=America/New_York:20241114T183000
DTEND;TZID=America/New_York:20241114T213000
DTSTAMP:20260421T194318
CREATED:20241112T172432Z
LAST-MODIFIED:20241112T172432Z
UID:14705-1731609000-1731619800@play.landmarkhospitality.com
SUMMARY:Max Rogers
DESCRIPTION:
URL:https://play.landmarkhospitality.com/event/max-rogers-28/
LOCATION:The Albion Summit\, 570 Springfield Ave\, Summit\, NJ\, 07901\, United States
CATEGORIES:The Albion Summit Music Lineup
END:VEVENT
BEGIN:VEVENT
DTSTART;TZID=America/New_York:20241109T190000
DTEND;TZID=America/New_York:20241109T220000
DTSTAMP:20260421T194318
CREATED:20241106T220230Z
LAST-MODIFIED:20241106T220230Z
UID:14581-1731178800-1731189600@play.landmarkhospitality.com
SUMMARY:Owls & Lions Duo
DESCRIPTION:
URL:https://play.landmarkhospitality.com/event/owls-lions-duo/
LOCATION:The Albion Summit\, 570 Springfield Ave\, Summit\, NJ\, 07901\, United States
CATEGORIES:The Albion Summit Music Lineup
END:VEVENT
BEGIN:VEVENT
DTSTART;TZID=America/New_York:20241108T190000
DTEND;TZID=America/New_York:20241108T220000
DTSTAMP:20260421T194318
CREATED:20241106T220031Z
LAST-MODIFIED:20241106T220315Z
UID:14580-1731092400-1731103200@play.landmarkhospitality.com
SUMMARY:Scott Mcallister Trio
DESCRIPTION:
URL:https://play.landmarkhospitality.com/event/scott-mcallister-trio-7/
LOCATION:The Albion Summit\, 570 Springfield Ave\, Summit\, NJ\, 07901\, United States
CATEGORIES:The Albion Summit Music Lineup
END:VEVENT
BEGIN:VEVENT
DTSTART;TZID=America/New_York:20241107T183000
DTEND;TZID=America/New_York:20241107T213000
DTSTAMP:20260421T194318
CREATED:20241106T215840Z
LAST-MODIFIED:20241106T220415Z
UID:14579-1731004200-1731015000@play.landmarkhospitality.com
SUMMARY:TacOcat
DESCRIPTION:
URL:https://play.landmarkhospitality.com/event/tacocat-4/
LOCATION:The Albion Summit\, 570 Springfield Ave\, Summit\, NJ\, 07901\, United States
CATEGORIES:The Albion Summit Music Lineup
END:VEVENT
BEGIN:VEVENT
DTSTART;TZID=America/New_York:20241031T183000
DTEND;TZID=America/New_York:20241031T213000
DTSTAMP:20260421T194318
CREATED:20241021T155137Z
LAST-MODIFIED:20241021T160032Z
UID:14062-1730399400-1730410200@play.landmarkhospitality.com
SUMMARY:Amy Lavere & Will Sexton
DESCRIPTION:
URL:https://play.landmarkhospitality.com/event/amy-lavere-will-sexton/
LOCATION:The Albion Summit\, 570 Springfield Ave\, Summit\, NJ\, 07901\, United States
CATEGORIES:The Albion Summit Music Lineup
END:VEVENT
BEGIN:VEVENT
DTSTART;TZID=America/New_York:20241026T190000
DTEND;TZID=America/New_York:20241026T220000
DTSTAMP:20260421T194318
CREATED:20241021T155105Z
LAST-MODIFIED:20241021T155959Z
UID:14061-1729969200-1729980000@play.landmarkhospitality.com
SUMMARY:Whiskey & Sugar
DESCRIPTION:
URL:https://play.landmarkhospitality.com/event/whiskey-sugar-11/
LOCATION:The Albion Summit\, 570 Springfield Ave\, Summit\, NJ\, 07901\, United States
CATEGORIES:The Albion Summit Music Lineup
END:VEVENT
BEGIN:VEVENT
DTSTART;TZID=America/New_York:20241025T190000
DTEND;TZID=America/New_York:20241025T220000
DTSTAMP:20260421T194318
CREATED:20241021T155029Z
LAST-MODIFIED:20241021T155916Z
UID:14060-1729882800-1729893600@play.landmarkhospitality.com
SUMMARY:Mike Choi Duo
DESCRIPTION:
URL:https://play.landmarkhospitality.com/event/mike-choi-duo-6/
LOCATION:The Albion Summit\, 570 Springfield Ave\, Summit\, NJ\, 07901\, United States
CATEGORIES:The Albion Summit Music Lineup
END:VEVENT
BEGIN:VEVENT
DTSTART;TZID=America/New_York:20241024T183000
DTEND;TZID=America/New_York:20241024T213000
DTSTAMP:20260421T194318
CREATED:20241021T154952Z
LAST-MODIFIED:20241021T155846Z
UID:14057-1729794600-1729805400@play.landmarkhospitality.com
SUMMARY:Joe Taino Duo
DESCRIPTION:
URL:https://play.landmarkhospitality.com/event/joe-taino-duo-2/
LOCATION:The Albion Summit\, 570 Springfield Ave\, Summit\, NJ\, 07901\, United States
CATEGORIES:The Albion Summit Music Lineup
END:VEVENT
END:VCALENDAR