BEGIN:VCALENDAR
VERSION:2.0
PRODID:-//Play @ Landmark Hospitality - ECPv6.7.0//NONSGML v1.0//EN
CALSCALE:GREGORIAN
METHOD:PUBLISH
X-WR-CALNAME:Play @ Landmark Hospitality
X-ORIGINAL-URL:https://play.landmarkhospitality.com
X-WR-CALDESC:Events for Play @ Landmark Hospitality
REFRESH-INTERVAL;VALUE=DURATION:PT1H
X-Robots-Tag:noindex
X-PUBLISHED-TTL:PT1H
BEGIN:VTIMEZONE
TZID:America/New_York
BEGIN:DAYLIGHT
TZOFFSETFROM:-0500
TZOFFSETTO:-0400
TZNAME:EDT
DTSTART:20230312T070000
END:DAYLIGHT
BEGIN:STANDARD
TZOFFSETFROM:-0400
TZOFFSETTO:-0500
TZNAME:EST
DTSTART:20231105T060000
END:STANDARD
END:VTIMEZONE
BEGIN:VEVENT
DTSTART;TZID=America/New_York:20231222T190000
DTEND;TZID=America/New_York:20231222T220000
DTSTAMP:20260424T145706
CREATED:20231220T152616Z
LAST-MODIFIED:20231220T152616Z
UID:8602-1703271600-1703282400@play.landmarkhospitality.com
SUMMARY:Quintin Harris
DESCRIPTION:
URL:https://play.landmarkhospitality.com/event/quintin-harris-14/
LOCATION:Stork Club Rooftop\, 2 Chapel Ave\, Jersey City\, NJ\, 07305\, United States
CATEGORIES:Stork Club Music Lineup
END:VEVENT
BEGIN:VEVENT
DTSTART;TZID=America/New_York:20231216T190000
DTEND;TZID=America/New_York:20231216T220000
DTSTAMP:20260424T145706
CREATED:20231212T165715Z
LAST-MODIFIED:20231212T165715Z
UID:8332-1702753200-1702764000@play.landmarkhospitality.com
SUMMARY:Martin Pizzarelli Duo
DESCRIPTION:
URL:https://play.landmarkhospitality.com/event/martin-pizzarelli-duo-7/
LOCATION:Stork Club Rooftop\, 2 Chapel Ave\, Jersey City\, NJ\, 07305\, United States
CATEGORIES:Stork Club Music Lineup
END:VEVENT
BEGIN:VEVENT
DTSTART;TZID=America/New_York:20231215T190000
DTEND;TZID=America/New_York:20231215T220000
DTSTAMP:20260424T145706
CREATED:20231212T165643Z
LAST-MODIFIED:20231212T165643Z
UID:8331-1702666800-1702677600@play.landmarkhospitality.com
SUMMARY:Peter Caldera
DESCRIPTION:
URL:https://play.landmarkhospitality.com/event/peter-caldera/
LOCATION:Stork Club Rooftop\, 2 Chapel Ave\, Jersey City\, NJ\, 07305\, United States
CATEGORIES:Stork Club Music Lineup
END:VEVENT
BEGIN:VEVENT
DTSTART;TZID=America/New_York:20231202T190000
DTEND;TZID=America/New_York:20231202T220000
DTSTAMP:20260424T145706
CREATED:20231129T032408Z
LAST-MODIFIED:20231129T032408Z
UID:8027-1701543600-1701554400@play.landmarkhospitality.com
SUMMARY:Martin Pizzarelli Duo
DESCRIPTION:
URL:https://play.landmarkhospitality.com/event/martin-pizzarelli-duo-6/
LOCATION:Stork Club Rooftop\, 2 Chapel Ave\, Jersey City\, NJ\, 07305\, United States
CATEGORIES:Stork Club Music Lineup
END:VEVENT
BEGIN:VEVENT
DTSTART;TZID=America/New_York:20231201T190000
DTEND;TZID=America/New_York:20231201T220000
DTSTAMP:20260424T145706
CREATED:20231129T032338Z
LAST-MODIFIED:20231129T032338Z
UID:8026-1701457200-1701468000@play.landmarkhospitality.com
SUMMARY:Quintin Harris
DESCRIPTION:
URL:https://play.landmarkhospitality.com/event/quintin-harris-12/
LOCATION:Stork Club Rooftop\, 2 Chapel Ave\, Jersey City\, NJ\, 07305\, United States
CATEGORIES:Stork Club Music Lineup
END:VEVENT
BEGIN:VEVENT
DTSTART;TZID=America/New_York:20231125T190000
DTEND;TZID=America/New_York:20231125T220000
DTSTAMP:20260424T145706
CREATED:20231121T045127Z
LAST-MODIFIED:20231121T045127Z
UID:7858-1700938800-1700949600@play.landmarkhospitality.com
SUMMARY:Martin Pizzarelli Duo
DESCRIPTION:
URL:https://play.landmarkhospitality.com/event/martin-pizzarelli-duo-5/
LOCATION:Stork Club Rooftop\, 2 Chapel Ave\, Jersey City\, NJ\, 07305\, United States
CATEGORIES:Stork Club Music Lineup
END:VEVENT
BEGIN:VEVENT
DTSTART;TZID=America/New_York:20231124T190000
DTEND;TZID=America/New_York:20231124T220000
DTSTAMP:20260424T145706
CREATED:20231121T045054Z
LAST-MODIFIED:20231121T045054Z
UID:7857-1700852400-1700863200@play.landmarkhospitality.com
SUMMARY:Quintin Harris
DESCRIPTION:
URL:https://play.landmarkhospitality.com/event/quintin-harris-10/
LOCATION:Stork Club Rooftop\, 2 Chapel Ave\, Jersey City\, NJ\, 07305\, United States
CATEGORIES:Stork Club Music Lineup
END:VEVENT
BEGIN:VEVENT
DTSTART;TZID=America/New_York:20231111T190000
DTEND;TZID=America/New_York:20231111T220000
DTSTAMP:20260424T145706
CREATED:20231107T151014Z
LAST-MODIFIED:20231107T151014Z
UID:7543-1699729200-1699740000@play.landmarkhospitality.com
SUMMARY:Martin Pizzarelli Duo
DESCRIPTION:
URL:https://play.landmarkhospitality.com/event/martin-pizzarelli-duo-4/
LOCATION:Stork Club Rooftop\, 2 Chapel Ave\, Jersey City\, NJ\, 07305\, United States
CATEGORIES:Stork Club Music Lineup
END:VEVENT
BEGIN:VEVENT
DTSTART;TZID=America/New_York:20231110T190000
DTEND;TZID=America/New_York:20231110T220000
DTSTAMP:20260424T145706
CREATED:20231107T150933Z
LAST-MODIFIED:20231107T150933Z
UID:7542-1699642800-1699653600@play.landmarkhospitality.com
SUMMARY:Quintin Harris
DESCRIPTION:
URL:https://play.landmarkhospitality.com/event/quintin-harris-8/
LOCATION:Stork Club Rooftop\, 2 Chapel Ave\, Jersey City\, NJ\, 07305\, United States
CATEGORIES:Stork Club Music Lineup
END:VEVENT
BEGIN:VEVENT
DTSTART;TZID=America/New_York:20231104T190000
DTEND;TZID=America/New_York:20231104T220000
DTSTAMP:20260424T145706
CREATED:20231101T140131Z
LAST-MODIFIED:20231101T140131Z
UID:7419-1699124400-1699135200@play.landmarkhospitality.com
SUMMARY:Martin Pizzarelli Duo
DESCRIPTION:
URL:https://play.landmarkhospitality.com/event/martin-pizzarelli-duo-3/
LOCATION:Stork Club Rooftop\, 2 Chapel Ave\, Jersey City\, NJ\, 07305\, United States
CATEGORIES:Stork Club Music Lineup
END:VEVENT
BEGIN:VEVENT
DTSTART;TZID=America/New_York:20231103T190000
DTEND;TZID=America/New_York:20231103T220000
DTSTAMP:20260424T145706
CREATED:20231101T140056Z
LAST-MODIFIED:20231101T141931Z
UID:7418-1699038000-1699048800@play.landmarkhospitality.com
SUMMARY:Quintin Harris
DESCRIPTION:
URL:https://play.landmarkhospitality.com/event/quintin-harris-6/
LOCATION:Stork Club Rooftop\, 2 Chapel Ave\, Jersey City\, NJ\, 07305\, United States
CATEGORIES:Stork Club Music Lineup
END:VEVENT
BEGIN:VEVENT
DTSTART;TZID=America/New_York:20231021T190000
DTEND;TZID=America/New_York:20231021T220000
DTSTAMP:20260424T145706
CREATED:20231018T142030Z
LAST-MODIFIED:20231018T142030Z
UID:7202-1697914800-1697925600@play.landmarkhospitality.com
SUMMARY:Adrienne Moore
DESCRIPTION:
URL:https://play.landmarkhospitality.com/event/adrienne-moore-6/
LOCATION:Stork Club Rooftop\, 2 Chapel Ave\, Jersey City\, NJ\, 07305\, United States
CATEGORIES:Stork Club Music Lineup
END:VEVENT
BEGIN:VEVENT
DTSTART;TZID=America/New_York:20231020T190000
DTEND;TZID=America/New_York:20231020T220000
DTSTAMP:20260424T145706
CREATED:20231018T141907Z
LAST-MODIFIED:20231018T141907Z
UID:7201-1697828400-1697839200@play.landmarkhospitality.com
SUMMARY:Marc Dalio
DESCRIPTION:
URL:https://play.landmarkhospitality.com/event/marc-dalio-4/
LOCATION:Stork Club Rooftop\, 2 Chapel Ave\, Jersey City\, NJ\, 07305\, United States
CATEGORIES:Stork Club Music Lineup
END:VEVENT
BEGIN:VEVENT
DTSTART;TZID=America/New_York:20231014T190000
DTEND;TZID=America/New_York:20231014T220000
DTSTAMP:20260424T145706
CREATED:20231011T023016Z
LAST-MODIFIED:20231011T132617Z
UID:7031-1697310000-1697320800@play.landmarkhospitality.com
SUMMARY:Marc Dalio
DESCRIPTION:
URL:https://play.landmarkhospitality.com/event/marc-dalio-3/
LOCATION:Stork Club Rooftop\, 2 Chapel Ave\, Jersey City\, NJ\, 07305\, United States
CATEGORIES:Stork Club Music Lineup
END:VEVENT
BEGIN:VEVENT
DTSTART;TZID=America/New_York:20231013T190000
DTEND;TZID=America/New_York:20231013T220000
DTSTAMP:20260424T145706
CREATED:20231011T022931Z
LAST-MODIFIED:20231011T022931Z
UID:7030-1697223600-1697234400@play.landmarkhospitality.com
SUMMARY:Quintin Harris
DESCRIPTION:
URL:https://play.landmarkhospitality.com/event/quintin-harris-4/
LOCATION:Stork Club Rooftop\, 2 Chapel Ave\, Jersey City\, NJ\, 07305\, United States
CATEGORIES:Stork Club Music Lineup
END:VEVENT
BEGIN:VEVENT
DTSTART;TZID=America/New_York:20231007T190000
DTEND;TZID=America/New_York:20231007T220000
DTSTAMP:20260424T145706
CREATED:20231003T205002Z
LAST-MODIFIED:20231003T205002Z
UID:6890-1696705200-1696716000@play.landmarkhospitality.com
SUMMARY:Adrienne Moore
DESCRIPTION:
URL:https://play.landmarkhospitality.com/event/adrienne-moore-5/
LOCATION:NJ
CATEGORIES:Stork Club Music Lineup
END:VEVENT
BEGIN:VEVENT
DTSTART;TZID=America/New_York:20231006T190000
DTEND;TZID=America/New_York:20231006T220000
DTSTAMP:20260424T145706
CREATED:20231003T204919Z
LAST-MODIFIED:20231003T204919Z
UID:6889-1696618800-1696629600@play.landmarkhospitality.com
SUMMARY:Marc Dalio
DESCRIPTION:
URL:https://play.landmarkhospitality.com/event/marc-dalio-2/
LOCATION:NJ
CATEGORIES:Stork Club Music Lineup
END:VEVENT
BEGIN:VEVENT
DTSTART;TZID=America/New_York:20230930T190000
DTEND;TZID=America/New_York:20230930T220000
DTSTAMP:20260424T145706
CREATED:20230928T203848Z
LAST-MODIFIED:20230928T203848Z
UID:6762-1696100400-1696111200@play.landmarkhospitality.com
SUMMARY:Adrienne Moore
DESCRIPTION:
URL:https://play.landmarkhospitality.com/event/adrienne-moore-3/
LOCATION:NJ
CATEGORIES:Stork Club Music Lineup
END:VEVENT
BEGIN:VEVENT
DTSTART;TZID=America/New_York:20230929T190000
DTEND;TZID=America/New_York:20230929T220000
DTSTAMP:20260424T145706
CREATED:20230928T203756Z
LAST-MODIFIED:20230928T203756Z
UID:6761-1696014000-1696024800@play.landmarkhospitality.com
SUMMARY:Todd Urban
DESCRIPTION:
URL:https://play.landmarkhospitality.com/event/todd-urban/
LOCATION:NJ
CATEGORIES:Stork Club Music Lineup
END:VEVENT
BEGIN:VEVENT
DTSTART;TZID=America/New_York:20230923T190000
DTEND;TZID=America/New_York:20230923T220000
DTSTAMP:20260424T145706
CREATED:20230920T163928Z
LAST-MODIFIED:20230920T163928Z
UID:6431-1695495600-1695506400@play.landmarkhospitality.com
SUMMARY:Quintin Harris
DESCRIPTION:
URL:https://play.landmarkhospitality.com/event/quintin-harris/
LOCATION:NJ
CATEGORIES:Stork Club Music Lineup
END:VEVENT
BEGIN:VEVENT
DTSTART;TZID=America/New_York:20230916T190000
DTEND;TZID=America/New_York:20230916T220000
DTSTAMP:20260424T145706
CREATED:20230913T133545Z
LAST-MODIFIED:20230913T133545Z
UID:6238-1694890800-1694901600@play.landmarkhospitality.com
SUMMARY:Steve Meyerson
DESCRIPTION:
URL:https://play.landmarkhospitality.com/event/steve-meyerson/
LOCATION:NJ
CATEGORIES:Stork Club Music Lineup
END:VEVENT
BEGIN:VEVENT
DTSTART;TZID=America/New_York:20230915T190000
DTEND;TZID=America/New_York:20230915T220000
DTSTAMP:20260424T145706
CREATED:20230913T132902Z
LAST-MODIFIED:20230913T132902Z
UID:6236-1694804400-1694815200@play.landmarkhospitality.com
SUMMARY:Marc Dalio
DESCRIPTION:
URL:https://play.landmarkhospitality.com/event/marc-dalio/
LOCATION:NJ
CATEGORIES:Stork Club Music Lineup
END:VEVENT
END:VCALENDAR