BEGIN:VCALENDAR
VERSION:2.0
PRODID:-//Play @ Landmark Hospitality - ECPv6.7.0//NONSGML v1.0//EN
CALSCALE:GREGORIAN
METHOD:PUBLISH
X-ORIGINAL-URL:https://play.landmarkhospitality.com
X-WR-CALDESC:Events for Play @ Landmark Hospitality
REFRESH-INTERVAL;VALUE=DURATION:PT1H
X-Robots-Tag:noindex
X-PUBLISHED-TTL:PT1H
BEGIN:VTIMEZONE
TZID:America/New_York
BEGIN:DAYLIGHT
TZOFFSETFROM:-0500
TZOFFSETTO:-0400
TZNAME:EDT
DTSTART:20260308T070000
END:DAYLIGHT
BEGIN:STANDARD
TZOFFSETFROM:-0400
TZOFFSETTO:-0500
TZNAME:EST
DTSTART:20261101T060000
END:STANDARD
END:VTIMEZONE
BEGIN:VEVENT
DTSTART;TZID=America/New_York:20260305T190000
DTEND;TZID=America/New_York:20260305T210000
DTSTAMP:20260419T104307
CREATED:20260121T024007Z
LAST-MODIFIED:20260216T204308Z
UID:22809-1772737200-1772744400@play.landmarkhospitality.com
SUMMARY:A Culinary Legacy: An Evening with Chef David Drake & His Iconic Recipes
DESCRIPTION:Join us for an unforgettable evening celebrating the legacy of Chef David Drake and his timeless recipes. This 5-course dining experience will take you on a journey through his career\, showcasing the flavors and techniques that defined his culinary evolution. \nThroughout the evening\, Chef Drake will share the inspirations and stories behind each dish—each one a reflection of menus he crafted through the years. Enjoy expertly paired wines that enhance every bite\, making this a night of nostalgia\, flavor\, and culinary artistry. \nMenu \nAmuse of Smoked Salmon and Caviar\, shaved fennel \nFirst\nTuna Tartare | tatsoi salad\, pickled mango & cucumber\, herb potato chips \nSecond\nNantucket Scallops lightly poached\, herbal ocean wash \nThird\nQuail stuffed with lobster mousse\, black truffle risotto \nFourth\nPrime Aged Sirloin au poivre | haricot vert\, early peas\, potato gratin\, brandy cream sauce \nFifth\nPoached Bosc Pear | marsala sabayon\, biscotti crumble
URL:https://play.landmarkhospitality.com/event/a-culinary-legacy-an-evening-with-chef-david-drake-his-iconic-recipes-2/
LOCATION:Stone House\, 50 Stirling Road\, Warren\, NJ\, 07059\, United States
CATEGORIES:Stone House
ATTACH;FMTTYPE=image/jpeg:https://play.landmarkhospitality.com/wp-content/uploads/2025/02/shop-graphics-1536x1056-1.jpg
END:VEVENT
END:VCALENDAR