BEGIN:VCALENDAR
VERSION:2.0
PRODID:-//Play @ Landmark Hospitality - ECPv6.7.0//NONSGML v1.0//EN
CALSCALE:GREGORIAN
METHOD:PUBLISH
X-ORIGINAL-URL:https://play.landmarkhospitality.com
X-WR-CALDESC:Events for Play @ Landmark Hospitality
REFRESH-INTERVAL;VALUE=DURATION:PT1H
X-Robots-Tag:noindex
X-PUBLISHED-TTL:PT1H
BEGIN:VTIMEZONE
TZID:America/New_York
BEGIN:DAYLIGHT
TZOFFSETFROM:-0500
TZOFFSETTO:-0400
TZNAME:EDT
DTSTART:20250309T070000
END:DAYLIGHT
BEGIN:STANDARD
TZOFFSETFROM:-0400
TZOFFSETTO:-0500
TZNAME:EST
DTSTART:20251102T060000
END:STANDARD
END:VTIMEZONE
BEGIN:VEVENT
DTSTART;TZID=America/New_York:20250925T180000
DTEND;TZID=America/New_York:20250925T200000
DTSTAMP:20260423T104050
CREATED:20250827T181532Z
LAST-MODIFIED:20250910T170148Z
UID:19955-1758823200-1758830400@play.landmarkhospitality.com
SUMMARY:End of Summer Garden Party
DESCRIPTION:Grab your crew and soak up the last moments of summer at our End of Summer Garden Party! Savor a chef-crafted menu\, WhistlePig Whiskey cocktails\, and enjoy live music in our lush outdoor setting. And because no party is complete without a surprise—say hello to a pen of adorable teacup piglets\, waiting to be pet and adored! \nMENU – shared family-style\nSalad of tomatoes | burrata\, red endive\, garden herbs\, pine nuts\nFig and Prosciutto flatbread | wild arugula\, Point Reyes blue cheese\, Saba\nZa’atar Chicken | shaved cucumber and whipped feta\nCrispy Cod | charred corn\, chanterelles\, spicy peppers\, lemon\nSpiced Short Rib | couscous\, lemon-honey turnips and radishes \nSides\nMac n’ cheese\nRatatouille\nCrispy roasted marble potatoes \nDessert\nBread & Butter Bread Pudding | fresh blackberry compote \n  \n 
URL:https://play.landmarkhospitality.com/event/end-of-summer-garden-party/
LOCATION:Stone House\, 50 Stirling Road\, Warren\, NJ\, 07059\, United States
CATEGORIES:Stone House
ATTACH;FMTTYPE=image/png:https://play.landmarkhospitality.com/wp-content/uploads/2025/08/shop-graphics-5.png
END:VEVENT
END:VCALENDAR