BEGIN:VCALENDAR
VERSION:2.0
PRODID:-//Play @ Landmark Hospitality - ECPv6.7.0//NONSGML v1.0//EN
CALSCALE:GREGORIAN
METHOD:PUBLISH
X-ORIGINAL-URL:https://play.landmarkhospitality.com
X-WR-CALDESC:Events for Play @ Landmark Hospitality
REFRESH-INTERVAL;VALUE=DURATION:PT1H
X-Robots-Tag:noindex
X-PUBLISHED-TTL:PT1H
BEGIN:VTIMEZONE
TZID:America/New_York
BEGIN:DAYLIGHT
TZOFFSETFROM:-0500
TZOFFSETTO:-0400
TZNAME:EDT
DTSTART:20250309T070000
END:DAYLIGHT
BEGIN:STANDARD
TZOFFSETFROM:-0400
TZOFFSETTO:-0500
TZNAME:EST
DTSTART:20251102T060000
END:STANDARD
END:VTIMEZONE
BEGIN:VEVENT
DTSTART;TZID=America/New_York:20251115T080000
DTEND;TZID=America/New_York:20251115T153000
DTSTAMP:20260423T074038
CREATED:20250925T191023Z
LAST-MODIFIED:20251105T152810Z
UID:20407-1763193600-1763220600@play.landmarkhospitality.com
SUMMARY:Stork Club Fall Tour
DESCRIPTION:An Exclusive Driving Experience \nWe’re thrilled to invite you to the Stork Club Fall Driving Tour\, an exclusive automotive experience curated by Lake Underwood that blends the thrill of the open road with the elegance of ByLandmark’s finest venues. This two-day journey takes us through the scenic backroads of New Jersey\, New York and Pennsylvania at the height of autumn\, culminating in a seasonal lunch prepared by Executive Chef David Drake. \nParticipation & Pricing \n\nEach ticket is valid for a driver + co-pilot\nSingle drivers are limited and available by special request please contact Jeff@bylandmark.com\n\n\nEvent Schedule \nFriday\, November 14 – Drivers Social \nThe Ryland Inn | Whitehouse Station\, NJ\n7:00 PM – 9:30 PM \nEase into the weekend with an evening designed to bring our community together before the drive. Guests will enjoy cocktails\, lite bites and passed hors d’oeuvres. \nExplore partner showcases from Vintage Syndicate and Ducati\, stop by the Stork Club Table\, and participate in the Ryland Inn Store Auction\, where raffle tickets unlock chances to win select spirits and wines. \nThe evening will feature Cocktails from Belvedere\, Fords Gin\, Campari\, Aperol\,  Ritual and Whistlepig Bourbon\, paired with Kingmaker Cigars\, creating a relaxed\, elevated environment to connect with fellow drivers before the road ahead. \nSaturday\, November 15 – The Tour \nStart: The Albion Hotel | Summit\, NJ\n8:00 AM – Continental Breakfast \nBegin the morning with coffee\, pastries\, and light refreshments — the perfect start before hitting the road. Each car will receive an exclusive decal and merch bag to commemorate the journey. \nDrivers will receive a unique code to access the Rallista app\, where the full scenic route will unlock once signed in. \nRoute Highlights – Departure: 9:00 AM \n\nSkyline Drive\nSeven Lakes Drive\nBear Mountain State Park\n\nMidway Stop – 10:30 to 11:00 AM\nA scenic stop to stretch\, refresh\, and enjoy light refreshments. Group photos and camaraderie before continuing the journey. \nArrive at Stone House | Warren\, NJ – 1:30–3:30 PM \nThe tour concludes with an exclusive VIP lunch service on the Stone House Patio. \nGuests will enjoy a curated seasonal menu by Executive Chef David Drake (menu coming soon). Raffle winners from Saturday night will be announced\, followed by cocktails\, Bocce\, Cigars and relaxed camaraderie — a perfect close to an unforgettable autumn driving weekend. \nOptional: Scenic Backroad Extension \nFor those looking to extend the adventure\, an optional route continues through the backroads of NJ to New Hope\, PA\, ending with dinner at Anzu and complimentary parking at the Logan Inn. \nIf you’d like to reserve a table for dinner at the Logan Inn or Anzu Social in New Hope\, click the link below: \nMake a Reservation at Logan Inn\nMake a Reservation at Anzu Social \nOptional Hotel Stay\nFor guests wishing to stay overnight: \nAlbion Summit Hotel | Summit\, NJ\nBook Your Stay at Albion Summit Hotel \nLogan Inn | New Hope\, PA\nBook Your Stay at Logan Inn \nGiveaways \nExclusive merchandise and curated giveaways from our partners and sponsors. \nKnow Before You Go \nA “Know Before You Go” email will be sent to all registered drivers with the finalized route details\, event timeline\, partner highlights and updates \nRoute \n\nDownload the Rallista app for route.\nRoute Questions:\n\nLake: (908) 313-1445\nChris: (862) 222-0262
URL:https://play.landmarkhospitality.com/event/stork-club-fall-tour/
LOCATION:NJ
CATEGORIES:Anzu Social,Ryland Inn,Stone House,The Albion Summit
ATTACH;FMTTYPE=image/png:https://play.landmarkhospitality.com/wp-content/uploads/2025/09/shop-graphics-2.png
END:VEVENT
END:VCALENDAR