BEGIN:VCALENDAR
VERSION:2.0
PRODID:-//Play @ Landmark Hospitality - ECPv6.7.0//NONSGML v1.0//EN
CALSCALE:GREGORIAN
METHOD:PUBLISH
X-ORIGINAL-URL:https://play.landmarkhospitality.com
X-WR-CALDESC:Events for Play @ Landmark Hospitality
REFRESH-INTERVAL;VALUE=DURATION:PT1H
X-Robots-Tag:noindex
X-PUBLISHED-TTL:PT1H
BEGIN:VTIMEZONE
TZID:America/New_York
BEGIN:DAYLIGHT
TZOFFSETFROM:-0500
TZOFFSETTO:-0400
TZNAME:EDT
DTSTART:20250309T070000
END:DAYLIGHT
BEGIN:STANDARD
TZOFFSETFROM:-0400
TZOFFSETTO:-0500
TZNAME:EST
DTSTART:20251102T060000
END:STANDARD
END:VTIMEZONE
BEGIN:VEVENT
DTSTART;TZID=America/New_York:20251120T190000
DTEND;TZID=America/New_York:20251120T210000
DTSTAMP:20260424T154643
CREATED:20251031T140704Z
LAST-MODIFIED:20251107T191919Z
UID:21152-1763665200-1763672400@play.landmarkhospitality.com
SUMMARY:Fall Cocktail Class
DESCRIPTION:Shake\, stir\, and sip your way into the season! 🍂 Join us at Maddy Rose for a fall cocktail class where our mixologists will guide you through crafting three autumn-inspired drinks. End the evening fireside\, cocktail in hand\, overlooking the sparkling NYC skyline. \nOur Mixologists Picks \nApple Cider Mule\nBourbon\, Apple Cider\, lemon\, Ginger Beer\, Apple Slice\, Cinnamon Stick \n\nPumkin Pie White Russian\nVodka\, Coffee Liqueur\, Pumpkin-Spice Syrup\, nutmeg\nFall Cranberry Apple Sangria\nRed Wine\, Apple Cider\, Cranberry Juice\, Brandy\, Apple\, Fresh Cranberries\, Cinnamon Stick
URL:https://play.landmarkhospitality.com/event/fall-cocktail-class/
LOCATION:Maddy Rose Restaurant at Liberty House\, 76 Audrey Zapp Dr\, Jersey City\, NJ\, 07305\, United States
CATEGORIES:Maddy Rose Restaurant at Liberty House
ATTACH;FMTTYPE=image/png:https://play.landmarkhospitality.com/wp-content/uploads/2025/10/shop-graphics-29.png
END:VEVENT
END:VCALENDAR