BEGIN:VCALENDAR
VERSION:2.0
PRODID:-//Play @ Landmark Hospitality - ECPv6.7.0//NONSGML v1.0//EN
CALSCALE:GREGORIAN
METHOD:PUBLISH
X-WR-CALNAME:Play @ Landmark Hospitality
X-ORIGINAL-URL:https://play.landmarkhospitality.com
X-WR-CALDESC:Events for Play @ Landmark Hospitality
REFRESH-INTERVAL;VALUE=DURATION:PT1H
X-Robots-Tag:noindex
X-PUBLISHED-TTL:PT1H
BEGIN:VTIMEZONE
TZID:America/New_York
BEGIN:DAYLIGHT
TZOFFSETFROM:-0500
TZOFFSETTO:-0400
TZNAME:EDT
DTSTART:20250309T070000
END:DAYLIGHT
BEGIN:STANDARD
TZOFFSETFROM:-0400
TZOFFSETTO:-0500
TZNAME:EST
DTSTART:20251102T060000
END:STANDARD
END:VTIMEZONE
BEGIN:VEVENT
DTSTART;TZID=America/New_York:20250815T183000
DTEND;TZID=America/New_York:20250815T213000
DTSTAMP:20260423T155118
CREATED:20250813T203424Z
LAST-MODIFIED:20250813T203424Z
UID:19804-1755282600-1755293400@play.landmarkhospitality.com
SUMMARY:John Mazzarella Trio
DESCRIPTION:
URL:https://play.landmarkhospitality.com/event/john-mazzarella-trio-4/
LOCATION:Felina Steak South Orange\, 101 S Orange Ave\, South Orange\, NJ\, 07079\, United States
CATEGORIES:Felina Steak South Orange Music Lineup
END:VEVENT
BEGIN:VEVENT
DTSTART;TZID=America/New_York:20250814T180000
DTEND;TZID=America/New_York:20250814T210000
DTSTAMP:20260423T155118
CREATED:20250813T203350Z
LAST-MODIFIED:20250813T203350Z
UID:19802-1755194400-1755205200@play.landmarkhospitality.com
SUMMARY:The Burners
DESCRIPTION:
URL:https://play.landmarkhospitality.com/event/the-burners-26/
LOCATION:Felina Steak South Orange\, 101 S Orange Ave\, South Orange\, NJ\, 07079\, United States
CATEGORIES:Felina Steak South Orange Music Lineup
END:VEVENT
BEGIN:VEVENT
DTSTART;TZID=America/New_York:20250808T183000
DTEND;TZID=America/New_York:20250808T213000
DTSTAMP:20260423T155118
CREATED:20250730T150938Z
LAST-MODIFIED:20250730T150938Z
UID:19590-1754677800-1754688600@play.landmarkhospitality.com
SUMMARY:Michael Collarossi
DESCRIPTION:
URL:https://play.landmarkhospitality.com/event/michael-collarossi-6/
LOCATION:Felina Steak South Orange\, 101 S Orange Ave\, South Orange\, NJ\, 07079\, United States
CATEGORIES:Felina Steak South Orange Music Lineup
END:VEVENT
BEGIN:VEVENT
DTSTART;TZID=America/New_York:20250807T183000
DTEND;TZID=America/New_York:20250807T213000
DTSTAMP:20260423T155118
CREATED:20250730T150353Z
LAST-MODIFIED:20250730T150353Z
UID:19588-1754591400-1754602200@play.landmarkhospitality.com
SUMMARY:Matt Matheiss
DESCRIPTION:
URL:https://play.landmarkhospitality.com/event/matt-matheiss-5/
LOCATION:Felina Steak South Orange\, 101 S Orange Ave\, South Orange\, NJ\, 07079\, United States
CATEGORIES:Felina Steak South Orange Music Lineup
END:VEVENT
BEGIN:VEVENT
DTSTART;TZID=America/New_York:20250801T183000
DTEND;TZID=America/New_York:20250801T213000
DTSTAMP:20260423T155118
CREATED:20250730T145301Z
LAST-MODIFIED:20250730T145301Z
UID:19585-1754073000-1754083800@play.landmarkhospitality.com
SUMMARY:Nat Janoff Trio
DESCRIPTION:
URL:https://play.landmarkhospitality.com/event/nat-janoff-trio-2/
LOCATION:Felina Steak South Orange\, 101 S Orange Ave\, South Orange\, NJ\, 07079\, United States
CATEGORIES:Felina Steak South Orange Music Lineup
END:VEVENT
BEGIN:VEVENT
DTSTART;TZID=America/New_York:20250731T180000
DTEND;TZID=America/New_York:20250731T210000
DTSTAMP:20260423T155118
CREATED:20250730T145023Z
LAST-MODIFIED:20250730T145023Z
UID:19583-1753984800-1753995600@play.landmarkhospitality.com
SUMMARY:BD Lenz Duo
DESCRIPTION:
URL:https://play.landmarkhospitality.com/event/bd-lenz-duo-3/
LOCATION:Felina Steak South Orange\, 101 W South Orange Ave\, South Orange\, 07079\, United States
CATEGORIES:Felina Steak South Orange Music Lineup
END:VEVENT
BEGIN:VEVENT
DTSTART;TZID=America/New_York:20250718T190000
DTEND;TZID=America/New_York:20250718T220000
DTSTAMP:20260423T155118
CREATED:20250707T192238Z
LAST-MODIFIED:20250707T192349Z
UID:18935-1752865200-1752876000@play.landmarkhospitality.com
SUMMARY:Max Rogers
DESCRIPTION:
URL:https://play.landmarkhospitality.com/event/max-rogers-40/
LOCATION:Felina Steak South Orange\, 101 S Orange Ave\, South Orange\, NJ\, 07079\, United States
CATEGORIES:Felina Steak South Orange Music Lineup
END:VEVENT
BEGIN:VEVENT
DTSTART;TZID=America/New_York:20250712T183000
DTEND;TZID=America/New_York:20250712T213000
DTSTAMP:20260423T155118
CREATED:20250707T172050Z
LAST-MODIFIED:20250707T172050Z
UID:18930-1752345000-1752355800@play.landmarkhospitality.com
SUMMARY:John Lenis Duo
DESCRIPTION:
URL:https://play.landmarkhospitality.com/event/john-lenis-duo-5/
LOCATION:Felina Steak South Orange\, 101 W South Orange Ave\, South Orange\, 07079\, United States
CATEGORIES:Felina Steak South Orange Music Lineup
END:VEVENT
BEGIN:VEVENT
DTSTART;TZID=America/New_York:20250711T183000
DTEND;TZID=America/New_York:20250711T213000
DTSTAMP:20260423T155118
CREATED:20250707T171805Z
LAST-MODIFIED:20250707T171805Z
UID:18928-1752258600-1752269400@play.landmarkhospitality.com
SUMMARY:Blue Note Trio
DESCRIPTION:
URL:https://play.landmarkhospitality.com/event/blue-note-trio-2/
LOCATION:Felina Steak South Orange\, 101 W South Orange Ave\, South Orange\, 07079\, United States
CATEGORIES:Felina Steak South Orange Music Lineup
END:VEVENT
BEGIN:VEVENT
DTSTART;TZID=America/New_York:20250711T183000
DTEND;TZID=America/New_York:20250711T213000
DTSTAMP:20260423T155118
CREATED:20250707T171234Z
LAST-MODIFIED:20250707T171244Z
UID:18927-1752258600-1752269400@play.landmarkhospitality.com
SUMMARY:10 Strings 4 Hands
DESCRIPTION:
URL:https://play.landmarkhospitality.com/event/10-strings-4-hands-3/
LOCATION:Felina Steak South Orange\, 101 W South Orange Ave\, South Orange\, 07079\, United States
CATEGORIES:Felina Steak South Orange Music Lineup
END:VEVENT
BEGIN:VEVENT
DTSTART;TZID=America/New_York:20250710T180000
DTEND;TZID=America/New_York:20250710T210000
DTSTAMP:20260423T155118
CREATED:20250707T170715Z
LAST-MODIFIED:20250707T170715Z
UID:18925-1752170400-1752181200@play.landmarkhospitality.com
SUMMARY:Charlie Apicella Duo
DESCRIPTION:
URL:https://play.landmarkhospitality.com/event/charlie-apicella-duo/
LOCATION:Felina Steak South Orange\, 101 W South Orange Ave\, South Orange\, 07079\, United States
CATEGORIES:Felina Steak South Orange Music Lineup
END:VEVENT
BEGIN:VEVENT
DTSTART;TZID=America/New_York:20250523T183000
DTEND;TZID=America/New_York:20250523T213000
DTSTAMP:20260423T155118
CREATED:20250507T200936Z
LAST-MODIFIED:20250507T200936Z
UID:17697-1748025000-1748035800@play.landmarkhospitality.com
SUMMARY:Hank Machuga
DESCRIPTION:
URL:https://play.landmarkhospitality.com/event/hank-machuga-4/
LOCATION:Felina Steak South Orange\, 101 S Orange Ave\, South Orange\, NJ\, 07079\, United States
CATEGORIES:Felina Steak South Orange Music Lineup
END:VEVENT
BEGIN:VEVENT
DTSTART;TZID=America/New_York:20250522T180000
DTEND;TZID=America/New_York:20250522T210000
DTSTAMP:20260423T155118
CREATED:20250520T190616Z
LAST-MODIFIED:20250520T190616Z
UID:17993-1747936800-1747947600@play.landmarkhospitality.com
SUMMARY:Glenn & Oria
DESCRIPTION:
URL:https://play.landmarkhospitality.com/event/glenn-oria-25/
LOCATION:Felina Steak South Orange\, 101 S Orange Ave\, South Orange\, NJ\, 07079\, United States
CATEGORIES:Felina Steak South Orange Music Lineup
END:VEVENT
BEGIN:VEVENT
DTSTART;TZID=America/New_York:20250522T180000
DTEND;TZID=America/New_York:20250522T210000
DTSTAMP:20260423T155118
CREATED:20250507T200639Z
LAST-MODIFIED:20250507T200639Z
UID:17695-1747936800-1747947600@play.landmarkhospitality.com
SUMMARY:Glenn & Oria
DESCRIPTION:
URL:https://play.landmarkhospitality.com/event/glenn-oria-23/
LOCATION:Felina Steak South Orange\, 101 S Orange Ave\, South Orange\, NJ\, 07079\, United States
CATEGORIES:Felina Steak South Orange Music Lineup
END:VEVENT
BEGIN:VEVENT
DTSTART;TZID=America/New_York:20250517T183000
DTEND;TZID=America/New_York:20250517T213000
DTSTAMP:20260423T155118
CREATED:20250507T200534Z
LAST-MODIFIED:20250507T200534Z
UID:17694-1747506600-1747517400@play.landmarkhospitality.com
SUMMARY:The Rizzolution
DESCRIPTION:
URL:https://play.landmarkhospitality.com/event/the-rizzolution-3/
LOCATION:Felina Steak South Orange\, 101 S Orange Ave\, South Orange\, NJ\, 07079\, United States
CATEGORIES:Felina Steak South Orange Music Lineup
END:VEVENT
BEGIN:VEVENT
DTSTART;TZID=America/New_York:20250516T183000
DTEND;TZID=America/New_York:20250516T213000
DTSTAMP:20260423T155118
CREATED:20250507T200218Z
LAST-MODIFIED:20250507T200218Z
UID:17692-1747420200-1747431000@play.landmarkhospitality.com
SUMMARY:Bossa3
DESCRIPTION:
URL:https://play.landmarkhospitality.com/event/bossa3-5/
LOCATION:Felina Steak South Orange\, 101 S Orange Ave\, South Orange\, NJ\, 07079\, United States
CATEGORIES:Felina Steak South Orange Music Lineup
END:VEVENT
BEGIN:VEVENT
DTSTART;TZID=America/New_York:20250515T180000
DTEND;TZID=America/New_York:20250515T210000
DTSTAMP:20260423T155118
CREATED:20250507T195729Z
LAST-MODIFIED:20250507T195729Z
UID:17690-1747332000-1747342800@play.landmarkhospitality.com
SUMMARY:Matt Matheiss
DESCRIPTION:
URL:https://play.landmarkhospitality.com/event/matt-matheiss-4/
LOCATION:Felina Steak South Orange\, 101 S Orange Ave\, South Orange\, NJ\, 07079\, United States
CATEGORIES:Felina Steak South Orange Music Lineup
END:VEVENT
BEGIN:VEVENT
DTSTART;TZID=America/New_York:20250509T183000
DTEND;TZID=America/New_York:20250509T213000
DTSTAMP:20260423T155118
CREATED:20250507T195039Z
LAST-MODIFIED:20250507T195039Z
UID:17684-1746815400-1746826200@play.landmarkhospitality.com
SUMMARY:David Easton Duo
DESCRIPTION:
URL:https://play.landmarkhospitality.com/event/david-easton-duo-4/
LOCATION:Felina Steak South Orange\, 101 S Orange Ave\, South Orange\, NJ\, 07079\, United States
CATEGORIES:Felina Steak South Orange Music Lineup
END:VEVENT
BEGIN:VEVENT
DTSTART;TZID=America/New_York:20250508T180000
DTEND;TZID=America/New_York:20250508T210000
DTSTAMP:20260423T155118
CREATED:20250507T194733Z
LAST-MODIFIED:20250507T194733Z
UID:17682-1746727200-1746738000@play.landmarkhospitality.com
SUMMARY:The Burners
DESCRIPTION:
URL:https://play.landmarkhospitality.com/event/the-burners-19/
LOCATION:Felina Steak South Orange\, 101 S Orange Ave\, South Orange\, NJ\, 07079\, United States
CATEGORIES:Felina Steak South Orange Music Lineup
END:VEVENT
BEGIN:VEVENT
DTSTART;TZID=America/New_York:20250502T183000
DTEND;TZID=America/New_York:20250502T213000
DTSTAMP:20260423T155118
CREATED:20250417T152910Z
LAST-MODIFIED:20250417T153010Z
UID:17053-1746210600-1746221400@play.landmarkhospitality.com
SUMMARY:10 Strings 4 Hands
DESCRIPTION:
URL:https://play.landmarkhospitality.com/event/10-strings-4-hands/
LOCATION:Felina Steak South Orange\, 101 S Orange Ave\, South Orange\, NJ\, 07079\, United States
CATEGORIES:Felina Steak South Orange Music Lineup
END:VEVENT
BEGIN:VEVENT
DTSTART;TZID=America/New_York:20250501T180000
DTEND;TZID=America/New_York:20250501T210000
DTSTAMP:20260423T155118
CREATED:20250417T150255Z
LAST-MODIFIED:20250417T150255Z
UID:17051-1746122400-1746133200@play.landmarkhospitality.com
SUMMARY:Bill Tally
DESCRIPTION:
URL:https://play.landmarkhospitality.com/event/bill-tally-18/
LOCATION:Felina Steak South Orange\, 101 S Orange Ave\, South Orange\, NJ\, 07079\, United States
CATEGORIES:Felina Steak South Orange Music Lineup
END:VEVENT
BEGIN:VEVENT
DTSTART;TZID=America/New_York:20250426T183000
DTEND;TZID=America/New_York:20250426T213000
DTSTAMP:20260423T155118
CREATED:20250417T150121Z
LAST-MODIFIED:20250417T150121Z
UID:17050-1745692200-1745703000@play.landmarkhospitality.com
SUMMARY:John Lenis Duo
DESCRIPTION:
URL:https://play.landmarkhospitality.com/event/john-lenis-duo-4/
LOCATION:Felina Steak South Orange\, 101 S Orange Ave\, South Orange\, NJ\, 07079\, United States
CATEGORIES:Felina Steak South Orange Music Lineup
END:VEVENT
BEGIN:VEVENT
DTSTART;TZID=America/New_York:20250425T183000
DTEND;TZID=America/New_York:20250425T213000
DTSTAMP:20260423T155118
CREATED:20250417T145808Z
LAST-MODIFIED:20250417T145808Z
UID:17048-1745605800-1745616600@play.landmarkhospitality.com
SUMMARY:Michael Collarossi
DESCRIPTION:
URL:https://play.landmarkhospitality.com/event/michael-collarossi-4/
LOCATION:Felina Steak South Orange\, 101 S Orange Ave\, South Orange\, NJ\, 07079\, United States
CATEGORIES:Felina Steak South Orange Music Lineup
END:VEVENT
BEGIN:VEVENT
DTSTART;TZID=America/New_York:20250424T180000
DTEND;TZID=America/New_York:20250424T210000
DTSTAMP:20260423T155118
CREATED:20250417T145417Z
LAST-MODIFIED:20250417T145417Z
UID:17046-1745517600-1745528400@play.landmarkhospitality.com
SUMMARY:Glenn & Oria
DESCRIPTION:
URL:https://play.landmarkhospitality.com/event/glenn-oria-19/
LOCATION:Felina Steak South Orange\, 101 S Orange Ave\, South Orange\, NJ\, 07079\, United States
CATEGORIES:Felina Steak South Orange Music Lineup
END:VEVENT
BEGIN:VEVENT
DTSTART;TZID=America/New_York:20250419T183000
DTEND;TZID=America/New_York:20250419T213000
DTSTAMP:20260423T155118
CREATED:20250417T145132Z
LAST-MODIFIED:20250417T145132Z
UID:17044-1745087400-1745098200@play.landmarkhospitality.com
SUMMARY:Courtney Sappington Trio
DESCRIPTION:
URL:https://play.landmarkhospitality.com/event/courtney-sappington-trio-14/
LOCATION:Felina Steak South Orange\, 101 S Orange Ave\, South Orange\, NJ\, 07079\, United States
CATEGORIES:Felina Steak South Orange Music Lineup
END:VEVENT
BEGIN:VEVENT
DTSTART;TZID=America/New_York:20250404T183000
DTEND;TZID=America/New_York:20250404T213000
DTSTAMP:20260423T155118
CREATED:20250328T183209Z
LAST-MODIFIED:20250328T183226Z
UID:16653-1743791400-1743802200@play.landmarkhospitality.com
SUMMARY:Down to the Quick Trio (Eric Braverman)
DESCRIPTION:
URL:https://play.landmarkhospitality.com/event/down-to-the-quick-trio-eric-braverman/
LOCATION:Felina Steak South Orange\, 101 S Orange Ave\, South Orange\, NJ\, 07079\, United States
CATEGORIES:Felina Steak South Orange Music Lineup
END:VEVENT
BEGIN:VEVENT
DTSTART;TZID=America/New_York:20250329T183000
DTEND;TZID=America/New_York:20250329T213000
DTSTAMP:20260423T155118
CREATED:20250324T164749Z
LAST-MODIFIED:20250324T164749Z
UID:16577-1743273000-1743283800@play.landmarkhospitality.com
SUMMARY:The Burners
DESCRIPTION:
URL:https://play.landmarkhospitality.com/event/the-burners-18/
LOCATION:Felina Steak South Orange\, 101 S Orange Ave\, South Orange\, NJ\, 07079\, United States
CATEGORIES:Felina Steak South Orange Music Lineup
END:VEVENT
BEGIN:VEVENT
DTSTART;TZID=America/New_York:20250327T180000
DTEND;TZID=America/New_York:20250327T210000
DTSTAMP:20260423T155118
CREATED:20250324T164129Z
LAST-MODIFIED:20250324T164445Z
UID:16571-1743098400-1743109200@play.landmarkhospitality.com
SUMMARY:Down to the Quick
DESCRIPTION:
URL:https://play.landmarkhospitality.com/event/down-to-the-quick-3/
LOCATION:Felina Steak South Orange\, 101 W South Orange Ave\, South Orange\, 07079\, United States
CATEGORIES:Felina Steak South Orange Music Lineup
END:VEVENT
BEGIN:VEVENT
DTSTART;TZID=America/New_York:20250320T180000
DTEND;TZID=America/New_York:20250320T210000
DTSTAMP:20260423T155118
CREATED:20250313T174554Z
LAST-MODIFIED:20250313T174715Z
UID:16493-1742493600-1742504400@play.landmarkhospitality.com
SUMMARY:Matt Mattheiss
DESCRIPTION:
URL:https://play.landmarkhospitality.com/event/sarah-hodd-the-drive-2/
LOCATION:Felina Steak South Orange\, 101 S Orange Ave\, South Orange\, NJ\, 07079\, United States
CATEGORIES:Felina Steak South Orange Music Lineup
END:VEVENT
BEGIN:VEVENT
DTSTART;TZID=America/New_York:20250315T183000
DTEND;TZID=America/New_York:20250315T213000
DTSTAMP:20260423T155118
CREATED:20250313T174349Z
LAST-MODIFIED:20250313T174349Z
UID:16492-1742063400-1742074200@play.landmarkhospitality.com
SUMMARY:TreeOH!
DESCRIPTION:
URL:https://play.landmarkhospitality.com/event/treeoh-2/
LOCATION:Felina Steak South Orange\, 101 S Orange Ave\, South Orange\, NJ\, 07079\, United States
CATEGORIES:Felina Steak South Orange Music Lineup
END:VEVENT
END:VCALENDAR