BEGIN:VCALENDAR
VERSION:2.0
PRODID:-//Play @ Landmark Hospitality - ECPv6.7.0//NONSGML v1.0//EN
CALSCALE:GREGORIAN
METHOD:PUBLISH
X-WR-CALNAME:Play @ Landmark Hospitality
X-ORIGINAL-URL:https://play.landmarkhospitality.com
X-WR-CALDESC:Events for Play @ Landmark Hospitality
REFRESH-INTERVAL;VALUE=DURATION:PT1H
X-Robots-Tag:noindex
X-PUBLISHED-TTL:PT1H
BEGIN:VTIMEZONE
TZID:America/New_York
BEGIN:DAYLIGHT
TZOFFSETFROM:-0500
TZOFFSETTO:-0400
TZNAME:EDT
DTSTART:20250309T070000
END:DAYLIGHT
BEGIN:STANDARD
TZOFFSETFROM:-0400
TZOFFSETTO:-0500
TZNAME:EST
DTSTART:20251102T060000
END:STANDARD
END:VTIMEZONE
BEGIN:VEVENT
DTSTART;TZID=America/New_York:20251218T180000
DTEND;TZID=America/New_York:20251218T210000
DTSTAMP:20260421T073605
CREATED:20251205T021558Z
LAST-MODIFIED:20251205T021558Z
UID:22040-1766080800-1766091600@play.landmarkhospitality.com
SUMMARY:Sheldon Senek Trio
DESCRIPTION:
URL:https://play.landmarkhospitality.com/event/sheldon-senek-trio/
LOCATION:Felina Steak South Orange\, 101 S Orange Ave\, South Orange\, NJ\, 07079\, United States
CATEGORIES:Felina Steak South Orange Music Lineup
END:VEVENT
BEGIN:VEVENT
DTSTART;TZID=America/New_York:20251213T183000
DTEND;TZID=America/New_York:20251213T213000
DTSTAMP:20260421T073605
CREATED:20251205T021517Z
LAST-MODIFIED:20251205T021517Z
UID:22039-1765650600-1765661400@play.landmarkhospitality.com
SUMMARY:Kate Baker Trio
DESCRIPTION:
URL:https://play.landmarkhospitality.com/event/kate-baker-trio-25/
LOCATION:Felina Steak South Orange\, 101 S Orange Ave\, South Orange\, NJ\, 07079\, United States
CATEGORIES:Felina Steak South Orange Music Lineup
END:VEVENT
BEGIN:VEVENT
DTSTART;TZID=America/New_York:20251212T183000
DTEND;TZID=America/New_York:20251212T213000
DTSTAMP:20260421T073605
CREATED:20251205T021424Z
LAST-MODIFIED:20251205T021424Z
UID:22038-1765564200-1765575000@play.landmarkhospitality.com
SUMMARY:Springlight Jazz
DESCRIPTION:
URL:https://play.landmarkhospitality.com/event/springlight-jazz-7/
LOCATION:Felina Steak South Orange\, 101 S Orange Ave\, South Orange\, NJ\, 07079\, United States
CATEGORIES:Felina Steak South Orange Music Lineup
END:VEVENT
BEGIN:VEVENT
DTSTART;TZID=America/New_York:20251211T180000
DTEND;TZID=America/New_York:20251211T210000
DTSTAMP:20260421T073605
CREATED:20251205T021337Z
LAST-MODIFIED:20251205T021337Z
UID:22037-1765476000-1765486800@play.landmarkhospitality.com
SUMMARY:David Easton DUO
DESCRIPTION:
URL:https://play.landmarkhospitality.com/event/david-easton-duo-9/
LOCATION:Felina Steak South Orange\, 101 W South Orange Ave\, South Orange\, 07079\, United States
CATEGORIES:Felina Steak South Orange Music Lineup
END:VEVENT
BEGIN:VEVENT
DTSTART;TZID=America/New_York:20251206T183000
DTEND;TZID=America/New_York:20251206T213000
DTSTAMP:20260421T073605
CREATED:20251205T021243Z
LAST-MODIFIED:20251205T021243Z
UID:22036-1765045800-1765056600@play.landmarkhospitality.com
SUMMARY:Courtney Sappington Trio
DESCRIPTION:
URL:https://play.landmarkhospitality.com/event/courtney-sappington-trio-21/
LOCATION:Felina Steak South Orange\, 101 S Orange Ave\, South Orange\, NJ\, 07079\, United States
CATEGORIES:Felina Steak South Orange Music Lineup
END:VEVENT
BEGIN:VEVENT
DTSTART;TZID=America/New_York:20251205T180000
DTEND;TZID=America/New_York:20251205T210000
DTSTAMP:20260421T073605
CREATED:20251205T021145Z
LAST-MODIFIED:20251205T021145Z
UID:22035-1764957600-1764968400@play.landmarkhospitality.com
SUMMARY:Michael Collarossi
DESCRIPTION:
URL:https://play.landmarkhospitality.com/event/michael-collarossi-9/
LOCATION:Felina Steak South Orange\, 101 W South Orange Ave\, South Orange\, 07079\, United States
CATEGORIES:Felina Steak South Orange Music Lineup
END:VEVENT
BEGIN:VEVENT
DTSTART;TZID=America/New_York:20251122T183000
DTEND;TZID=America/New_York:20251122T213000
DTSTAMP:20260421T073605
CREATED:20251119T200036Z
LAST-MODIFIED:20251119T200036Z
UID:21605-1763836200-1763847000@play.landmarkhospitality.com
SUMMARY:Rob Tait Solo
DESCRIPTION:
URL:https://play.landmarkhospitality.com/event/rob-tait-solo/
LOCATION:Felina Steak South Orange\, 101 W South Orange Ave\, South Orange\, 07079\, United States
CATEGORIES:Felina Steak South Orange Music Lineup
END:VEVENT
BEGIN:VEVENT
DTSTART;TZID=America/New_York:20251121T183000
DTEND;TZID=America/New_York:20251121T213000
DTSTAMP:20260421T073605
CREATED:20251119T195917Z
LAST-MODIFIED:20251119T195917Z
UID:21603-1763749800-1763760600@play.landmarkhospitality.com
SUMMARY:Amy Lavere & Will Sexton
DESCRIPTION:
URL:https://play.landmarkhospitality.com/event/amy-lavere-will-sexton-3/
LOCATION:Felina Steak South Orange\, 101 S Orange Ave\, South Orange\, NJ\, 07079\, United States
CATEGORIES:Felina Steak South Orange Music Lineup
ATTACH;FMTTYPE=image/webp:https://play.landmarkhospitality.com/wp-content/uploads/2025/11/meta_eyJzcmNCdWNrZXQiOiJiemdsZmlsZXMifQ.webp
END:VEVENT
BEGIN:VEVENT
DTSTART;TZID=America/New_York:20251120T180000
DTEND;TZID=America/New_York:20251120T210000
DTSTAMP:20260421T073605
CREATED:20251119T195720Z
LAST-MODIFIED:20251119T195720Z
UID:21600-1763661600-1763672400@play.landmarkhospitality.com
SUMMARY:Max Rogers
DESCRIPTION:
URL:https://play.landmarkhospitality.com/event/max-rogers-42/
LOCATION:Felina Steak South Orange\, 101 S Orange Ave\, South Orange\, NJ\, 07079\, United States
CATEGORIES:Felina Steak South Orange Music Lineup
END:VEVENT
BEGIN:VEVENT
DTSTART;TZID=America/New_York:20251115T063000
DTEND;TZID=America/New_York:20251115T213000
DTSTAMP:20260421T073605
CREATED:20251110T160940Z
LAST-MODIFIED:20251110T160940Z
UID:21384-1763188200-1763242200@play.landmarkhospitality.com
SUMMARY:Whiskey & Sugar
DESCRIPTION:
URL:https://play.landmarkhospitality.com/event/whiskey-sugar-15/
LOCATION:Felina Steak South Orange\, 101 S Orange Ave\, South Orange\, NJ\, 07079\, United States
CATEGORIES:Felina Steak South Orange Music Lineup
END:VEVENT
BEGIN:VEVENT
DTSTART;TZID=America/New_York:20251114T183000
DTEND;TZID=America/New_York:20251114T213000
DTSTAMP:20260421T073605
CREATED:20251110T160838Z
LAST-MODIFIED:20251110T160838Z
UID:21383-1763145000-1763155800@play.landmarkhospitality.com
SUMMARY:The Burners
DESCRIPTION:
URL:https://play.landmarkhospitality.com/event/the-burners-33/
LOCATION:Felina Steak South Orange\, 101 W South Orange Ave\, South Orange\, 07079\, United States
CATEGORIES:Felina Steak South Orange Music Lineup
END:VEVENT
BEGIN:VEVENT
DTSTART;TZID=America/New_York:20251113T180000
DTEND;TZID=America/New_York:20251113T210000
DTSTAMP:20260421T073605
CREATED:20251110T160801Z
LAST-MODIFIED:20251110T160801Z
UID:21382-1763056800-1763067600@play.landmarkhospitality.com
SUMMARY:The BMA Project DUO
DESCRIPTION:
URL:https://play.landmarkhospitality.com/event/the-bma-project-duo/
LOCATION:Felina Steak South Orange\, 101 W South Orange Ave\, South Orange\, 07079\, United States
CATEGORIES:Felina Steak South Orange Music Lineup
END:VEVENT
BEGIN:VEVENT
DTSTART;TZID=America/New_York:20251107T183000
DTEND;TZID=America/New_York:20251107T213000
DTSTAMP:20260421T073605
CREATED:20251107T215804Z
LAST-MODIFIED:20251107T215836Z
UID:21359-1762540200-1762551000@play.landmarkhospitality.com
SUMMARY:David Easton Duo
DESCRIPTION:
URL:https://play.landmarkhospitality.com/event/david-easton-duo-8/
LOCATION:Felina Steak South Orange\, 101 W South Orange Ave\, South Orange\, 07079\, United States
CATEGORIES:Felina Steak South Orange Music Lineup
END:VEVENT
BEGIN:VEVENT
DTSTART;TZID=America/New_York:20251107T183000
DTEND;TZID=America/New_York:20251107T213000
DTSTAMP:20260421T073605
CREATED:20251107T215654Z
LAST-MODIFIED:20251107T220049Z
UID:21358-1762540200-1762551000@play.landmarkhospitality.com
SUMMARY:Leonieke Scheubel Trio
DESCRIPTION:
URL:https://play.landmarkhospitality.com/event/leonieke-scheubel-trio/
LOCATION:Felina Steak South Orange\, 101 W South Orange Ave\, South Orange\, 07079\, United States
CATEGORIES:Felina Steak South Orange Music Lineup
END:VEVENT
BEGIN:VEVENT
DTSTART;TZID=America/New_York:20251101T183000
DTEND;TZID=America/New_York:20251101T213000
DTSTAMP:20260421T073605
CREATED:20251027T210047Z
LAST-MODIFIED:20251030T175223Z
UID:21016-1762021800-1762032600@play.landmarkhospitality.com
SUMMARY:Chaplin-Fortunato
DESCRIPTION:
URL:https://play.landmarkhospitality.com/event/chaplin-fortunato-7/
LOCATION:Felina Steak South Orange\, 101 W South Orange Ave\, South Orange\, 07079\, United States
CATEGORIES:Felina Steak South Orange Music Lineup
END:VEVENT
BEGIN:VEVENT
DTSTART;TZID=America/New_York:20251031T183000
DTEND;TZID=America/New_York:20251031T213000
DTSTAMP:20260421T073605
CREATED:20251027T205951Z
LAST-MODIFIED:20251027T205951Z
UID:21015-1761935400-1761946200@play.landmarkhospitality.com
SUMMARY:Dean Schott Trio
DESCRIPTION:
URL:https://play.landmarkhospitality.com/event/dean-schott-trio/
LOCATION:Felina Steak South Orange\, 101 W South Orange Ave\, South Orange\, 07079\, United States
CATEGORIES:Felina Steak South Orange Music Lineup
END:VEVENT
BEGIN:VEVENT
DTSTART;TZID=America/New_York:20251030T180000
DTEND;TZID=America/New_York:20251030T210000
DTSTAMP:20260421T073605
CREATED:20251027T205804Z
LAST-MODIFIED:20251027T205804Z
UID:21014-1761847200-1761858000@play.landmarkhospitality.com
SUMMARY:Leonieke Scheuble DUO
DESCRIPTION:
URL:https://play.landmarkhospitality.com/event/leonieke-scheuble-duo-3/
LOCATION:Felina Steak South Orange\, 101 S Orange Ave\, South Orange\, NJ\, 07079\, United States
CATEGORIES:Felina Steak South Orange Music Lineup
END:VEVENT
BEGIN:VEVENT
DTSTART;TZID=America/New_York:20251025T183000
DTEND;TZID=America/New_York:20251025T213000
DTSTAMP:20260421T073605
CREATED:20251021T153305Z
LAST-MODIFIED:20251021T153305Z
UID:20890-1761417000-1761427800@play.landmarkhospitality.com
SUMMARY:10 Strings Duo (Ed Fleischman)
DESCRIPTION:
URL:https://play.landmarkhospitality.com/event/10-strings-duo-ed-fleischman/
LOCATION:Felina Steak South Orange\, 101 W South Orange Ave\, South Orange\, 07079\, United States
CATEGORIES:Felina Steak South Orange Music Lineup
END:VEVENT
BEGIN:VEVENT
DTSTART;TZID=America/New_York:20251024T183000
DTEND;TZID=America/New_York:20251024T213000
DTSTAMP:20260421T073605
CREATED:20251021T153201Z
LAST-MODIFIED:20251024T135029Z
UID:20889-1761330600-1761341400@play.landmarkhospitality.com
SUMMARY:Whiskey & Sugar
DESCRIPTION:
URL:https://play.landmarkhospitality.com/event/whiskey-sugar-matt-stone/
LOCATION:Felina Steak South Orange\, 101 W South Orange Ave\, South Orange\, 07079\, United States
CATEGORIES:Felina Steak South Orange Music Lineup
END:VEVENT
BEGIN:VEVENT
DTSTART;TZID=America/New_York:20251023T183000
DTEND;TZID=America/New_York:20251023T210000
DTSTAMP:20260421T073605
CREATED:20251021T152719Z
LAST-MODIFIED:20251021T153006Z
UID:20886-1761244200-1761253200@play.landmarkhospitality.com
SUMMARY:Courtney Sappington Duo
DESCRIPTION:
URL:https://play.landmarkhospitality.com/event/courtney-sappington-duo-25/
LOCATION:Felina Steak South Orange\, 101 W South Orange Ave\, South Orange\, 07079\, United States
CATEGORIES:Felina Steak South Orange Music Lineup
END:VEVENT
BEGIN:VEVENT
DTSTART;TZID=America/New_York:20251011T183000
DTEND;TZID=America/New_York:20251011T213000
DTSTAMP:20260421T073605
CREATED:20251006T202834Z
LAST-MODIFIED:20251006T202834Z
UID:20560-1760207400-1760218200@play.landmarkhospitality.com
SUMMARY:Hank Machuga
DESCRIPTION:
URL:https://play.landmarkhospitality.com/event/hank-machuga-7/
LOCATION:Felina Steak South Orange\, 101 S Orange Ave\, South Orange\, NJ\, 07079\, United States
CATEGORIES:Felina Steak South Orange Music Lineup
END:VEVENT
BEGIN:VEVENT
DTSTART;TZID=America/New_York:20251010T183000
DTEND;TZID=America/New_York:20251010T213000
DTSTAMP:20260421T073605
CREATED:20251006T202750Z
LAST-MODIFIED:20251006T202750Z
UID:20559-1760121000-1760131800@play.landmarkhospitality.com
SUMMARY:John Lenis Duo
DESCRIPTION:
URL:https://play.landmarkhospitality.com/event/john-lenis-duo-6/
LOCATION:Felina Steak South Orange\, 101 S Orange Ave\, South Orange\, NJ\, 07079\, United States
CATEGORIES:Felina Steak South Orange Music Lineup
END:VEVENT
BEGIN:VEVENT
DTSTART;TZID=America/New_York:20251009T180000
DTEND;TZID=America/New_York:20251009T210000
DTSTAMP:20260421T073605
CREATED:20251006T202711Z
LAST-MODIFIED:20251006T202711Z
UID:20555-1760032800-1760043600@play.landmarkhospitality.com
SUMMARY:Mike Choi
DESCRIPTION:
URL:https://play.landmarkhospitality.com/event/mike-choi-3/
LOCATION:Felina Steak South Orange\, 101 S Orange Ave\, South Orange\, NJ\, 07079\, United States
CATEGORIES:Felina Steak South Orange Music Lineup
END:VEVENT
BEGIN:VEVENT
DTSTART;TZID=America/New_York:20250913T183000
DTEND;TZID=America/New_York:20250913T213000
DTSTAMP:20260421T073605
CREATED:20250909T113603Z
LAST-MODIFIED:20250909T113603Z
UID:20167-1757788200-1757799000@play.landmarkhospitality.com
SUMMARY:Chaplin-Fortunato
DESCRIPTION:
URL:https://play.landmarkhospitality.com/event/chaplin-fortunato-6/
LOCATION:Felina Steak South Orange\, 101 S Orange Ave\, South Orange\, NJ\, 07079\, United States
CATEGORIES:Felina Steak South Orange Music Lineup
END:VEVENT
BEGIN:VEVENT
DTSTART;TZID=America/New_York:20250912T183000
DTEND;TZID=America/New_York:20250912T213000
DTSTAMP:20260421T073605
CREATED:20250909T113527Z
LAST-MODIFIED:20250909T113527Z
UID:20166-1757701800-1757712600@play.landmarkhospitality.com
SUMMARY:Nick Schueble Trio
DESCRIPTION:
URL:https://play.landmarkhospitality.com/event/nick-schueble-trio-3/
LOCATION:Felina Steak South Orange\, 101 S Orange Ave\, South Orange\, NJ\, 07079\, United States
CATEGORIES:Felina Steak South Orange Music Lineup
END:VEVENT
BEGIN:VEVENT
DTSTART;TZID=America/New_York:20250911T180000
DTEND;TZID=America/New_York:20250911T210000
DTSTAMP:20260421T073605
CREATED:20250909T113454Z
LAST-MODIFIED:20250909T113454Z
UID:20165-1757613600-1757624400@play.landmarkhospitality.com
SUMMARY:Joe Accisano Trio
DESCRIPTION:
URL:https://play.landmarkhospitality.com/event/joe-accisano-trio-2/
LOCATION:Felina Steak South Orange\, 101 S Orange Ave\, South Orange\, NJ\, 07079\, United States
CATEGORIES:Felina Steak South Orange Music Lineup
END:VEVENT
BEGIN:VEVENT
DTSTART;TZID=America/New_York:20250906T183000
DTEND;TZID=America/New_York:20250906T213000
DTSTAMP:20260421T073605
CREATED:20250903T172900Z
LAST-MODIFIED:20250903T172900Z
UID:20076-1757183400-1757194200@play.landmarkhospitality.com
SUMMARY:Michael Colarossi
DESCRIPTION:
URL:https://play.landmarkhospitality.com/event/michael-colarossi-10/
LOCATION:Felina Steak South Orange\, 101 S Orange Ave\, South Orange\, NJ\, 07079\, United States
CATEGORIES:Felina Steak South Orange Music Lineup
END:VEVENT
BEGIN:VEVENT
DTSTART;TZID=America/New_York:20250905T183000
DTEND;TZID=America/New_York:20250905T213000
DTSTAMP:20260421T073605
CREATED:20250903T172826Z
LAST-MODIFIED:20250903T172826Z
UID:20075-1757097000-1757107800@play.landmarkhospitality.com
SUMMARY:The Burners
DESCRIPTION:
URL:https://play.landmarkhospitality.com/event/the-burners-28/
LOCATION:Felina Steak South Orange\, 101 S Orange Ave\, South Orange\, NJ\, 07079\, United States
CATEGORIES:Felina Steak South Orange Music Lineup
END:VEVENT
BEGIN:VEVENT
DTSTART;TZID=America/New_York:20250904T180000
DTEND;TZID=America/New_York:20250904T210000
DTSTAMP:20260421T073605
CREATED:20250903T172756Z
LAST-MODIFIED:20250903T172756Z
UID:20074-1757008800-1757019600@play.landmarkhospitality.com
SUMMARY:Glenn & Oria
DESCRIPTION:
URL:https://play.landmarkhospitality.com/event/glenn-oria-33/
LOCATION:Felina Steak South Orange\, 101 S Orange Ave\, South Orange\, NJ\, 07079\, United States
CATEGORIES:Felina Steak South Orange Music Lineup
END:VEVENT
BEGIN:VEVENT
DTSTART;TZID=America/New_York:20250830T183000
DTEND;TZID=America/New_York:20250830T213000
DTSTAMP:20260421T073605
CREATED:20250828T194750Z
LAST-MODIFIED:20250828T194750Z
UID:19986-1756578600-1756589400@play.landmarkhospitality.com
SUMMARY:Courtney Sappington Trio
DESCRIPTION:
URL:https://play.landmarkhospitality.com/event/courtney-sappington-trio-19/
LOCATION:Felina Steak South Orange\, 101 S Orange Ave\, South Orange\, NJ\, 07079\, United States
CATEGORIES:Felina Steak South Orange Music Lineup
END:VEVENT
END:VCALENDAR