BEGIN:VCALENDAR
VERSION:2.0
PRODID:-//Play @ Landmark Hospitality - ECPv6.7.0//NONSGML v1.0//EN
CALSCALE:GREGORIAN
METHOD:PUBLISH
X-WR-CALNAME:Play @ Landmark Hospitality
X-ORIGINAL-URL:https://play.landmarkhospitality.com
X-WR-CALDESC:Events for Play @ Landmark Hospitality
REFRESH-INTERVAL;VALUE=DURATION:PT1H
X-Robots-Tag:noindex
X-PUBLISHED-TTL:PT1H
BEGIN:VTIMEZONE
TZID:America/New_York
BEGIN:DAYLIGHT
TZOFFSETFROM:-0500
TZOFFSETTO:-0400
TZNAME:EDT
DTSTART:20260308T070000
END:DAYLIGHT
BEGIN:STANDARD
TZOFFSETFROM:-0400
TZOFFSETTO:-0500
TZNAME:EST
DTSTART:20261101T060000
END:STANDARD
END:VTIMEZONE
BEGIN:VEVENT
DTSTART;TZID=America/New_York:20260314T183000
DTEND;TZID=America/New_York:20260314T213000
DTSTAMP:20260421T023415
CREATED:20260223T164807Z
LAST-MODIFIED:20260223T164807Z
UID:23407-1773513000-1773523800@play.landmarkhospitality.com
SUMMARY:Nick Scheuble Trio
DESCRIPTION:
URL:https://play.landmarkhospitality.com/event/nick-scheuble-trio-3/
LOCATION:Felina Steak South Orange\, 101 W South Orange Ave\, South Orange\, 07079\, United States
CATEGORIES:Felina Steak South Orange Music Lineup
END:VEVENT
BEGIN:VEVENT
DTSTART;TZID=America/New_York:20260313T183000
DTEND;TZID=America/New_York:20260313T213000
DTSTAMP:20260421T023415
CREATED:20260223T164236Z
LAST-MODIFIED:20260223T164236Z
UID:23403-1773426600-1773437400@play.landmarkhospitality.com
SUMMARY:The Burners
DESCRIPTION:
URL:https://play.landmarkhospitality.com/event/the-burners-45/
LOCATION:Felina Steak South Orange\, 101 W South Orange Ave\, South Orange\, 07079\, United States
CATEGORIES:Felina Steak South Orange Music Lineup
END:VEVENT
BEGIN:VEVENT
DTSTART;TZID=America/New_York:20260312T180000
DTEND;TZID=America/New_York:20260312T210000
DTSTAMP:20260421T023415
CREATED:20260223T162930Z
LAST-MODIFIED:20260223T162930Z
UID:23399-1773338400-1773349200@play.landmarkhospitality.com
SUMMARY:Courtney Sappington Duo
DESCRIPTION:
URL:https://play.landmarkhospitality.com/event/courtney-sappington-duo-31/
LOCATION:Felina Steak South Orange\, 101 W South Orange Ave\, South Orange\, 07079\, United States
CATEGORIES:Felina Steak South Orange Music Lineup
END:VEVENT
BEGIN:VEVENT
DTSTART;TZID=America/New_York:20260307T183000
DTEND;TZID=America/New_York:20260307T213000
DTSTAMP:20260421T023415
CREATED:20260223T161715Z
LAST-MODIFIED:20260223T161715Z
UID:23392-1772908200-1772919000@play.landmarkhospitality.com
SUMMARY:The Rizzolution
DESCRIPTION:
URL:https://play.landmarkhospitality.com/event/the-rizzolution-12/
LOCATION:Felina Steak South Orange\, 101 W South Orange Ave\, South Orange\, 07079\, United States
CATEGORIES:Felina Steak South Orange Music Lineup
END:VEVENT
BEGIN:VEVENT
DTSTART;TZID=America/New_York:20260306T183000
DTEND;TZID=America/New_York:20260306T223000
DTSTAMP:20260421T023415
CREATED:20260223T161020Z
LAST-MODIFIED:20260223T161020Z
UID:23387-1772821800-1772836200@play.landmarkhospitality.com
SUMMARY:Dean Schott Trio
DESCRIPTION:
URL:https://play.landmarkhospitality.com/event/dean-schott-trio-6/
LOCATION:Felina Steak South Orange\, 101 W South Orange Ave\, South Orange\, 07079\, United States
CATEGORIES:Felina Steak South Orange Music Lineup
END:VEVENT
BEGIN:VEVENT
DTSTART;TZID=America/New_York:20260305T180000
DTEND;TZID=America/New_York:20260305T210000
DTSTAMP:20260421T023415
CREATED:20260223T170621Z
LAST-MODIFIED:20260223T170621Z
UID:23413-1772733600-1772744400@play.landmarkhospitality.com
SUMMARY:Laura Hull Duo
DESCRIPTION:
URL:https://play.landmarkhospitality.com/event/laura-hull-duo-4/
LOCATION:Felina Steak South Orange\, 101 W South Orange Ave\, South Orange\, 07079\, United States
CATEGORIES:Felina Steak South Orange Music Lineup
END:VEVENT
BEGIN:VEVENT
DTSTART;TZID=America/New_York:20260228T183000
DTEND;TZID=America/New_York:20260228T213000
DTSTAMP:20260421T023415
CREATED:20260126T143545Z
LAST-MODIFIED:20260126T143545Z
UID:22928-1772303400-1772314200@play.landmarkhospitality.com
SUMMARY:David Easton Trio
DESCRIPTION:
URL:https://play.landmarkhospitality.com/event/david-easton-trio-6/
LOCATION:Felina Steak South Orange\, 101 W South Orange Ave\, South Orange\, 07079\, United States
CATEGORIES:Felina Steak South Orange Music Lineup
END:VEVENT
BEGIN:VEVENT
DTSTART;TZID=America/New_York:20260227T183000
DTEND;TZID=America/New_York:20260227T213000
DTSTAMP:20260421T023415
CREATED:20260126T142239Z
LAST-MODIFIED:20260126T142239Z
UID:22923-1772217000-1772227800@play.landmarkhospitality.com
SUMMARY:Three Left Feet
DESCRIPTION:
URL:https://play.landmarkhospitality.com/event/three-left-feet-4/
LOCATION:Felina Steak South Orange\, 101 W South Orange Ave\, South Orange\, 07079\, United States
CATEGORIES:Felina Steak South Orange Music Lineup
END:VEVENT
BEGIN:VEVENT
DTSTART;TZID=America/New_York:20260226T180000
DTEND;TZID=America/New_York:20260226T210000
DTSTAMP:20260421T023415
CREATED:20260126T141915Z
LAST-MODIFIED:20260126T141915Z
UID:22920-1772128800-1772139600@play.landmarkhospitality.com
SUMMARY:Whiskey & Sugar Trio
DESCRIPTION:
URL:https://play.landmarkhospitality.com/event/whiskey-sugar-trio-2/
LOCATION:Felina Steak South Orange\, 101 W South Orange Ave\, South Orange\, 07079\, United States
CATEGORIES:Felina Steak South Orange Music Lineup
END:VEVENT
BEGIN:VEVENT
DTSTART;TZID=America/New_York:20260221T183000
DTEND;TZID=America/New_York:20260221T213000
DTSTAMP:20260421T023415
CREATED:20260126T140746Z
LAST-MODIFIED:20260126T140746Z
UID:22912-1771698600-1771709400@play.landmarkhospitality.com
SUMMARY:Django Untrained Trio
DESCRIPTION:
URL:https://play.landmarkhospitality.com/event/django-untrained-trio/
LOCATION:Felina Steak South Orange\, 101 W South Orange Ave\, South Orange\, 07079\, United States
CATEGORIES:Felina Steak South Orange Music Lineup
END:VEVENT
BEGIN:VEVENT
DTSTART;TZID=America/New_York:20260220T183000
DTEND;TZID=America/New_York:20260220T213000
DTSTAMP:20260421T023415
CREATED:20260126T140119Z
LAST-MODIFIED:20260126T140119Z
UID:22907-1771612200-1771623000@play.landmarkhospitality.com
SUMMARY:Max Rogers
DESCRIPTION:
URL:https://play.landmarkhospitality.com/event/max-rogers-49/
LOCATION:Felina Steak South Orange\, 101 W South Orange Ave\, South Orange\, 07079\, United States
CATEGORIES:Felina Steak South Orange Music Lineup
END:VEVENT
BEGIN:VEVENT
DTSTART;TZID=America/New_York:20260219T180000
DTEND;TZID=America/New_York:20260219T210000
DTSTAMP:20260421T023415
CREATED:20260126T135542Z
LAST-MODIFIED:20260126T135542Z
UID:22903-1771524000-1771534800@play.landmarkhospitality.com
SUMMARY:Todd Cobbs Duo
DESCRIPTION:
URL:https://play.landmarkhospitality.com/event/todd-cobbs-duo-6/
LOCATION:Felina Steak South Orange\, 101 S Orange Ave\, South Orange\, NJ\, 07079\, United States
CATEGORIES:Felina Steak South Orange Music Lineup
END:VEVENT
BEGIN:VEVENT
DTSTART;TZID=America/New_York:20260214T183000
DTEND;TZID=America/New_York:20260214T213000
DTSTAMP:20260421T023415
CREATED:20260126T133912Z
LAST-MODIFIED:20260126T133912Z
UID:22894-1771093800-1771104600@play.landmarkhospitality.com
SUMMARY:Glenn & Oria
DESCRIPTION:
URL:https://play.landmarkhospitality.com/event/glenn-oria-47/
LOCATION:Felina Steak South Orange\, 101 W South Orange Ave\, South Orange\, 07079\, United States
CATEGORIES:Felina Steak South Orange Music Lineup
END:VEVENT
BEGIN:VEVENT
DTSTART;TZID=America/New_York:20260213T183000
DTEND;TZID=America/New_York:20260213T213000
DTSTAMP:20260421T023415
CREATED:20260126T133343Z
LAST-MODIFIED:20260126T133343Z
UID:22889-1771007400-1771018200@play.landmarkhospitality.com
SUMMARY:The Burners
DESCRIPTION:
URL:https://play.landmarkhospitality.com/event/the-burners-42/
LOCATION:Felina Steak South Orange\, 101 W South Orange Ave\, South Orange\, 07079\, United States
CATEGORIES:Felina Steak South Orange Music Lineup
END:VEVENT
BEGIN:VEVENT
DTSTART;TZID=America/New_York:20260212T180000
DTEND;TZID=America/New_York:20260212T210000
DTSTAMP:20260421T023415
CREATED:20260126T132758Z
LAST-MODIFIED:20260126T132758Z
UID:22885-1770919200-1770930000@play.landmarkhospitality.com
SUMMARY:John Bauers Duo
DESCRIPTION:
URL:https://play.landmarkhospitality.com/event/john-bauers-duo/
LOCATION:Felina Steak South Orange\, 101 W South Orange Ave\, South Orange\, 07079\, United States
CATEGORIES:Felina Steak South Orange Music Lineup
END:VEVENT
BEGIN:VEVENT
DTSTART;TZID=America/New_York:20260207T183000
DTEND;TZID=America/New_York:20260207T213000
DTSTAMP:20260421T023415
CREATED:20260126T131849Z
LAST-MODIFIED:20260126T131849Z
UID:22878-1770489000-1770499800@play.landmarkhospitality.com
SUMMARY:Dean Schott Trio
DESCRIPTION:
URL:https://play.landmarkhospitality.com/event/dean-schott-trio-5/
LOCATION:Felina Steak South Orange\, 101 W South Orange Ave\, South Orange\, 07079\, United States
CATEGORIES:Felina Steak South Orange Music Lineup
END:VEVENT
BEGIN:VEVENT
DTSTART;TZID=America/New_York:20260206T183000
DTEND;TZID=America/New_York:20260206T213000
DTSTAMP:20260421T023415
CREATED:20260126T130921Z
LAST-MODIFIED:20260126T130921Z
UID:22873-1770402600-1770413400@play.landmarkhospitality.com
SUMMARY:Madam Pat Duo
DESCRIPTION:
URL:https://play.landmarkhospitality.com/event/madam-pat-duo/
LOCATION:Felina Steak South Orange\, 101 W South Orange Ave\, South Orange\, 07079\, United States
CATEGORIES:Felina Steak South Orange Music Lineup
END:VEVENT
BEGIN:VEVENT
DTSTART;TZID=America/New_York:20260205T180000
DTEND;TZID=America/New_York:20260205T210000
DTSTAMP:20260421T023415
CREATED:20260126T125545Z
LAST-MODIFIED:20260126T125545Z
UID:22867-1770314400-1770325200@play.landmarkhospitality.com
SUMMARY:Down to the Quick Trio
DESCRIPTION:
URL:https://play.landmarkhospitality.com/event/down-to-the-quick-trio-2/
LOCATION:Felina Steak South Orange\, 101 W South Orange Ave\, South Orange\, 07079\, United States
CATEGORIES:Felina Steak South Orange Music Lineup
END:VEVENT
BEGIN:VEVENT
DTSTART;TZID=America/New_York:20260131T183000
DTEND;TZID=America/New_York:20260131T213000
DTSTAMP:20260421T023415
CREATED:20260102T155730Z
LAST-MODIFIED:20260102T155730Z
UID:22483-1769884200-1769895000@play.landmarkhospitality.com
SUMMARY:David Easton Trio
DESCRIPTION:
URL:https://play.landmarkhospitality.com/event/david-easton-trio-4/
LOCATION:Felina Steak South Orange\, 101 W South Orange Ave\, South Orange\, 07079\, United States
CATEGORIES:Felina Steak South Orange Music Lineup
END:VEVENT
BEGIN:VEVENT
DTSTART;TZID=America/New_York:20260130T183000
DTEND;TZID=America/New_York:20260130T213000
DTSTAMP:20260421T023415
CREATED:20260102T155114Z
LAST-MODIFIED:20260102T155114Z
UID:22479-1769797800-1769808600@play.landmarkhospitality.com
SUMMARY:Three Left Feet
DESCRIPTION:
URL:https://play.landmarkhospitality.com/event/three-left-feet-2/
LOCATION:Felina Steak South Orange\, 101 W South Orange Ave\, South Orange\, 07079\, United States
CATEGORIES:Felina Steak South Orange Music Lineup
END:VEVENT
BEGIN:VEVENT
DTSTART;TZID=America/New_York:20260129T180000
DTEND;TZID=America/New_York:20260129T210000
DTSTAMP:20260421T023415
CREATED:20260102T154601Z
LAST-MODIFIED:20260102T154601Z
UID:22475-1769709600-1769720400@play.landmarkhospitality.com
SUMMARY:Thomas Razler Duo
DESCRIPTION:
URL:https://play.landmarkhospitality.com/event/thomas-razler-duo-3/
LOCATION:Felina Steak South Orange\, 101 W South Orange Ave\, South Orange\, 07079\, United States
CATEGORIES:Felina Steak South Orange Music Lineup
END:VEVENT
BEGIN:VEVENT
DTSTART;TZID=America/New_York:20260124T183000
DTEND;TZID=America/New_York:20260124T213000
DTSTAMP:20260421T023415
CREATED:20260102T153517Z
LAST-MODIFIED:20260102T153517Z
UID:22467-1769279400-1769290200@play.landmarkhospitality.com
SUMMARY:10 Strings
DESCRIPTION:
URL:https://play.landmarkhospitality.com/event/10-strings-2/
LOCATION:Felina Steak South Orange\, 101 W South Orange Ave\, South Orange\, 07079\, United States
CATEGORIES:Felina Steak South Orange Music Lineup
END:VEVENT
BEGIN:VEVENT
DTSTART;TZID=America/New_York:20260123T183000
DTEND;TZID=America/New_York:20260123T213000
DTSTAMP:20260421T023415
CREATED:20260102T153057Z
LAST-MODIFIED:20260102T153057Z
UID:22463-1769193000-1769203800@play.landmarkhospitality.com
SUMMARY:Whiskey & Sugar
DESCRIPTION:
URL:https://play.landmarkhospitality.com/event/whiskey-sugar-16/
LOCATION:Felina Steak South Orange\, 101 W South Orange Ave\, South Orange\, 07079\, United States
CATEGORIES:Felina Steak South Orange Music Lineup
END:VEVENT
BEGIN:VEVENT
DTSTART;TZID=America/New_York:20260122T180000
DTEND;TZID=America/New_York:20260122T210000
DTSTAMP:20260421T023415
CREATED:20260102T152618Z
LAST-MODIFIED:20260102T152618Z
UID:22459-1769104800-1769115600@play.landmarkhospitality.com
SUMMARY:Glenn & Oria
DESCRIPTION:
URL:https://play.landmarkhospitality.com/event/glenn-oria-42/
LOCATION:Felina Steak South Orange\, 101 W South Orange Ave\, South Orange\, 07079\, United States
CATEGORIES:Felina Steak South Orange Music Lineup
END:VEVENT
BEGIN:VEVENT
DTSTART;TZID=America/New_York:20260117T183000
DTEND;TZID=America/New_York:20260117T213000
DTSTAMP:20260421T023415
CREATED:20260102T151509Z
LAST-MODIFIED:20260102T151509Z
UID:22448-1768674600-1768685400@play.landmarkhospitality.com
SUMMARY:Bossa3
DESCRIPTION:
URL:https://play.landmarkhospitality.com/event/bossa3-7/
LOCATION:Felina Steak South Orange\, 101 W South Orange Ave\, South Orange\, 07079\, United States
CATEGORIES:Felina Steak South Orange Music Lineup
END:VEVENT
BEGIN:VEVENT
DTSTART;TZID=America/New_York:20260116T183000
DTEND;TZID=America/New_York:20260116T213000
DTSTAMP:20260421T023415
CREATED:20260102T150714Z
LAST-MODIFIED:20260102T150714Z
UID:22444-1768588200-1768599000@play.landmarkhospitality.com
SUMMARY:Max Rogers
DESCRIPTION:
URL:https://play.landmarkhospitality.com/event/max-rogers-47/
LOCATION:Felina Steak South Orange\, 101 W South Orange Ave\, South Orange\, 07079\, United States
CATEGORIES:Felina Steak South Orange Music Lineup
END:VEVENT
BEGIN:VEVENT
DTSTART;TZID=America/New_York:20260115T180000
DTEND;TZID=America/New_York:20260115T210000
DTSTAMP:20260421T023415
CREATED:20260102T150113Z
LAST-MODIFIED:20260102T150113Z
UID:22440-1768500000-1768510800@play.landmarkhospitality.com
SUMMARY:Joe Accisano
DESCRIPTION:
URL:https://play.landmarkhospitality.com/event/joe-accisano-2/
LOCATION:Felina Steak South Orange\, 101 W South Orange Ave\, South Orange\, 07079\, United States
CATEGORIES:Felina Steak South Orange Music Lineup
END:VEVENT
BEGIN:VEVENT
DTSTART;TZID=America/New_York:20260110T183000
DTEND;TZID=America/New_York:20260110T213000
DTSTAMP:20260421T023415
CREATED:20260102T144851Z
LAST-MODIFIED:20260102T144851Z
UID:22431-1768069800-1768080600@play.landmarkhospitality.com
SUMMARY:Mosaic Groove
DESCRIPTION:
URL:https://play.landmarkhospitality.com/event/mosaic-groove-12/
LOCATION:Felina Steak South Orange\, 101 W South Orange Ave\, South Orange\, 07079\, United States
CATEGORIES:Felina Steak South Orange Music Lineup
END:VEVENT
BEGIN:VEVENT
DTSTART;TZID=America/New_York:20260109T183000
DTEND;TZID=America/New_York:20260109T213000
DTSTAMP:20260421T023415
CREATED:20260102T145136Z
LAST-MODIFIED:20260102T145136Z
UID:22433-1767983400-1767994200@play.landmarkhospitality.com
SUMMARY:Charlie Appicella Duo
DESCRIPTION:
URL:https://play.landmarkhospitality.com/event/charlie-appicella-duo/
LOCATION:Felina Steak South Orange\, 101 W South Orange Ave\, South Orange\, 07079\, United States
CATEGORIES:Felina Steak South Orange Music Lineup
END:VEVENT
BEGIN:VEVENT
DTSTART;TZID=America/New_York:20260108T180000
DTEND;TZID=America/New_York:20260108T210000
DTSTAMP:20260421T023415
CREATED:20260102T143800Z
LAST-MODIFIED:20260102T143800Z
UID:22425-1767895200-1767906000@play.landmarkhospitality.com
SUMMARY:Joe Taino Duo
DESCRIPTION:
URL:https://play.landmarkhospitality.com/event/joe-taino-duo-7/
LOCATION:Felina Steak South Orange\, 101 W South Orange Ave\, South Orange\, 07079\, United States
CATEGORIES:Felina Steak South Orange Music Lineup
END:VEVENT
END:VCALENDAR