BEGIN:VCALENDAR
VERSION:2.0
PRODID:-//Play @ Landmark Hospitality - ECPv6.7.0//NONSGML v1.0//EN
CALSCALE:GREGORIAN
METHOD:PUBLISH
X-WR-CALNAME:Play @ Landmark Hospitality
X-ORIGINAL-URL:https://play.landmarkhospitality.com
X-WR-CALDESC:Events for Play @ Landmark Hospitality
REFRESH-INTERVAL;VALUE=DURATION:PT1H
X-Robots-Tag:noindex
X-PUBLISHED-TTL:PT1H
BEGIN:VTIMEZONE
TZID:America/New_York
BEGIN:DAYLIGHT
TZOFFSETFROM:-0500
TZOFFSETTO:-0400
TZNAME:EDT
DTSTART:20260308T070000
END:DAYLIGHT
BEGIN:STANDARD
TZOFFSETFROM:-0400
TZOFFSETTO:-0500
TZNAME:EST
DTSTART:20261101T060000
END:STANDARD
END:VTIMEZONE
BEGIN:VEVENT
DTSTART;TZID=America/New_York:20260205T180000
DTEND;TZID=America/New_York:20260205T210000
DTSTAMP:20260423T152915
CREATED:20260126T125545Z
LAST-MODIFIED:20260126T125545Z
UID:22867-1770314400-1770325200@play.landmarkhospitality.com
SUMMARY:Down to the Quick Trio
DESCRIPTION:
URL:https://play.landmarkhospitality.com/event/down-to-the-quick-trio-2/
LOCATION:Felina Steak South Orange\, 101 W South Orange Ave\, South Orange\, 07079\, United States
CATEGORIES:Felina Steak South Orange Music Lineup
END:VEVENT
BEGIN:VEVENT
DTSTART;TZID=America/New_York:20260206T183000
DTEND;TZID=America/New_York:20260206T213000
DTSTAMP:20260423T152915
CREATED:20260126T130921Z
LAST-MODIFIED:20260126T130921Z
UID:22873-1770402600-1770413400@play.landmarkhospitality.com
SUMMARY:Madam Pat Duo
DESCRIPTION:
URL:https://play.landmarkhospitality.com/event/madam-pat-duo/
LOCATION:Felina Steak South Orange\, 101 W South Orange Ave\, South Orange\, 07079\, United States
CATEGORIES:Felina Steak South Orange Music Lineup
END:VEVENT
BEGIN:VEVENT
DTSTART;TZID=America/New_York:20260207T183000
DTEND;TZID=America/New_York:20260207T213000
DTSTAMP:20260423T152915
CREATED:20260126T131849Z
LAST-MODIFIED:20260126T131849Z
UID:22878-1770489000-1770499800@play.landmarkhospitality.com
SUMMARY:Dean Schott Trio
DESCRIPTION:
URL:https://play.landmarkhospitality.com/event/dean-schott-trio-5/
LOCATION:Felina Steak South Orange\, 101 W South Orange Ave\, South Orange\, 07079\, United States
CATEGORIES:Felina Steak South Orange Music Lineup
END:VEVENT
BEGIN:VEVENT
DTSTART;TZID=America/New_York:20260212T180000
DTEND;TZID=America/New_York:20260212T210000
DTSTAMP:20260423T152915
CREATED:20260126T132758Z
LAST-MODIFIED:20260126T132758Z
UID:22885-1770919200-1770930000@play.landmarkhospitality.com
SUMMARY:John Bauers Duo
DESCRIPTION:
URL:https://play.landmarkhospitality.com/event/john-bauers-duo/
LOCATION:Felina Steak South Orange\, 101 W South Orange Ave\, South Orange\, 07079\, United States
CATEGORIES:Felina Steak South Orange Music Lineup
END:VEVENT
BEGIN:VEVENT
DTSTART;TZID=America/New_York:20260213T183000
DTEND;TZID=America/New_York:20260213T213000
DTSTAMP:20260423T152915
CREATED:20260126T133343Z
LAST-MODIFIED:20260126T133343Z
UID:22889-1771007400-1771018200@play.landmarkhospitality.com
SUMMARY:The Burners
DESCRIPTION:
URL:https://play.landmarkhospitality.com/event/the-burners-42/
LOCATION:Felina Steak South Orange\, 101 W South Orange Ave\, South Orange\, 07079\, United States
CATEGORIES:Felina Steak South Orange Music Lineup
END:VEVENT
BEGIN:VEVENT
DTSTART;TZID=America/New_York:20260214T183000
DTEND;TZID=America/New_York:20260214T213000
DTSTAMP:20260423T152915
CREATED:20260126T133912Z
LAST-MODIFIED:20260126T133912Z
UID:22894-1771093800-1771104600@play.landmarkhospitality.com
SUMMARY:Glenn & Oria
DESCRIPTION:
URL:https://play.landmarkhospitality.com/event/glenn-oria-47/
LOCATION:Felina Steak South Orange\, 101 W South Orange Ave\, South Orange\, 07079\, United States
CATEGORIES:Felina Steak South Orange Music Lineup
END:VEVENT
BEGIN:VEVENT
DTSTART;TZID=America/New_York:20260219T180000
DTEND;TZID=America/New_York:20260219T210000
DTSTAMP:20260423T152915
CREATED:20260126T135542Z
LAST-MODIFIED:20260126T135542Z
UID:22903-1771524000-1771534800@play.landmarkhospitality.com
SUMMARY:Todd Cobbs Duo
DESCRIPTION:
URL:https://play.landmarkhospitality.com/event/todd-cobbs-duo-6/
LOCATION:Felina Steak South Orange\, 101 S Orange Ave\, South Orange\, NJ\, 07079\, United States
CATEGORIES:Felina Steak South Orange Music Lineup
END:VEVENT
BEGIN:VEVENT
DTSTART;TZID=America/New_York:20260220T183000
DTEND;TZID=America/New_York:20260220T213000
DTSTAMP:20260423T152915
CREATED:20260126T140119Z
LAST-MODIFIED:20260126T140119Z
UID:22907-1771612200-1771623000@play.landmarkhospitality.com
SUMMARY:Max Rogers
DESCRIPTION:
URL:https://play.landmarkhospitality.com/event/max-rogers-49/
LOCATION:Felina Steak South Orange\, 101 W South Orange Ave\, South Orange\, 07079\, United States
CATEGORIES:Felina Steak South Orange Music Lineup
END:VEVENT
BEGIN:VEVENT
DTSTART;TZID=America/New_York:20260221T183000
DTEND;TZID=America/New_York:20260221T213000
DTSTAMP:20260423T152915
CREATED:20260126T140746Z
LAST-MODIFIED:20260126T140746Z
UID:22912-1771698600-1771709400@play.landmarkhospitality.com
SUMMARY:Django Untrained Trio
DESCRIPTION:
URL:https://play.landmarkhospitality.com/event/django-untrained-trio/
LOCATION:Felina Steak South Orange\, 101 W South Orange Ave\, South Orange\, 07079\, United States
CATEGORIES:Felina Steak South Orange Music Lineup
END:VEVENT
BEGIN:VEVENT
DTSTART;TZID=America/New_York:20260226T180000
DTEND;TZID=America/New_York:20260226T210000
DTSTAMP:20260423T152915
CREATED:20260126T141915Z
LAST-MODIFIED:20260126T141915Z
UID:22920-1772128800-1772139600@play.landmarkhospitality.com
SUMMARY:Whiskey & Sugar Trio
DESCRIPTION:
URL:https://play.landmarkhospitality.com/event/whiskey-sugar-trio-2/
LOCATION:Felina Steak South Orange\, 101 W South Orange Ave\, South Orange\, 07079\, United States
CATEGORIES:Felina Steak South Orange Music Lineup
END:VEVENT
BEGIN:VEVENT
DTSTART;TZID=America/New_York:20260227T183000
DTEND;TZID=America/New_York:20260227T213000
DTSTAMP:20260423T152915
CREATED:20260126T142239Z
LAST-MODIFIED:20260126T142239Z
UID:22923-1772217000-1772227800@play.landmarkhospitality.com
SUMMARY:Three Left Feet
DESCRIPTION:
URL:https://play.landmarkhospitality.com/event/three-left-feet-4/
LOCATION:Felina Steak South Orange\, 101 W South Orange Ave\, South Orange\, 07079\, United States
CATEGORIES:Felina Steak South Orange Music Lineup
END:VEVENT
BEGIN:VEVENT
DTSTART;TZID=America/New_York:20260228T183000
DTEND;TZID=America/New_York:20260228T213000
DTSTAMP:20260423T152915
CREATED:20260126T143545Z
LAST-MODIFIED:20260126T143545Z
UID:22928-1772303400-1772314200@play.landmarkhospitality.com
SUMMARY:David Easton Trio
DESCRIPTION:
URL:https://play.landmarkhospitality.com/event/david-easton-trio-6/
LOCATION:Felina Steak South Orange\, 101 W South Orange Ave\, South Orange\, 07079\, United States
CATEGORIES:Felina Steak South Orange Music Lineup
END:VEVENT
END:VCALENDAR