BEGIN:VCALENDAR
VERSION:2.0
PRODID:-//Play @ Landmark Hospitality - ECPv6.7.0//NONSGML v1.0//EN
CALSCALE:GREGORIAN
METHOD:PUBLISH
X-WR-CALNAME:Play @ Landmark Hospitality
X-ORIGINAL-URL:https://play.landmarkhospitality.com
X-WR-CALDESC:Events for Play @ Landmark Hospitality
REFRESH-INTERVAL;VALUE=DURATION:PT1H
X-Robots-Tag:noindex
X-PUBLISHED-TTL:PT1H
BEGIN:VTIMEZONE
TZID:America/New_York
BEGIN:DAYLIGHT
TZOFFSETFROM:-0500
TZOFFSETTO:-0400
TZNAME:EDT
DTSTART:20260308T070000
END:DAYLIGHT
BEGIN:STANDARD
TZOFFSETFROM:-0400
TZOFFSETTO:-0500
TZNAME:EST
DTSTART:20261101T060000
END:STANDARD
END:VTIMEZONE
BEGIN:VEVENT
DTSTART;TZID=America/New_York:20260423T180000
DTEND;TZID=America/New_York:20260423T210000
DTSTAMP:20260423T110310
CREATED:20260407T204532Z
LAST-MODIFIED:20260407T204532Z
UID:24113-1776967200-1776978000@play.landmarkhospitality.com
SUMMARY:Joe Accisano Trio
DESCRIPTION:
URL:https://play.landmarkhospitality.com/event/joe-accisano-trio-3/
LOCATION:Felina Steak South Orange\, 101 W South Orange Ave\, South Orange\, 07079\, United States
CATEGORIES:Felina Steak South Orange Music Lineup
END:VEVENT
BEGIN:VEVENT
DTSTART;TZID=America/New_York:20260423T180000
DTEND;TZID=America/New_York:20260423T210000
DTSTAMP:20260423T110310
CREATED:20260407T204621Z
LAST-MODIFIED:20260407T204621Z
UID:24114-1776967200-1776978000@play.landmarkhospitality.com
SUMMARY:Robert Lanter Duo
DESCRIPTION:
URL:https://play.landmarkhospitality.com/event/robert-lanter-duo-6/
LOCATION:Logan Inn\, 10 W Ferry St\, New Hope\, PA\, 18938\, United States
CATEGORIES:Logan Inn Music Lineup
END:VEVENT
BEGIN:VEVENT
DTSTART;TZID=America/New_York:20260423T183000
DTEND;TZID=America/New_York:20260423T183000
DTSTAMP:20260423T110310
CREATED:20260128T143143Z
LAST-MODIFIED:20260226T184321Z
UID:22958-1776969000-1776969000@play.landmarkhospitality.com
SUMMARY:Sip & Savor: A Cakebread Wine Dinner
DESCRIPTION:Join us for a special dinner featuring Cakebread Cellars wines\, paired with a chef-curated menu that highlights seasonal ingredients\, bold flavors\, and classic Napa elegance. \n\nMenu \n\nCourse 1\nFluke Crudo .\n\nFennel\, Blood Orange\, Micro Chive \nPaired Perfectly with\nNorth Coast Sauvignon Blanc \n\n\nCourse 2\nLobster\nRisotto\, Baby Kale\, Parmesan\n\nPaired Perfectly with\nNapa Valley Chardonnay\n\nCourse 3\nHerb Roasted Porchetta\n\nPolenta\, Madeira Reduction \nPaired Perfectly with \n\nNapa Valley Merlot\n\nCourse 4\nDry-Aged Striploin\nPotato Pave\, Garlic Spinach\, Bordelaise\nPaired Perfectly with\nNapa Valley Cabernet Sauvignon\nDessert\nChefs’ selection of Petit Fours
URL:https://play.landmarkhospitality.com/event/sip-savor-a-cakebread-wine-dinner/
LOCATION:Felina Steak South Orange\, 101 W South Orange Ave\, South Orange\, 07079\, United States
CATEGORIES:Felina Steak South Orange
ATTACH;FMTTYPE=image/png:https://play.landmarkhospitality.com/wp-content/uploads/2026/01/shop-graphics-36.png
END:VEVENT
BEGIN:VEVENT
DTSTART;TZID=America/New_York:20260423T183000
DTEND;TZID=America/New_York:20260423T213000
DTSTAMP:20260423T110310
CREATED:20260407T204730Z
LAST-MODIFIED:20260407T204730Z
UID:24115-1776969000-1776979800@play.landmarkhospitality.com
SUMMARY:Joe Taino Duo
DESCRIPTION:
URL:https://play.landmarkhospitality.com/event/joe-taino-duo-8/
LOCATION:Stone House\, 50 Stirling Road\, Warren\, NJ\, 07059\, United States
CATEGORIES:Stone House Music Lineup
END:VEVENT
BEGIN:VEVENT
DTSTART;TZID=America/New_York:20260423T183000
DTEND;TZID=America/New_York:20260423T213000
DTSTAMP:20260423T110310
CREATED:20260407T204856Z
LAST-MODIFIED:20260407T204856Z
UID:24116-1776969000-1776979800@play.landmarkhospitality.com
SUMMARY:Charlie Apicella Duo
DESCRIPTION:
URL:https://play.landmarkhospitality.com/event/charlie-apicella-duo-5/
LOCATION:Maddy Rose Restaurant at Liberty House\, 76 Audrey Zapp Dr\, Jersey City\, NJ\, 07305\, United States
CATEGORIES:Maddy Rose Music Lineup
END:VEVENT
END:VCALENDAR