BEGIN:VCALENDAR
VERSION:2.0
PRODID:-//Play @ Landmark Hospitality - ECPv6.7.0//NONSGML v1.0//EN
CALSCALE:GREGORIAN
METHOD:PUBLISH
X-ORIGINAL-URL:https://play.landmarkhospitality.com
X-WR-CALDESC:Events for Play @ Landmark Hospitality
REFRESH-INTERVAL;VALUE=DURATION:PT1H
X-Robots-Tag:noindex
X-PUBLISHED-TTL:PT1H
BEGIN:VTIMEZONE
TZID:America/New_York
BEGIN:DAYLIGHT
TZOFFSETFROM:-0500
TZOFFSETTO:-0400
TZNAME:EDT
DTSTART:20260308T070000
END:DAYLIGHT
BEGIN:STANDARD
TZOFFSETFROM:-0400
TZOFFSETTO:-0500
TZNAME:EST
DTSTART:20261101T060000
END:STANDARD
END:VTIMEZONE
BEGIN:VEVENT
DTSTART;TZID=America/New_York:20260222T113000
DTEND;TZID=America/New_York:20260222T143000
DTSTAMP:20260420T075400
CREATED:20260126T141430Z
LAST-MODIFIED:20260126T141430Z
UID:22918-1771759800-1771770600@play.landmarkhospitality.com
SUMMARY:Iron City Duo
DESCRIPTION:
URL:https://play.landmarkhospitality.com/event/iron-city-duo/
LOCATION:The Albion Summit\, 570 Springfield Ave\, Summit\, NJ\, 07901\, United States
CATEGORIES:The Albion Summit Music Lineup
END:VEVENT
BEGIN:VEVENT
DTSTART;TZID=America/New_York:20260222T120000
DTEND;TZID=America/New_York:20260222T150000
DTSTAMP:20260420T075400
CREATED:20260126T141202Z
LAST-MODIFIED:20260126T141202Z
UID:22916-1771761600-1771772400@play.landmarkhospitality.com
SUMMARY:Tom Reyes Solo
DESCRIPTION:
URL:https://play.landmarkhospitality.com/event/tom-reyes-solo/
LOCATION:Stone House\, 50 Stirling Road\, Warren\, NJ\, 07059\, United States
CATEGORIES:Stone House Music Lineup
END:VEVENT
BEGIN:VEVENT
DTSTART;TZID=America/New_York:20260222T120000
DTEND;TZID=America/New_York:20260222T150000
DTSTAMP:20260420T075400
CREATED:20260126T141332Z
LAST-MODIFIED:20260126T141332Z
UID:22917-1771761600-1771772400@play.landmarkhospitality.com
SUMMARY:John Mazarella Trio
DESCRIPTION:
URL:https://play.landmarkhospitality.com/event/john-mazarella-trio/
LOCATION:Maddy Rose Restaurant at Liberty House\, 76 Audrey Zapp Dr\, Jersey City\, NJ\, 07305\, United States
CATEGORIES:Maddy Rose Music Lineup
END:VEVENT
END:VCALENDAR