BEGIN:VCALENDAR
VERSION:2.0
PRODID:-//Play @ Landmark Hospitality - ECPv6.7.0//NONSGML v1.0//EN
CALSCALE:GREGORIAN
METHOD:PUBLISH
X-ORIGINAL-URL:https://play.landmarkhospitality.com
X-WR-CALDESC:Events for Play @ Landmark Hospitality
REFRESH-INTERVAL;VALUE=DURATION:PT1H
X-Robots-Tag:noindex
X-PUBLISHED-TTL:PT1H
BEGIN:VTIMEZONE
TZID:America/New_York
BEGIN:DAYLIGHT
TZOFFSETFROM:-0500
TZOFFSETTO:-0400
TZNAME:EDT
DTSTART:20250309T070000
END:DAYLIGHT
BEGIN:STANDARD
TZOFFSETFROM:-0400
TZOFFSETTO:-0500
TZNAME:EST
DTSTART:20251102T060000
END:STANDARD
END:VTIMEZONE
BEGIN:VEVENT
DTSTART;TZID=America/New_York:20250130T180000
DTEND;TZID=America/New_York:20250130T210000
DTSTAMP:20260420T085550
CREATED:20250130T211816Z
LAST-MODIFIED:20250130T211816Z
UID:15899-1738260000-1738270800@play.landmarkhospitality.com
SUMMARY:Michael Colarossi
DESCRIPTION:
URL:https://play.landmarkhospitality.com/event/michael-colarossi-8/
LOCATION:Ryland Inn\, 115 Old Hwy 28\, Whitehouse Station\, NJ\, 08889\, United States
CATEGORIES:Ryland Inn Music Lineup
END:VEVENT
BEGIN:VEVENT
DTSTART;TZID=America/New_York:20250130T180000
DTEND;TZID=America/New_York:20250130T210000
DTSTAMP:20260420T085550
CREATED:20250131T150805Z
LAST-MODIFIED:20250131T150805Z
UID:15932-1738260000-1738270800@play.landmarkhospitality.com
SUMMARY:Mike DiEleuterio
DESCRIPTION:
URL:https://play.landmarkhospitality.com/event/mike-dieleuterio-7/
LOCATION:Logan Inn\, 10 W Ferry St\, New Hope\, PA\, 18938\, United States
CATEGORIES:Logan Inn Music Lineup
END:VEVENT
BEGIN:VEVENT
DTSTART;TZID=America/New_York:20250130T183000
DTEND;TZID=America/New_York:20250130T213000
DTSTAMP:20260420T085550
CREATED:20250130T205909Z
LAST-MODIFIED:20250130T205909Z
UID:15880-1738261800-1738272600@play.landmarkhospitality.com
SUMMARY:Nick Schueble Trio
DESCRIPTION:
URL:https://play.landmarkhospitality.com/event/nick-schueble-trio/
LOCATION:Maddy Rose Restaurant at Liberty House\, 76 Audrey Zapp Dr\, Jersey City\, NJ\, 07305\, United States
CATEGORIES:Maddy Rose Music Lineup
END:VEVENT
END:VCALENDAR