BEGIN:VCALENDAR
VERSION:2.0
PRODID:-//Play @ Landmark Hospitality - ECPv6.7.0//NONSGML v1.0//EN
CALSCALE:GREGORIAN
METHOD:PUBLISH
X-WR-CALNAME:Play @ Landmark Hospitality
X-ORIGINAL-URL:https://play.landmarkhospitality.com
X-WR-CALDESC:Events for Play @ Landmark Hospitality
REFRESH-INTERVAL;VALUE=DURATION:PT1H
X-Robots-Tag:noindex
X-PUBLISHED-TTL:PT1H
BEGIN:VTIMEZONE
TZID:America/New_York
BEGIN:DAYLIGHT
TZOFFSETFROM:-0500
TZOFFSETTO:-0400
TZNAME:EDT
DTSTART:20250309T070000
END:DAYLIGHT
BEGIN:STANDARD
TZOFFSETFROM:-0400
TZOFFSETTO:-0500
TZNAME:EST
DTSTART:20251102T060000
END:STANDARD
END:VTIMEZONE
BEGIN:VEVENT
DTSTART;TZID=America/New_York:20250111T183000
DTEND;TZID=America/New_York:20250111T213000
DTSTAMP:20260420T090857
CREATED:20250107T180520Z
LAST-MODIFIED:20250107T180520Z
UID:15519-1736620200-1736631000@play.landmarkhospitality.com
SUMMARY:Courtney Sappington Duo
DESCRIPTION:
URL:https://play.landmarkhospitality.com/event/courtney-sappington-duo-19/
LOCATION:Stone House\, 50 Stirling Road\, Warren\, NJ\, 07059\, United States
CATEGORIES:Stone House Music Lineup
END:VEVENT
BEGIN:VEVENT
DTSTART;TZID=America/New_York:20250111T190000
DTEND;TZID=America/New_York:20250111T220000
DTSTAMP:20260420T090857
CREATED:20250107T180943Z
LAST-MODIFIED:20250107T180943Z
UID:15524-1736622000-1736632800@play.landmarkhospitality.com
SUMMARY:Alan Okun Jazz Ensemble
DESCRIPTION:
URL:https://play.landmarkhospitality.com/event/alan-okun-jazz-ensemble/
LOCATION:Logan Inn\, 10 W Ferry St\, New Hope\, PA\, 18938\, United States
CATEGORIES:Logan Inn Music Lineup
END:VEVENT
BEGIN:VEVENT
DTSTART;TZID=America/New_York:20250111T190000
DTEND;TZID=America/New_York:20250111T220000
DTSTAMP:20260420T090857
CREATED:20250109T144632Z
LAST-MODIFIED:20250109T145215Z
UID:15555-1736622000-1736632800@play.landmarkhospitality.com
SUMMARY:LMA Project
DESCRIPTION:
URL:https://play.landmarkhospitality.com/event/lma-project/
LOCATION:Maddy Rose Restaurant at Liberty House\, 76 Audrey Zapp Dr\, Jersey City\, NJ\, 07305\, United States
CATEGORIES:Maddy Rose Music Lineup
END:VEVENT
END:VCALENDAR