BEGIN:VCALENDAR
VERSION:2.0
PRODID:-//Play @ Landmark Hospitality - ECPv6.7.0//NONSGML v1.0//EN
CALSCALE:GREGORIAN
METHOD:PUBLISH
X-ORIGINAL-URL:https://play.landmarkhospitality.com
X-WR-CALDESC:Events for Play @ Landmark Hospitality
REFRESH-INTERVAL;VALUE=DURATION:PT1H
X-Robots-Tag:noindex
X-PUBLISHED-TTL:PT1H
BEGIN:VTIMEZONE
TZID:America/New_York
BEGIN:DAYLIGHT
TZOFFSETFROM:-0500
TZOFFSETTO:-0400
TZNAME:EDT
DTSTART:20250309T070000
END:DAYLIGHT
BEGIN:STANDARD
TZOFFSETFROM:-0400
TZOFFSETTO:-0500
TZNAME:EST
DTSTART:20251102T060000
END:STANDARD
END:VTIMEZONE
BEGIN:VEVENT
DTSTART;TZID=America/New_York:20250110T183000
DTEND;TZID=America/New_York:20250110T213000
DTSTAMP:20260422T100535
CREATED:20250107T180431Z
LAST-MODIFIED:20250107T180431Z
UID:15518-1736533800-1736544600@play.landmarkhospitality.com
SUMMARY:Whiskey & Sugar
DESCRIPTION:
URL:https://play.landmarkhospitality.com/event/whiskey-sugar-12/
LOCATION:Stone House\, 50 Stirling Road\, Warren\, NJ\, 07059\, United States
CATEGORIES:Stone House Music Lineup
END:VEVENT
BEGIN:VEVENT
DTSTART;TZID=America/New_York:20250110T190000
DTEND;TZID=America/New_York:20250110T220000
DTSTAMP:20260422T100535
CREATED:20250107T180858Z
LAST-MODIFIED:20250107T180858Z
UID:15523-1736535600-1736546400@play.landmarkhospitality.com
SUMMARY:McMillan & Co.
DESCRIPTION:
URL:https://play.landmarkhospitality.com/event/mcmillan-co-3/
LOCATION:Logan Inn\, 10 W Ferry St\, New Hope\, PA\, 18938\, United States
CATEGORIES:Logan Inn Music Lineup
END:VEVENT
BEGIN:VEVENT
DTSTART;TZID=America/New_York:20250110T190000
DTEND;TZID=America/New_York:20250110T220000
DTSTAMP:20260422T100535
CREATED:20250109T144540Z
LAST-MODIFIED:20250109T145138Z
UID:15554-1736535600-1736546400@play.landmarkhospitality.com
SUMMARY:Joe Taino Trio
DESCRIPTION:
URL:https://play.landmarkhospitality.com/event/joe-taino-trio-3/
LOCATION:Maddy Rose Restaurant at Liberty House\, 76 Audrey Zapp Dr\, Jersey City\, NJ\, 07305\, United States
CATEGORIES:Maddy Rose Music Lineup
END:VEVENT
END:VCALENDAR