BEGIN:VCALENDAR
VERSION:2.0
PRODID:-//Play @ Landmark Hospitality - ECPv6.7.0//NONSGML v1.0//EN
CALSCALE:GREGORIAN
METHOD:PUBLISH
X-ORIGINAL-URL:https://play.landmarkhospitality.com
X-WR-CALDESC:Events for Play @ Landmark Hospitality
REFRESH-INTERVAL;VALUE=DURATION:PT1H
X-Robots-Tag:noindex
X-PUBLISHED-TTL:PT1H
BEGIN:VTIMEZONE
TZID:America/New_York
BEGIN:DAYLIGHT
TZOFFSETFROM:-0500
TZOFFSETTO:-0400
TZNAME:EDT
DTSTART:20240310T070000
END:DAYLIGHT
BEGIN:STANDARD
TZOFFSETFROM:-0400
TZOFFSETTO:-0500
TZNAME:EST
DTSTART:20241103T060000
END:STANDARD
END:VTIMEZONE
BEGIN:VEVENT
DTSTART;TZID=America/New_York:20240921T183000
DTEND;TZID=America/New_York:20240921T213000
DTSTAMP:20260419T140825
CREATED:20240912T160546Z
LAST-MODIFIED:20240912T160546Z
UID:13527-1726943400-1726954200@play.landmarkhospitality.com
SUMMARY:Next Stage
DESCRIPTION:
URL:https://play.landmarkhospitality.com/event/next-stage-2/
LOCATION:Felina Steak South Orange\, 101 S Orange Ave\, South Orange\, NJ\, 07079\, United States
CATEGORIES:Felina Steak South Orange Music Lineup
END:VEVENT
BEGIN:VEVENT
DTSTART;TZID=America/New_York:20240921T183000
DTEND;TZID=America/New_York:20240921T213000
DTSTAMP:20260419T140825
CREATED:20240912T163134Z
LAST-MODIFIED:20240919T151138Z
UID:13537-1726943400-1726954200@play.landmarkhospitality.com
SUMMARY:Bossa5
DESCRIPTION:
URL:https://play.landmarkhospitality.com/event/bossa5-4/
LOCATION:Stone House\, 50 Stirling Road\, Warren\, NJ\, 07059\, United States
CATEGORIES:Stone House Music Lineup
END:VEVENT
BEGIN:VEVENT
DTSTART;TZID=America/New_York:20240921T190000
DTEND;TZID=America/New_York:20240921T220000
DTSTAMP:20260419T140825
CREATED:20240912T171556Z
LAST-MODIFIED:20240912T171556Z
UID:13552-1726945200-1726956000@play.landmarkhospitality.com
SUMMARY:Omeed Nyman Trio
DESCRIPTION:
URL:https://play.landmarkhospitality.com/event/omeed-nyman-trio-9/
LOCATION:Logan Inn\, 10 W Ferry St\, New Hope\, PA\, 18938\, United States
CATEGORIES:Logan Inn Music Lineup
END:VEVENT
BEGIN:VEVENT
DTSTART;TZID=America/New_York:20240921T190000
DTEND;TZID=America/New_York:20240921T220000
DTSTAMP:20260419T140825
CREATED:20240912T172319Z
LAST-MODIFIED:20240912T172319Z
UID:13562-1726945200-1726956000@play.landmarkhospitality.com
SUMMARY:Sheiks Garage
DESCRIPTION:
URL:https://play.landmarkhospitality.com/event/sheiks-garage-2/
LOCATION:Maddy Rose Restaurant at Liberty House\, 76 Audrey Zapp Dr\, Jersey City\, NJ\, 07305\, United States
CATEGORIES:Maddy Rose Music Lineup
END:VEVENT
END:VCALENDAR