BEGIN:VCALENDAR
VERSION:2.0
PRODID:-//Play @ Landmark Hospitality - ECPv6.7.0//NONSGML v1.0//EN
CALSCALE:GREGORIAN
METHOD:PUBLISH
X-ORIGINAL-URL:https://play.landmarkhospitality.com
X-WR-CALDESC:Events for Play @ Landmark Hospitality
REFRESH-INTERVAL;VALUE=DURATION:PT1H
X-Robots-Tag:noindex
X-PUBLISHED-TTL:PT1H
BEGIN:VTIMEZONE
TZID:America/New_York
BEGIN:DAYLIGHT
TZOFFSETFROM:-0500
TZOFFSETTO:-0400
TZNAME:EDT
DTSTART:20240310T070000
END:DAYLIGHT
BEGIN:STANDARD
TZOFFSETFROM:-0400
TZOFFSETTO:-0500
TZNAME:EST
DTSTART:20241103T060000
END:STANDARD
END:VTIMEZONE
BEGIN:VEVENT
DTSTART;TZID=America/New_York:20240224T190000
DTEND;TZID=America/New_York:20240224T220000
DTSTAMP:20260424T072329
CREATED:20240130T024740Z
LAST-MODIFIED:20240130T024740Z
UID:9613-1708801200-1708812000@play.landmarkhospitality.com
SUMMARY:10 Strings Duo
DESCRIPTION:
URL:https://play.landmarkhospitality.com/event/10-strings-duo-24/
LOCATION:Felina Ridgewood\, 18 Prospect St\, Ridgewood\, NJ\, 07450\, United States
CATEGORIES:Felina Ridgewood Music Lineup
END:VEVENT
BEGIN:VEVENT
DTSTART;TZID=America/New_York:20240224T190000
DTEND;TZID=America/New_York:20240224T220000
DTSTAMP:20260424T072329
CREATED:20240130T150550Z
LAST-MODIFIED:20240130T150550Z
UID:9653-1708801200-1708812000@play.landmarkhospitality.com
SUMMARY:Adrienne Moore
DESCRIPTION:
URL:https://play.landmarkhospitality.com/event/adrienne-moore-18/
LOCATION:Stork Club Rooftop\, 2 Chapel Ave\, Jersey City\, NJ\, 07305\, United States
CATEGORIES:Stork Club Music Lineup
END:VEVENT
BEGIN:VEVENT
DTSTART;TZID=America/New_York:20240224T190000
DTEND;TZID=America/New_York:20240224T220000
DTSTAMP:20260424T072329
CREATED:20240220T150448Z
LAST-MODIFIED:20240220T150448Z
UID:9994-1708801200-1708812000@play.landmarkhospitality.com
SUMMARY:Uptown Grooves
DESCRIPTION:
URL:https://play.landmarkhospitality.com/event/uptown-grooves-16/
LOCATION:Maddy Rose Restaurant at Liberty House\, 76 Audrey Zapp Dr\, Jersey City\, NJ\, 07305\, United States
CATEGORIES:Maddy Rose Music Lineup
END:VEVENT
BEGIN:VEVENT
DTSTART;TZID=America/New_York:20240224T190000
DTEND;TZID=America/New_York:20240224T220000
DTSTAMP:20260424T072329
CREATED:20240220T151507Z
LAST-MODIFIED:20240220T151507Z
UID:10006-1708801200-1708812000@play.landmarkhospitality.com
SUMMARY:Blue Americana
DESCRIPTION:
URL:https://play.landmarkhospitality.com/event/blue-americana-5/
LOCATION:Felina Steak South Orange\, 101 S Orange Ave\, South Orange\, NJ\, 07079\, United States
CATEGORIES:Felina Steak South Orange Music Lineup
END:VEVENT
BEGIN:VEVENT
DTSTART;TZID=America/New_York:20240224T190000
DTEND;TZID=America/New_York:20240224T220000
DTSTAMP:20260424T072329
CREATED:20240220T151711Z
LAST-MODIFIED:20240220T151711Z
UID:10008-1708801200-1708812000@play.landmarkhospitality.com
SUMMARY:Max Rogers
DESCRIPTION:
URL:https://play.landmarkhospitality.com/event/max-rogers-10/
LOCATION:Stone House\, 50 Stirling Road\, Warren\, NJ\, 07059\, United States
CATEGORIES:Stone House Music Lineup
END:VEVENT
BEGIN:VEVENT
DTSTART;TZID=America/New_York:20240224T190000
DTEND;TZID=America/New_York:20240224T220000
DTSTAMP:20260424T072329
CREATED:20240220T153948Z
LAST-MODIFIED:20240220T153948Z
UID:10014-1708801200-1708812000@play.landmarkhospitality.com
SUMMARY:Rob Tait
DESCRIPTION:
URL:https://play.landmarkhospitality.com/event/rob-tait-7/
LOCATION:Logan Inn\, 10 W Ferry St\, New Hope\, PA\, 18938\, United States
CATEGORIES:Logan Inn Music Lineup
END:VEVENT
END:VCALENDAR