BEGIN:VCALENDAR
VERSION:2.0
PRODID:-//Play @ Landmark Hospitality - ECPv6.7.0//NONSGML v1.0//EN
CALSCALE:GREGORIAN
METHOD:PUBLISH
X-WR-CALNAME:Play @ Landmark Hospitality
X-ORIGINAL-URL:https://play.landmarkhospitality.com
X-WR-CALDESC:Events for Play @ Landmark Hospitality
REFRESH-INTERVAL;VALUE=DURATION:PT1H
X-Robots-Tag:noindex
X-PUBLISHED-TTL:PT1H
BEGIN:VTIMEZONE
TZID:America/New_York
BEGIN:DAYLIGHT
TZOFFSETFROM:-0500
TZOFFSETTO:-0400
TZNAME:EDT
DTSTART:20230312T070000
END:DAYLIGHT
BEGIN:STANDARD
TZOFFSETFROM:-0400
TZOFFSETTO:-0500
TZNAME:EST
DTSTART:20231105T060000
END:STANDARD
END:VTIMEZONE
BEGIN:VEVENT
DTSTART;TZID=America/New_York:20231130T190000
DTEND;TZID=America/New_York:20231130T210000
DTSTAMP:20260423T165633
CREATED:20231115T172743Z
LAST-MODIFIED:20231130T172511Z
UID:7754-1701370800-1701378000@play.landmarkhospitality.com
SUMMARY:Tipsy & Toasty: Holiday Cocktail Class
DESCRIPTION:’tis the season to get into the holiday spirits! Work alongside our talented mixologist and learn how to expertly craft 3 festive cocktails\, paired with a selection of lite bites and charcuterie. \nOur Mixologist’s Picks: \nReindeer’s Tail\nBourbon\, Allspice Dram\, Lime\, Rich Simple\, Bitters \nChristmas in the Tropics\nReposado Tequila\, Pineapple\, Ginger\, Cinnamon\, Bitters \nHoliday Cosmo\nVodka\, Falernum\, Triple Sec\, Cranberry\, Lime
URL:https://play.landmarkhospitality.com/event/tipsy-toasty-holiday-cocktail-class/
LOCATION:Maddy Rose Restaurant at Liberty House\, 76 Audrey Zapp Dr\, Jersey City\, NJ\, 07305\, United States
CATEGORIES:Maddy Rose Restaurant at Liberty House
ATTACH;FMTTYPE=image/jpeg:https://play.landmarkhospitality.com/wp-content/uploads/2023/11/martinis-and-mistletoe-scaled.jpg
END:VEVENT
END:VCALENDAR