BEGIN:VCALENDAR
VERSION:2.0
PRODID:-//Play @ Landmark Hospitality - ECPv6.7.0//NONSGML v1.0//EN
CALSCALE:GREGORIAN
METHOD:PUBLISH
X-WR-CALNAME:Play @ Landmark Hospitality
X-ORIGINAL-URL:https://play.landmarkhospitality.com
X-WR-CALDESC:Events for Play @ Landmark Hospitality
REFRESH-INTERVAL;VALUE=DURATION:PT1H
X-Robots-Tag:noindex
X-PUBLISHED-TTL:PT1H
BEGIN:VTIMEZONE
TZID:America/New_York
BEGIN:DAYLIGHT
TZOFFSETFROM:-0500
TZOFFSETTO:-0400
TZNAME:EDT
DTSTART:20240310T070000
END:DAYLIGHT
BEGIN:STANDARD
TZOFFSETFROM:-0400
TZOFFSETTO:-0500
TZNAME:EST
DTSTART:20241103T060000
END:STANDARD
END:VTIMEZONE
BEGIN:VEVENT
DTSTART;TZID=America/New_York:20240308T190000
DTEND;TZID=America/New_York:20240308T210000
DTSTAMP:20260424T041724
CREATED:20240110T190012Z
LAST-MODIFIED:20240312T192748Z
UID:9107-1709924400-1709931600@play.landmarkhospitality.com
SUMMARY:Stork Club Classics: Cocktail Class
DESCRIPTION:Join us up on the Stork Club Rooftop at Hudson House for a cocktail class inspired by The Stork Club Bar Book\, written in 1946. Our mixologist will teach you how to expertly craft 3 old-school cocktails with a modern twist\, paired with a variety of lite bites served throughout the class.\nOur Mixologist’s Picks: \nNiesen Buzz Bomb \nThe preferred drink of actress Gertrude Niesen\, who was a frequent patron of the Stork Club in the 40’s \nCognac\, Bénédictine\, Lemon\, Sparkling Wine \nBrown Derby \nOld Hollywood in a glass \nBourbon\, Grapefruit\, Lemon\, Honey \nAlexander the Great \nThe Forefather of the Espresso Martini \nBrandy\, Crème de Cacao\, Coffee Liqueur\, Cream
URL:https://play.landmarkhospitality.com/event/stork-club-classics-cocktail-class/
LOCATION:Felina Steak at Hudson House\, 2 Chapel Ave\, Jersey City\, 07305
CATEGORIES:Felina Steak at Hudson House,Stork Club Rooftop
ATTACH;FMTTYPE=image/jpeg:https://play.landmarkhospitality.com/wp-content/uploads/2024/01/stork-club-classics-cocktail-class-2-scaled.jpg
END:VEVENT
END:VCALENDAR