BEGIN:VCALENDAR
VERSION:2.0
PRODID:-//Play @ Landmark Hospitality - ECPv6.7.0//NONSGML v1.0//EN
CALSCALE:GREGORIAN
METHOD:PUBLISH
X-WR-CALNAME:Play @ Landmark Hospitality
X-ORIGINAL-URL:https://play.landmarkhospitality.com
X-WR-CALDESC:Events for Play @ Landmark Hospitality
REFRESH-INTERVAL;VALUE=DURATION:PT1H
X-Robots-Tag:noindex
X-PUBLISHED-TTL:PT1H
BEGIN:VTIMEZONE
TZID:America/New_York
BEGIN:DAYLIGHT
TZOFFSETFROM:-0500
TZOFFSETTO:-0400
TZNAME:EDT
DTSTART:20240310T070000
END:DAYLIGHT
BEGIN:STANDARD
TZOFFSETFROM:-0400
TZOFFSETTO:-0500
TZNAME:EST
DTSTART:20241103T060000
END:STANDARD
END:VTIMEZONE
BEGIN:VEVENT
DTSTART;TZID=America/New_York:20240502T190000
DTEND;TZID=America/New_York:20240502T210000
DTSTAMP:20260420T120721
CREATED:20240329T202607Z
LAST-MODIFIED:20240418T153904Z
UID:10669-1714676400-1714683600@play.landmarkhospitality.com
SUMMARY:Springtime Sips: Cocktail Class
DESCRIPTION:Our mixologist will teach you how to craft 3 different cocktails inspired by the flavors of Spring\, paired with a variety of lite bites.\nOur Mixologist’s Picks: \nBlood Orange Sangria \nSmokey Rum Punch \nStrawberry-Basil Martini
URL:https://play.landmarkhospitality.com/event/springtime-sips-cocktail-class/
LOCATION:Stone House\, 50 Stirling Road\, Warren\, NJ\, 07059\, United States
CATEGORIES:Stone House
ATTACH;FMTTYPE=image/jpeg:https://play.landmarkhospitality.com/wp-content/uploads/2024/03/shop-graphics-27-copy-scaled.jpg
END:VEVENT
END:VCALENDAR