BEGIN:VCALENDAR
VERSION:2.0
PRODID:-//Play @ Landmark Hospitality - ECPv6.7.0//NONSGML v1.0//EN
CALSCALE:GREGORIAN
METHOD:PUBLISH
X-WR-CALNAME:Play @ Landmark Hospitality
X-ORIGINAL-URL:https://play.landmarkhospitality.com
X-WR-CALDESC:Events for Play @ Landmark Hospitality
REFRESH-INTERVAL;VALUE=DURATION:PT1H
X-Robots-Tag:noindex
X-PUBLISHED-TTL:PT1H
BEGIN:VTIMEZONE
TZID:America/New_York
BEGIN:DAYLIGHT
TZOFFSETFROM:-0500
TZOFFSETTO:-0400
TZNAME:EDT
DTSTART:20250309T070000
END:DAYLIGHT
BEGIN:STANDARD
TZOFFSETFROM:-0400
TZOFFSETTO:-0500
TZNAME:EST
DTSTART:20251102T060000
END:STANDARD
END:VTIMEZONE
BEGIN:VEVENT
DTSTART;TZID=America/New_York:20250427T170000
DTEND;TZID=America/New_York:20250427T190000
DTSTAMP:20260423T223911
CREATED:20250327T165512Z
LAST-MODIFIED:20250423T172502Z
UID:16633-1745773200-1745780400@play.landmarkhospitality.com
SUMMARY:Patio Opening Party with Don Julio Tequila
DESCRIPTION:Patio season is here\, and we’re celebrating with Don Julio Tequila! Sip on refreshing cocktails\, enjoy tasty bites\, and soak in the sunshine with us. The perfect way to start the season! Enjoy live music\, Don Julio Towers with on-site bottle engraving\, exclusive giveaways\, and more! \nMENU \nPASSED HORS S’ OEUVRES\nMini mushroom tartlets | parmesan\nPork Belly | sweet n’ sour sauce\nArancini | chorizo\nCoconut Shrimp | spicy orange sauce\nMini Lobster Roll\nSliced Filet Mignon on crostini | onion and horseradish\nTuna Tartare on a rice cracker | wasabi aioli\nScallop wrapped in bacon | Jalapeno jam \nTACO BAR\nSteak & Fish Tacos | salsa verde\, nachos\, pico de gallo\, cilantro\, lime\, sour cream and guacamole\nPinchos\nShrimp ceviche skewers\nSpicy grilled pineapple with Tajin\nSteak skewers with chimichurri \nPASSED PIZZA\nAl Pastor | grilled onion & cilantro\, grilled pineapple\nBlack Bean & Corn Salsa | Avocado Crema\nShort Ribs | queso fresco\, cilantro\, jalapeno\, spring onion
URL:https://play.landmarkhospitality.com/event/patio-opening-party-with-don-julio-tequila/
LOCATION:Stone House\, 50 Stirling Road\, Warren\, NJ\, 07059\, United States
CATEGORIES:Stone House
ATTACH;FMTTYPE=image/png:https://play.landmarkhospitality.com/wp-content/uploads/2025/03/shop-graphics-16.png
END:VEVENT
END:VCALENDAR