BEGIN:VCALENDAR
VERSION:2.0
PRODID:-//Play @ Landmark Hospitality - ECPv6.7.0//NONSGML v1.0//EN
CALSCALE:GREGORIAN
METHOD:PUBLISH
X-WR-CALNAME:Play @ Landmark Hospitality
X-ORIGINAL-URL:https://play.landmarkhospitality.com
X-WR-CALDESC:Events for Play @ Landmark Hospitality
REFRESH-INTERVAL;VALUE=DURATION:PT1H
X-Robots-Tag:noindex
X-PUBLISHED-TTL:PT1H
BEGIN:VTIMEZONE
TZID:America/New_York
BEGIN:DAYLIGHT
TZOFFSETFROM:-0500
TZOFFSETTO:-0400
TZNAME:EDT
DTSTART:20230312T070000
END:DAYLIGHT
BEGIN:STANDARD
TZOFFSETFROM:-0400
TZOFFSETTO:-0500
TZNAME:EST
DTSTART:20231105T060000
END:STANDARD
END:VTIMEZONE
BEGIN:VEVENT
DTSTART;TZID=America/New_York:20231216T120000
DTEND;TZID=America/New_York:20231216T140000
DTSTAMP:20260423T144525
CREATED:20231101T145740Z
LAST-MODIFIED:20231213T171247Z
UID:7427-1702728000-1702735200@play.landmarkhospitality.com
SUMMARY:Kids Holiday Cookie Decorating Workshop at Felina Ridgewood
DESCRIPTION:Join us at Felina Ridgewood for our Kids Holiday Cookie Decorating Workshop! Let their imagination run wild with a variety of festive toppings to use on top of our fresh-baked sugar cookies. Each ticket provides 1 cookie kit (6 cookies per kit)\, pizza and juice per child.\nAnd of course we didn’t forget about the adults… We’ll be serving wine and charcuterie throughout the duration of the class.\n*Each child must be accompanied by an adult*
URL:https://play.landmarkhospitality.com/event/kids-holiday-cookie-decorating-workshop-felina-ridgewood/
LOCATION:Felina Ridgewood\, 18 Prospect St\, Ridgewood\, NJ\, 07450\, United States
CATEGORIES:Felina Ridgewood
ATTACH;FMTTYPE=image/jpeg:https://play.landmarkhospitality.com/wp-content/uploads/2023/11/MG_1518-copy.jpg
END:VEVENT
END:VCALENDAR