BEGIN:VCALENDAR
VERSION:2.0
PRODID:-//Play @ Landmark Hospitality - ECPv6.7.0//NONSGML v1.0//EN
CALSCALE:GREGORIAN
METHOD:PUBLISH
X-WR-CALNAME:Play @ Landmark Hospitality
X-ORIGINAL-URL:https://play.landmarkhospitality.com
X-WR-CALDESC:Events for Play @ Landmark Hospitality
REFRESH-INTERVAL;VALUE=DURATION:PT1H
X-Robots-Tag:noindex
X-PUBLISHED-TTL:PT1H
BEGIN:VTIMEZONE
TZID:America/New_York
BEGIN:DAYLIGHT
TZOFFSETFROM:-0500
TZOFFSETTO:-0400
TZNAME:EDT
DTSTART:20260308T070000
END:DAYLIGHT
BEGIN:STANDARD
TZOFFSETFROM:-0400
TZOFFSETTO:-0500
TZNAME:EST
DTSTART:20261101T060000
END:STANDARD
END:VTIMEZONE
BEGIN:VEVENT
DTSTART;TZID=America/New_York:20260313T190000
DTEND;TZID=America/New_York:20260313T190000
DTSTAMP:20260419T092820
CREATED:20260220T162321Z
LAST-MODIFIED:20260305T171412Z
UID:23332-1773428400-1773428400@play.landmarkhospitality.com
SUMMARY:Early Late Nite Show hosted by Paul Costabile
DESCRIPTION:From Emmy Award–winning host\, comedian\, and New Jersey native Paul Costabile comes a fresh spin on the classic variety show with all the old-school charm of vintage late night without any cliche. He’s bringing top comedians\, along with his co-host Sal “The Voice” Valentinetti who famously won a Golden Buzzer from Heidi Klum on America’s Got Talent. Backed by his live jazz band\, Valentinetti delivers timeless standards and big-band energy that elevate the evening beyond traditional comedy and into full theatrical spectacle. \nOn March 13\, Paul Costabile brings his signature wit\, polished hosting style\, and quick improvisational energy to the theater at The Albion in Summit\, NJ for a live\, theatrical variety experience that blends comedy\, music\, interviews\, characters\, and surprise guests into one night of entertainment. Guests will be announced soon\, and in the past have included Jeremy Piven\, Kevin Nealon\, Tom Arnold\, Caroline Rhea\, Mark Normand\, Paul Virzi\, and many more. \nA seasoned television host known for his sharp comedic timing and effortless audience connection\, Paul Costabile anchors the evening as host and ringmaster\, guiding the show with a mix of stand-up\, spontaneous interaction\, and cleverly structured segments that feel both nostalgic and refreshingly modern. \nInspired by classic variety and late-night formats\, the show blends: \n● Stand-up comedy from Paul Costabile \n● Live musical performances from Sal “The Voice” Valentinetti and band \n● On-stage interviews and conversational segments \n● Original characters and comedic bits \n● Surprise guests and special appearances \nWith Paul Costabile at the helm\, the night promises smart comedy\, musical excellence\, spontaneity\, and that rare mix of polish and unpredictability that makes live theater electric. \nWith: \nPaul Costabile\, Sal Valentinetti\, Eric D’Alessandro\, Anna Roisman\, Ginger Winn\, Kathrine Narducci\, The Maestro\, Nicky Smigs and more.\nTicket Options \n$50 General Admission\nThe show\, theatre seating\, and full access to the cash bar. \n$75 VIP Wine Ticket\nPriority front of stage table seating plus one bottle of Hot Blood Red or White wine for your table. \nLimited VIP seating available. \n*Doors open 7 PM\, show begins 8 PM* \n 
URL:https://play.landmarkhospitality.com/event/early-late-nite-show-with-paul-costabile/
LOCATION:The Albion Summit\, 570 Springfield Ave\, Summit\, NJ\, 07901\, United States
CATEGORIES:The Albion Summit
ATTACH;FMTTYPE=image/png:https://play.landmarkhospitality.com/wp-content/uploads/2026/02/Banners-Daniela-3.png
END:VEVENT
END:VCALENDAR