BEGIN:VCALENDAR
VERSION:2.0
PRODID:-//Play @ Landmark Hospitality - ECPv6.7.0//NONSGML v1.0//EN
CALSCALE:GREGORIAN
METHOD:PUBLISH
X-WR-CALNAME:Play @ Landmark Hospitality
X-ORIGINAL-URL:https://play.landmarkhospitality.com
X-WR-CALDESC:Events for Play @ Landmark Hospitality
REFRESH-INTERVAL;VALUE=DURATION:PT1H
X-Robots-Tag:noindex
X-PUBLISHED-TTL:PT1H
BEGIN:VTIMEZONE
TZID:America/New_York
BEGIN:DAYLIGHT
TZOFFSETFROM:-0500
TZOFFSETTO:-0400
TZNAME:EDT
DTSTART:20250309T070000
END:DAYLIGHT
BEGIN:STANDARD
TZOFFSETFROM:-0400
TZOFFSETTO:-0500
TZNAME:EST
DTSTART:20251102T060000
END:STANDARD
END:VTIMEZONE
BEGIN:VEVENT
DTSTART;TZID=America/New_York:20250610T190000
DTEND;TZID=America/New_York:20250610T210000
DTSTAMP:20260424T091940
CREATED:20250403T154415Z
LAST-MODIFIED:20250403T165413Z
UID:16763-1749582000-1749589200@play.landmarkhospitality.com
SUMMARY:DIY Flower Watercolor Workshop with Kanibal & Co.
DESCRIPTION:Join us on June 10th from 7-9pm for a floral watercolor workshop with Kanibal & Co! Learn to create beautiful floral paintings with artist Chelsea Leifken\, and enjoy wine and pizza throughout the evening.
URL:https://play.landmarkhospitality.com/event/diy-flower-watercolor-workshop-with-kanibal-co/
LOCATION:The Albion Summit\, 570 Springfield Ave\, Summit\, NJ\, 07901\, United States
CATEGORIES:The Albion Summit
ATTACH;FMTTYPE=image/png:https://play.landmarkhospitality.com/wp-content/uploads/2025/04/Screenshot-2025-04-03-at-12.52.51 PM.png
END:VEVENT
END:VCALENDAR