BEGIN:VCALENDAR
VERSION:2.0
PRODID:-//Play @ Landmark Hospitality - ECPv6.7.0//NONSGML v1.0//EN
CALSCALE:GREGORIAN
METHOD:PUBLISH
X-WR-CALNAME:Play @ Landmark Hospitality
X-ORIGINAL-URL:https://play.landmarkhospitality.com
X-WR-CALDESC:Events for Play @ Landmark Hospitality
REFRESH-INTERVAL;VALUE=DURATION:PT1H
X-Robots-Tag:noindex
X-PUBLISHED-TTL:PT1H
BEGIN:VTIMEZONE
TZID:America/New_York
BEGIN:DAYLIGHT
TZOFFSETFROM:-0500
TZOFFSETTO:-0400
TZNAME:EDT
DTSTART:20240310T070000
END:DAYLIGHT
BEGIN:STANDARD
TZOFFSETFROM:-0400
TZOFFSETTO:-0500
TZNAME:EST
DTSTART:20241103T060000
END:STANDARD
END:VTIMEZONE
BEGIN:VEVENT
DTSTART;TZID=America/New_York:20240328T183000
DTEND;TZID=America/New_York:20240328T183000
DTSTAMP:20260423T203346
CREATED:20240301T172730Z
LAST-MODIFIED:20240328T205917Z
UID:10240-1711650600-1711650600@play.landmarkhospitality.com
SUMMARY:3/28: Spring Dinner Series with Chef Anthony Bucco\, featuring Piro Olive Oil & Bonini Vinegar
DESCRIPTION:Join us at the Ryland Inn for night two of our Spring Dinner Series with Chef Anthony Bucco. We’ll be welcoming our friend\, Marie Charlotte\, proprietor of Piro Olive Oil and Bonini Vinegar\, as Chef Bucco expertly crafts each course using a specific aged balsamic vinegar\, along with the floral forward EVOO.\n1st Course \nFluke Crudo – 8yr\n‘Nduja Vinaigrette\, Grapes\, Radish \nDomaine Pichot\, Vouvray\, 2022 \n– \n2nd Course \nCreste de Gallo – 3yr/18yr\nMorels\, Ramps\, Aged Pecorino \nKen Wright Cellars\, Pinot Noir\, Willamette Valley\, 2022 \n– \nEntree \nVeal Osso Bucco– 25yr\nGremolata\, Spring Onion\, Baby Turnips \nMichele Chiarlo\, ‘Il Principe\, Nebbiolo\, Langhe\, 2021 \n– \nDessert \nStrawberries – 50yr\nVanilla Ice Cream  \nCeretto\, ‘I Vignaioli Di Santo Stefano’\, Moscato d’Asti\, 2022 \n\nMeet the Chef…\n \nChef Anthony Bucco is a leading industry figure in the vibrant New Jersey restaurant scene\, with an illustrious career that spans several decades. In his current role as the Senior Vice President of Culinary Operations at Landmark Hospitality\, Chef Bucco oversees Landmark’s widespread portfolio of seven restaurants\, and serves as a mentor to numerous budding talents across the company and state. \nThroughout his culinary journey\, Chef Bucco has received widespread acclaim\, including a coveted 4-star rating from the Star-Ledger\, as well as the highest rating (Excellent) from The New York Times and AAA’s prestigious Four Diamond Award. Chef Bucco’s leadership in renowned establishments such as Landmark Hospitality’s The Ryland Inn and Felina has left an indelible mark on the New Jersey restaurant landscape. Beyond his professional achievements\, Anthony Bucco is known for his philanthropic spirit\, supporting various charitable causes including advocating for small-family farmers\, improving school lunch programs\, combating hunger\, and nurturing culinary education.
URL:https://play.landmarkhospitality.com/event/3-28-spring-dinner-series-with-chef-anthony-bucco-featuring-piro-olive-oil-bonini-vinegar/
LOCATION:Ryland Inn\, 115 Old Hwy 28\, Whitehouse Station\, NJ\, 08889\, United States
CATEGORIES:Ryland Inn
ATTACH;FMTTYPE=image/jpeg:https://play.landmarkhospitality.com/wp-content/uploads/2024/03/12-copy-scaled.jpg
END:VEVENT
END:VCALENDAR